BEGIN:VCALENDAR
VERSION:2.0
PRODID:-//ARTNOIR//NONSGML Events//EN
CALSCALE:GREGORIAN
X-ORIGINAL-URL:https://artnoir.ch/events/event/
X-WR-CALDESC:ARTNOIR - Events
BEGIN:VEVENT
UID:20260305T0645Z-1772693159.517-EO-260734-1@10.0.9.48
STATUS:CONFIRMED
DTSTAMP:20260424T010734Z
CREATED:20260222T122833Z
LAST-MODIFIED:20260222T122833Z
DTSTART;TZID=Europe/Zurich:20260714T183000
DTEND;TZID=Europe/Zurich:20260714T220000
SUMMARY: ZZ Top
DESCRIPTION: ZZ Top\nDie legendären ZZ Top kündigen Shows in Europa an. Die
  zelebrierte «Little Ol’ Band From Texas» macht am 14. Juli in The Hall in 
 Zürich Halt.\nZum ersten Mal seit zwei Jahren begibt sich ZZ Top auf Europa
 tournee. Die berühmte «Little Ol’ Band From Texas» wird im Laufe von fünf W
 ochen 23 Konzerte in 13 Ländern geben\, beginnend im nächsten Sommer in Tar
 tu\, Estland. Danach führt es das legendäre Trio – Billy F Gibbons\, ... [R
 ead more...]
X-ALT-DESC;FMTTYPE=text/html: <p><a href="https://www.zztop.com/" rel="noop
 ener" target="_blank">ZZ Top</a></p><p>Die legendären ZZ Top kündigen Shows
  in Europa an. Die zelebrierte «Little Ol’ Band From Texas» macht am 14. Ju
 li in The Hall in Zürich Halt.</p><p>Zum ersten Mal seit zwei Jahren begibt
  sich ZZ Top auf Europatournee. Die berühmte «Little Ol’ Band From Texas» w
 ird im Laufe von fünf Wochen 23 Konzerte in 13 Ländern geben\, beginnend im
  nächsten Sommer in Tartu\, Estland. Danach führt es das legendäre Trio – B
 illy F Gibbons\, Elwood Francis und Frank Beard – zu Zuschauern in Finnland
 \, Schweden\, Norwegen\, Deutschland\, Tschechien\, Österreich\, Belgien\, 
 Luxemburg\, den Niederlanden\, der Schweiz und Frankreich\, bevor die Tour 
 Mitte bis Ende Juli mit mehreren Konzerten in Spanien endet.</p>
CATEGORIES:Rock
LOCATION:The Hall
GEO:47.396025;8.597894
ORGANIZER;CN="JHG Shark":MAILTO:webmaster@jhgshark.ch
URL;VALUE=URI:https://artnoir.ch/events/event/zz-top-2026-07-14/
ATTACH;FMTTYPE=image/jpeg:https://artnoir.ch/wp-content/uploads/2026/02/zz-top-2026-07-14.jpg
END:VEVENT
BEGIN:VTIMEZONE
TZID:Europe/Zurich
BEGIN:DAYLIGHT
TZOFFSETFROM:+0100
TZOFFSETTO:+0200
DTSTART:20260329T010000
TZNAME:CEST
END:DAYLIGHT
END:VTIMEZONE
END:VCALENDAR
