BEGIN:VCALENDAR
VERSION:2.0
PRODID:-//ARTNOIR//NONSGML Events//EN
CALSCALE:GREGORIAN
X-ORIGINAL-URL:https://artnoir.ch/events/event/
X-WR-CALDESC:ARTNOIR - Events
BEGIN:VEVENT
UID:20260403T0807Z-1775203624.5737-EO-262183-1@10.0.9.48
STATUS:CONFIRMED
DTSTAMP:20260424T010513Z
CREATED:20260323T201125Z
LAST-MODIFIED:20260323T201331Z
DTSTART;TZID=Europe/Zurich:20260614T190000
DTEND;TZID=Europe/Zurich:20260614T223000
SUMMARY: Yonaka
DESCRIPTION: Yonaka\nWenn YONAKA auf die Bühne treten\, dann versammeln sie
  ein Millennial-Rock-Publikum der freundlichsten Art um sich herum. Mit ein
 gängigen Melodieverläufen\, einer energiegeladenen Rock-Attitüde und einer 
 wahnsinnigen Stimmgewalt ziehen die Briten eine Fanbase in ihren Bann\, die
  sich hier und da sicher an einige ihrer Lieblingsbands aus alten Zeiten wi
 e Limp Bizkit\, Paramore\, Rage Against The Machine oder an den punkigen Sp
 rechgesang von Bonaparte erinnert fühlen. Doch das sind lange nicht die ein
 zigen Einflüsse\, ... [Read more...]
X-ALT-DESC;FMTTYPE=text/html: <p><a href="https://weareyonaka.com/" rel="no
 opener" target="_blank">Yonaka</a></p><p>Wenn YONAKA auf die Bühne treten\,
  dann versammeln sie ein Millennial-Rock-Publikum der freundlichsten Art um
  sich herum. Mit eingängigen Melodieverläufen\, einer energiegeladenen Rock
 -Attitüde und einer wahnsinnigen Stimmgewalt ziehen die Briten eine Fanbase
  in ihren Bann\, die sich hier und da sicher an einige ihrer Lieblingsbands
  aus alten Zeiten wie Limp Bizkit\, Paramore\, Rage Against The Machine ode
 r an den punkigen Sprechgesang von Bonaparte erinnert fühlen. Doch das sind
  lange nicht die einzigen Einflüsse\, die YONAKA in ihrer Musik vereinen – 
 sie bringen ein echtes Genrebiest mit Pop-Elementen\, fetten Hip-Hop Beats\
 , wütendem Punk-Rap und Nu-Metal auf die Bühne. Und genau das macht YONAKA 
 so besonders: Ihr Klang ist niemals gleichbleibend\, die einzige Richtlinie
 \, die sie haben\, sind ihre Gefühle. Das Trio bestehend aus Theresa Jarvis
  (Gesang)\, Alex Crosby (Bass) und George Werbrouck-Edwards (Gitarre) widme
 t sich in ihren Songs besonders Themen der mentalen Gesundheit und Selbstbe
 stimmung. Damit erreichten sie inzwischen 150 Millionen Streams\, spielten 
 unter anderem Konzerte mit Frank Carter & The Rattlesnakes\, The Libertines
 \, Bring Me The Horizon und Nothing But Thieves und waren bereits auf unzäh
 ligen Festivals in Europa\, UK\, Amerika und Canada zu sehen. Am 14. Juni b
 ringen YONAKA ihre grossartige Show ins Exil Zürich!</p>
CATEGORIES:Rock
LOCATION:Exil
GEO:47.388231;8.519562
ORGANIZER;CN="JHG Shark":MAILTO:webmaster@jhgshark.ch
URL;VALUE=URI:https://artnoir.ch/events/event/yonaka-2026-06-14/
ATTACH;FMTTYPE=image/jpeg:https://artnoir.ch/wp-content/uploads/2026/03/yonaka-2026-06-14.jpg
END:VEVENT
BEGIN:VTIMEZONE
TZID:Europe/Zurich
BEGIN:DAYLIGHT
TZOFFSETFROM:+0100
TZOFFSETTO:+0200
DTSTART:20260329T010000
TZNAME:CEST
END:DAYLIGHT
END:VTIMEZONE
END:VCALENDAR
