BEGIN:VCALENDAR
VERSION:2.0
PRODID:-//ARTNOIR//NONSGML Events//EN
CALSCALE:GREGORIAN
X-ORIGINAL-URL:https://artnoir.ch/events/event/
X-WR-CALDESC:ARTNOIR - Events
BEGIN:VEVENT
UID:20260203T1048Z-1770115737.5492-EO-259555-1@10.0.9.48
STATUS:CONFIRMED
DTSTAMP:20260423T232411Z
CREATED:20260201T131913Z
LAST-MODIFIED:20260312T113945Z
DTSTART;TZID=Europe/Zurich:20261121T203000
DTEND;TZID=Europe/Zurich:20261121T235900
SUMMARY: Yndling
DESCRIPTION: Yndlin\nYndling ist das norwegische Dream-Pop-Projekt von Silj
 e Espevik\, das Shoegaze\, Trip-Hop und Alt-Pop zu einem atmosphärischen\, 
 zukunftsweisenden Sound verbindet. Ihr neues Album „Time Time Time (I’m in 
 the Palm of Your Hand)“ und die Lead-Single „It’s Almost Like You’re Here“ 
 haben international große Aufmerksamkeit erregt. Nach ausverkauften Headlin
 er-Shows in Großbritannien und Auftritten bei SXSW\, ESNS und SPOT geht Ynd
 ling im Frühjahr 2026 mit ihrer mitreißenden Live-Show auf Europatournee\, 
 unter anderem nach Berlin\, ... [Read more...]
X-ALT-DESC;FMTTYPE=text/html: <p><a href="https://www.yndling.news" target=
 "_blank" rel="noopener">Yndlin</a></p><p>Yndling ist das norwegische Dream-
 Pop-Projekt von Silje Espevik\, das Shoegaze\, Trip-Hop und Alt-Pop zu eine
 m atmosphärischen\, zukunftsweisenden Sound verbindet. Ihr neues Album „Tim
 e Time Time (I’m in the Palm of Your Hand)“ und die Lead-Single „It’s Almos
 t Like You’re Here“ haben international große Aufmerksamkeit erregt. Nach a
 usverkauften Headliner-Shows in Großbritannien und Auftritten bei SXSW\, ES
 NS und SPOT geht Yndling im Frühjahr 2026 mit ihrer mitreißenden Live-Show 
 auf Europatournee\, unter anderem nach Berlin\, Bern\, Paris und Barcelona.
 </p>
CATEGORIES:Pop,Wave
LOCATION:ISC
GEO:46.953466;7.439711
ORGANIZER;CN="Nicole Wild":MAILTO:nic.wild@yahoo.com
URL;VALUE=URI:https://artnoir.ch/events/event/yndling-2026-11-21/
ATTACH;FMTTYPE=image/jpeg:https://artnoir.ch/wp-content/uploads/2026/02/yndling-2026-03-11.jpg
END:VEVENT
BEGIN:VTIMEZONE
TZID:Europe/Zurich
BEGIN:STANDARD
TZOFFSETFROM:+0200
TZOFFSETTO:+0100
DTSTART:20261025T010000
TZNAME:CET
END:STANDARD
END:VTIMEZONE
END:VCALENDAR
