BEGIN:VCALENDAR
VERSION:2.0
PRODID:-//ARTNOIR//NONSGML Events//EN
CALSCALE:GREGORIAN
X-ORIGINAL-URL:https://artnoir.ch/events/event/
X-WR-CALDESC:ARTNOIR - Events
BEGIN:VEVENT
UID:20251018T1749Z-1760809751.454-EO-254672-1@10.0.9.52
STATUS:CONFIRMED
DTSTAMP:20260423T215620Z
CREATED:20251017T133851Z
LAST-MODIFIED:20251017T134117Z
DTSTART;TZID=Europe/Zurich:20260402T190000
DTEND;TZID=Europe/Zurich:20260402T230000
SUMMARY: Yellow Pill & déjàvu
DESCRIPTION: Yellow Pill & déjàvu\nYellow Pill – Die neue Power aus der Rom
 andie!\nYellow Pill sind keine Band\, die sich in Schubladen stecken lässt.
  Die Musiker aus der Romandie mischen modernen Alternative Rock mit einer o
 rdentlichen Portion Energie\, Emotion und unbändiger Spielfreude. Mitreisse
 nde Riffs\, mächtige Grooves und eingängige Vocals sorgen dafür\, dass ihre
  Shows von der ersten bis zur letzten Minute elektrisieren.\nDie Band steht
  für kompromisslosen Sound\, ... [Read more...]
X-ALT-DESC;FMTTYPE=text/html: <p><a href="https://www.facebook.com/p/Yellow
 -Pill-100064190462569/" rel="noopener" target="_blank">Yellow Pill</a> & <a
  href="https://www.dejavu-music.ch/" rel="noopener" target="_blank">déjàvu<
 /a></p><p><strong>Yellow Pill – Die neue Power aus der Romandie!</strong></
 p><p>Yellow Pill sind keine Band\, die sich in Schubladen stecken lässt. Di
 e Musiker aus der Romandie mischen modernen Alternative Rock mit einer orde
 ntlichen Portion Energie\, Emotion und unbändiger Spielfreude. Mitreissende
  Riffs\, mächtige Grooves und eingängige Vocals sorgen dafür\, dass ihre Sh
 ows von der ersten bis zur letzten Minute elektrisieren.</p><p>Die Band ste
 ht für kompromisslosen Sound\, Authentizität und eine Bühnenpräsenz\, die s
 ofort unter die Haut geht. Wer Yellow Pill live erlebt\, spürt sofort die L
 eidenschaft und Kraft\, die diese Formation antreibt.</p><p>Sei dabei\, wen
 n Yellow Pill die Bühne zum Beben bringt – roh\, energiegeladen und voller 
 Leidenschaft!</p><p><strong>déjàvu</strong> - ist eine Schweizer Rock-Pop-B
 and mit Sitz zwischen Einsiedeln und Rapperswil-Jona\, die seit 1997 eigene
  Songs schreibt und sich über die Jahre als feste Grösse der Szene etablier
 t hat.</p><p>Ihre Musik verbindet druckvollen Rock mit eingängigen Pop-Melo
 dien – voller Emotion\, Vielfalt und Tiefgang. Die Texte spiegeln Alltagser
 fahrungen\, Träume und persönliche Reflektionen wider\; nicht selten umweht
  von einer sanften Melancholie\, die in kraftvollen Momenten gipfelt. deja­
 vu-Songs sind radiotauglich\, mit Substanz\, und haben das Talent\, im Ohr 
 zu bleiben.</p><p>Ihr aktueller Song „ Leave The Frame " zeigt\, wie es ihn
 en gelingt\, trotz eines melancholischen Untertons kraftvolle\, optimistisc
 he Momente zu schaffen. déjàvu veröffentlichte in den letzten Jahren auch S
 ingles wie „Daydreamer“ «Way Back Home» und «I’m Alright»\, in denen sie ze
 igen\, wie tiefgründige Texte mit einem hochwertigen Pop-Rock Sound verbund
 en werden können.</p><p>Mit ihrer Mischung aus Emotionalität\, handwerklich
  sauberer Produktion und live spürbarer Energie erreichen sie sowohl Fans v
 on Rock als auch Pop. Für Konzertbesucher bedeutet ein deja­vu-Konzert: sta
 rke Songs\, gute Stimme\, mitreißende Bühnenpräsenz – und das alles mit Sch
 weizer Wurzeln.</p>
CATEGORIES:Pop,Rock
LOCATION:Kulturfabrik
GEO:47.324648;8.786380
ORGANIZER;CN="JHG Shark":MAILTO:webmaster@jhgshark.ch
URL;VALUE=URI:https://artnoir.ch/events/event/yellow-pill-and-dejavu-2026-0
 4-02/
ATTACH;FMTTYPE=image/jpeg:https://artnoir.ch/wp-content/uploads/2025/10/yellow-pill-and-dejavu-2026-04-02.jpg
END:VEVENT
BEGIN:VTIMEZONE
TZID:Europe/Zurich
BEGIN:DAYLIGHT
TZOFFSETFROM:+0100
TZOFFSETTO:+0200
DTSTART:20260329T010000
TZNAME:CEST
END:DAYLIGHT
END:VTIMEZONE
END:VCALENDAR
