BEGIN:VCALENDAR
VERSION:2.0
PRODID:-//ARTNOIR//NONSGML Events//EN
CALSCALE:GREGORIAN
X-ORIGINAL-URL:https://artnoir.ch/events/event/
X-WR-CALDESC:ARTNOIR - Events
BEGIN:VEVENT
UID:20260415T1946Z-1776282399.0602-EO-262917-1@10.0.9.48
STATUS:CONFIRMED
DTSTAMP:20260424T033244Z
CREATED:20260411T144614Z
LAST-MODIFIED:20260411T144743Z
DTSTART;TZID=Europe/Zurich:20260824T180000
DTEND;TZID=Europe/Zurich:20260824T230000
SUMMARY: Wolfmother
DESCRIPTION: Wolfmother\nWenn Andrew Stockdale die Gitarre einstöpselt\, gi
 bt’s kein Zurück mehr: fette Riffs\, wuchtige Drums und dieser unverkennbar
 e Retro-70s-Sound\, der nach staubigen Verstärkern und purem Rock’n’Roll ri
 echt – genau diese rohe Energie bringen Wolfmother erstmals auf die Bühne a
 m Teich!\nMit Hymnen wie «Joker & The Thief»\, «Woman» oder «Victorious» ha
 t die Band aus Down Under längst Kultstatus erreicht. Während der Pandemie 
 entstand mit «Rock Out» ein Album\, das den Geist der Band perfekt einfängt
 . ... [Read more...]
X-ALT-DESC;FMTTYPE=text/html: <p><a href="https://wolfmother.com/" rel="noo
 pener" target="_blank">Wolfmother</a></p><p>Wenn Andrew Stockdale die Gitar
 re einstöpselt\, gibt’s kein Zurück mehr: fette Riffs\, wuchtige Drums und 
 dieser unverkennbare Retro-70s-Sound\, der nach staubigen Verstärkern und p
 urem Rock’n’Roll riecht – genau diese rohe Energie bringen Wolfmother erstm
 als auf die Bühne am Teich!</p><p>Mit Hymnen wie «Joker & The Thief»\, «Wom
 an» oder «Victorious» hat die Band aus Down Under längst Kultstatus erreich
 t. Während der Pandemie entstand mit «Rock Out» ein Album\, das den Geist d
 er Band perfekt einfängt. Keine Spielereien\, nur ehrlicher\, lauter\, befr
 eiender Rock.</p><p>Besser kann sich der Mühle-Sommer kaum anfühlen: Ein kü
 hler Drink in der Hand\, die Sonne sinkt langsam hinter den Bäumen und währ
 end es dämmert\, drehen die Gitarren auf. Rock’n’Roll ahoi!</p>
CATEGORIES:Rock
LOCATION:Mühle Hunziken
GEO:46.891205;7.541725
ORGANIZER;CN="JHG Shark":MAILTO:webmaster@jhgshark.ch
URL;VALUE=URI:https://artnoir.ch/events/event/wolfmother-2026-08-24/
ATTACH;FMTTYPE=image/jpeg:https://artnoir.ch/wp-content/uploads/2026/04/wolfmother-2026-08-24.jpg
END:VEVENT
BEGIN:VTIMEZONE
TZID:Europe/Zurich
BEGIN:DAYLIGHT
TZOFFSETFROM:+0100
TZOFFSETTO:+0200
DTSTART:20260329T010000
TZNAME:CEST
END:DAYLIGHT
END:VTIMEZONE
END:VCALENDAR
