BEGIN:VCALENDAR
VERSION:2.0
PRODID:-//ARTNOIR//NONSGML Events//EN
CALSCALE:GREGORIAN
X-ORIGINAL-URL:https://artnoir.ch/events/event/
X-WR-CALDESC:ARTNOIR - Events
BEGIN:VEVENT
UID:20260205T1241Z-1770295305.6544-EO-258873-1@10.0.9.48
STATUS:CONFIRMED
DTSTAMP:20260423T232543Z
CREATED:20260118T154445Z
LAST-MODIFIED:20260417T115504Z
DTSTART;TZID=Europe/Zurich:20260425T190000
DTEND;TZID=Europe/Zurich:20260425T213000
SUMMARY: Witch Fever
DESCRIPTION: Witch Fever\nFEVEREATEN TOUR\nMit einer Wucht\, die im interna
 tionalen Alternative-Underground längst Wellen schlägt\, kehren Witch Fever
  am Samstag\, 25. April 2026 nach Zürich zurück. Nachdem die Band als Suppo
 rt von Volbeat im Hallenstadion überzeugt hat\, zelebrieren die vier Hexen 
 nun eine Headline-Show im Komplex Klub.\nMit ihrem neuen Album FEVEREATEN u
 nd einem Mix aus wütendem Post-Punk\, düsterem Alternative Rock und einer P
 rise okkulter Ästhetik liefern Witch Fever eine unvergessliche Show. ... [R
 ead more...]
X-ALT-DESC;FMTTYPE=text/html: <p><a href="https://www.witchfever.com" rel="
 noopener" target="_blank">Witch Fever</a></p><p><strong>FEVEREATEN TOUR</st
 rong></p><p>Mit einer Wucht\, die im internationalen Alternative-Undergroun
 d längst Wellen schlägt\, kehren Witch Fever am Samstag\, 25. April 2026 na
 ch Zürich zurück. Nachdem die Band als Support von Volbeat im Hallenstadion
  überzeugt hat\, zelebrieren die vier Hexen nun eine Headline-Show im Kompl
 ex Klub.</p><p>Mit ihrem neuen Album FEVEREATEN und einem Mix aus wütendem 
 Post-Punk\, düsterem Alternative Rock und einer Prise okkulter Ästhetik lie
 fern Witch Fever eine unvergessliche Show.</p><p>Witch Fever thematisieren 
 patriarchale Strukturen\, religiöse Prägung und persönliche Befreiung – imm
 er ehrlich\, intensiv und voller Ausdruckswillen. Genau diese Mischung hat 
 ihnen eine stetig wachsende Fangemeinde eingebracht und ihnen den Ruf versc
 hafft\, live eine besondere Atmosphäre zu erzeugen.</p><p>Zwischen hypnotis
 chen Momenten und energiegeladenen Ausbrüchen entsteht ein Konzerterlebnis\
 , das tief berührt und zugleich aufrüttelt. Das Publikum darf sich auf Song
 s vom brandneuen Album FEVEREATEN freuen und ebenso auf Fan-Favoriten aus d
 em Debütalbum Congregation.</p><p>Für Fans alternativer Musik\, die nach fr
 ischen Impulsen und starken Stimmen suchen\, ist dieser Abend ein Pflichtte
 rmin.</p><p>Jetzt Tickets via ticketcorner.ch sichern!</p>
CATEGORIES:Metal,Rock,Wave
LOCATION:Komplex Klub
GEO:47.387269;8.499988
ORGANIZER;CN="Nicole Wild":MAILTO:nic.wild@yahoo.com
URL;VALUE=URI:https://artnoir.ch/events/event/witch-fever-2026-04-25/
ATTACH;FMTTYPE=image/jpeg:https://artnoir.ch/wp-content/uploads/2026/01/witch-fever-2026-04-25.jpg
END:VEVENT
BEGIN:VTIMEZONE
TZID:Europe/Zurich
BEGIN:DAYLIGHT
TZOFFSETFROM:+0100
TZOFFSETTO:+0200
DTSTART:20260329T010000
TZNAME:CEST
END:DAYLIGHT
END:VTIMEZONE
END:VCALENDAR
