BEGIN:VCALENDAR
VERSION:2.0
PRODID:-//ARTNOIR//NONSGML Events//EN
CALSCALE:GREGORIAN
X-ORIGINAL-URL:https://artnoir.ch/events/event/
X-WR-CALDESC:ARTNOIR - Events
BEGIN:VEVENT
UID:20260320T0920Z-1773998412.0426-EO-262022-1@10.0.9.48
STATUS:CONFIRMED
DTSTAMP:20260423T215504Z
CREATED:20260319T120224Z
LAST-MODIFIED:20260319T120342Z
DTSTART;VALUE=DATE:20260805
DTEND;VALUE=DATE:20260817
SUMMARY: Winterthurer Musikfestwochen
DESCRIPTION: Line-up / Programm\nErste Acts für die Winterthurer Musikfestw
 ochen 2026 bekannt\nDonnerstag\, 19. März 2026 – Vom 5. bis 16. August 2026
  wird die Winterthurer Altstadt erneut zur Bühne für aktuelle Musik aus der
  Schweiz und der ganzen Welt. Während zwölf Festivaltagen finden rund 100 K
 onzerte und Programmpunkte statt\, neun Tage davon sind kostenlos. Nun stel
 len die Winterthurer Musikfestwochen den ersten Teil des Line-ups vor: Als 
 Headliner:innen treten unter anderem Wolf Alice\, ... [Read more...]
X-ALT-DESC;FMTTYPE=text/html: <p><a href="https://musikfestwochen.ch/progra
 mm/programm-a-z/" rel="noopener" target="_blank">Line-up</a> / <a href="htt
 ps://musikfestwochen.ch/programm/programm-nach-datum/" rel="noopener" targe
 t="_blank">Programm</a></p><p><strong>Erste Acts für die Winterthurer Musik
 festwochen 2026 bekannt</strong></p><p>Donnerstag\, 19. März 2026 – Vom 5. 
 bis 16. August 2026 wird die Winterthurer Altstadt erneut zur Bühne für akt
 uelle Musik aus der Schweiz und der ganzen Welt. Während zwölf Festivaltage
 n finden rund 100 Konzerte und Programmpunkte statt\, neun Tage davon sind 
 kostenlos. Nun stellen die Winterthurer Musikfestwochen den ersten Teil des
  Line-ups vor: Als Headliner:innen treten unter anderem <a href="https://ww
 w.wolfalice.co.uk/" rel="noopener" target="_blank">Wolf Alice</a>\, <a href
 ="https://www.hermanosgutierrez.ch/" rel="noopener" target="_blank">Hermano
 s Gutiérrez</a> und <a href="https://dropkickmurphys.com/" rel="noopener" t
 arget="_blank">Dropkick Murphys</a> auf. </p><p>Die Musikfestwochen bleiben
  damit ihrem Konzept treu: Internationale Newcomer:innen\, aktuelle Schweiz
 er Acts und profilierte Namen der internationalen Szene prägen das Programm
  und machen die Altstadt für zwölf Tage zu einem Treffpunkt für Musikentdec
 kungen. Mit der Veröffentlichung der ersten Acts startet auch der Vorverkau
 f für die kostenpflichtigen Konzertabende. Zudem wird das Format «Musikfest
 karussell»\, das im Jubiläumsjahr erstmals stattfand\, weitergeführt.</p><p
 ><strong>Internationale Headliner:innen</strong><br />Am ersten kostenpflic
 htigen Abend steht mit <strong>Wolf Alice</strong> eine der prägenden Indie
 -Rock-Bands Grossbritanniens auf der Steinberggasse. Die Band um Sängerin E
 llie Rowsell verbindet kraftvollen Alternative Rock mit atmosphärischem Ind
 ie-Pop und gehört spätestens seit dem Mercury Prize für «Visions of a Life»
  und dem Chart-Erfolg von «Blue Weekend» zu den grossen Namen des Genres. Z
 uvor spielt der Londoner Singer-Songwriter <strong>Matt Maltese</strong>. S
 eine melancholische Mischung aus Indie-Pop\, klassischem Songwriting und Kl
 aviermelodien mit trocknem britischem Humor machte ihn bekannt – der Song «
 As the World Caves In» wurde zum weltweiten Viralhit. Den Auftakt macht der
  Act Keo mit einer Mischung aus Shoegaze\, Alternative Rock und Grunge.</p>
 <p>Als Headliner des Samstags kehren <strong>Hermanos Gutiérrez</strong> zu
 rück. Zu Beginn ihrer Karriere standen sie bei den Musikfestwochen auf der 
 Nachwuchsbühne «Startrampe»\, heute spielt das Duo international ausverkauf
 te Shows. Mit ihren instrumentalen Gitarrenstücken verbinden die Brüder Ale
 jandro und Estevan Gutiérrez Western-Soundtrack und lateinamerikanische Ein
 flüsse zu cineastischen Klanglandschaften. Ebenfalls im Programm ist <stron
 g>Pale Jay</strong>\, der maskierte Soul-Künstler mit markanter Falsettstim
 me\, dessen Sound Soul\, Disco und Afrobeat verbindet. Den Abend komplettie
 rt <strong>Jacob Alon</strong> mit aussergewöhnlicher Stimme und zeitlosem 
 Folk-Songwriting.</p><p>Den Festivalabschluss gestalten <strong>Dropkick Mu
 rphys</strong>. Seit über 30 Jahren verbindet die Band aus Boston Punkrock 
 mit irischem Folk und gehört zu den prägenden Acts des Celtic Punk. Songs w
 ie «I’m Shipping Up to Boston» oder «Rose Tattoo» sind längst Live-Klassike
 r. Vor ihnen spielen <strong>The Molotovs</strong>\, ein junges Geschwister
 duo\, das derzeit mit rohem Punk’n’Roll für Aufmerksamkeit sorgt.</p><p><st
 rong>Internationale Newcomer:innen & Schweizer Musiker:innen</strong><br />
 Das kostenlose Programm bleibt das Herzstück der Musikfestwochen. Neun Tage
  lang spielen internationale Newcomer:innen\, aktuelle Schweizer Acts und m
 usikalische Entdeckungen verschiedenster Genres in der Winterthurer Altstad
 t. Viele der Künstler:innen kann man hier erleben\, bevor sie ein paar Mona
 te oder Jahre später ihre eigenen grossen Shows spielen. Aus der internatio
 nalen Indie-Szene kommen unter anderem <strong>Westside Cowboy</strong> und
  <strong>Wednesday</strong>\, zwei Bands\, die den aktuellen Gitarrenrock a
 uf unterschiedliche Weise weiterdenken. Westside Cowboy verbinden klassisch
 en Indie-Rock mit Americana-Einflüssen\, während Wednesday sich zwischen Gr
 unge\, Shoegaze und amerikanischer Songwriting-Tradition bewegen.</p><p>Sou
 lige Töne bringen <strong>anaiis</strong> und <strong>Tyler Ballgame</stron
 g> ins Programm. anaiis bewegt sich mit ihrer aussergewöhnlichen Stimme zwi
 schen Soul\, Jazz und experimentellen Klängen\, Tyler Ballgame verbindet Re
 tro-Soul mit dem warmen Westcoast-Sound der Siebzigerjahre. Elektronische I
 mpulse setzen <strong>Joshua Idehen</strong>\, der Spoken Word mit Beats zw
 ischen Konzert\, Performance und Literatur verbindet\, sowie das Duo <stron
 g>Grandbrothers</strong>\, das aus präpariertem Klavier und Elektronik eine
 n eigenständigen\, atmosphärischen Sound entwickelt. Auch die Schweizer Sze
 ne ist vertreten: <strong>To Athena</strong> erreicht mit emotionalem Kamme
 rpop längst ein internationales Publikum. <strong>Nathalie Froehlich</stron
 g> gehört mit ihrer kompromisslosen Mischung aus Rap\, Techno\, Grime und B
 aile Funk zu den eigenständigsten Stimmen der aktuellen Club und Raplandsch
 aft. Weitere Highlights sind die Singer-Songwriterin <strong>Hannah Cohen</
 strong>\, das niederländische Duo Lumï mit atmosphärischem Folk-Pop sowie O
 rbit mit einem verträumten Mix aus Akustiksounds und Synthesizern.</p><p><s
 trong>Musikfestkarussell wird weitergeführt</strong><br />Nach der Premiere
  im Jubiläumsjahr wird das Musikfestkarussell weitergeführt. Das Format läd
 t am ersten Samstag des Festivals zu einem musikalischen Spaziergang rund u
 m das Festivalgelände ein. Musiker:innen treten dabei in kurzen Sets an Ort
 en auf\, an denen man sonst keine Bühne erwarten würde\, etwa in Hinterhöfe
 n\, auf Balkonen oder in kleinen Läden der Altstadt. Das Publikum bewegt si
 ch von Ort zu Ort und erlebt Musik in ungewohnten Situationen und sehr nah 
 an den Acts. Das Programm des Musikfestkarussells wird zu einem späteren Ze
 itpunkt bekannt gegeben.</p>
CATEGORIES:Electro,Pop,Rock
LOCATION:Diverse Orte
GEO:47.499172;8.729150
ORGANIZER;CN="JHG Shark":MAILTO:webmaster@jhgshark.ch
URL;VALUE=URI:https://artnoir.ch/events/event/winterthurer-musikfestwochen-
 2026/
ATTACH;FMTTYPE=image/jpeg:https://artnoir.ch/wp-content/uploads/2026/03/winterthurer-musikfestwochen-2026.jpg
END:VEVENT
BEGIN:VTIMEZONE
TZID:Europe/Zurich
BEGIN:DAYLIGHT
TZOFFSETFROM:+0100
TZOFFSETTO:+0200
DTSTART:20260329T010000
TZNAME:CEST
END:DAYLIGHT
END:VTIMEZONE
END:VCALENDAR
