BEGIN:VCALENDAR
VERSION:2.0
PRODID:-//ARTNOIR//NONSGML Events//EN
CALSCALE:GREGORIAN
X-ORIGINAL-URL:https://artnoir.ch/events/event/
X-WR-CALDESC:ARTNOIR - Events
BEGIN:VEVENT
UID:20260327T0809Z-1774598948.5108-EO-262016-1@10.0.9.48
STATUS:CONFIRMED
DTSTAMP:20260423T233459Z
CREATED:20260318T115249Z
LAST-MODIFIED:20260318T120255Z
DTSTART;TZID=Europe/Zurich:20260606T193000
DTEND;TZID=Europe/Zurich:20260606T223000
SUMMARY: Victor Wainwright & The Train
DESCRIPTION: Victor Wainwright & The Train\nVictor Wainwright ist Komponist
 \, Produzent\, Sänger\, preisgekrönter Entertainer und Pianist. Mit seiner 
 wilden\, dynamischen Spielweise – begleitet von viel Soul – begeistert er d
 as Publikum seit vielen Jahren. Sine Band ist seit vielen Jahren zusammen u
 nd hat dadurch ein blindes Verständnis untereinander erreicht. Die Bläser w
 ürzen das Gesamterlebnis auf unnachahmliche Art und Weise zu einem Amalgam\
 , das seinesgleichen sucht.\n„Ich glaube\, dass wir Roots-Musik vorantreibe
 n müssen\, ... [Read more...]
X-ALT-DESC;FMTTYPE=text/html: <p><a href="https://victorwainwright.com/" re
 l="noopener" target="_blank">Victor Wainwright & The Train</a></p><p>Victor
  Wainwright ist Komponist\, Produzent\, Sänger\, preisgekrönter Entertainer
  und Pianist. Mit seiner wilden\, dynamischen Spielweise - begleitet von vi
 el Soul - begeistert er das Publikum seit vielen Jahren. Sine Band ist seit
  vielen Jahren zusammen und hat dadurch ein blindes Verständnis untereinand
 er erreicht. Die Bläser würzen das Gesamterlebnis auf unnachahmliche Art un
 d Weise zu einem Amalgam\, das seinesgleichen sucht.</p><p>„Ich glaube\, da
 ss wir Roots-Musik vorantreiben müssen\, damit sie wachsen und neue Zuhörer
  erreichen kann“\, erklärt Wainwright. Das Ergebnis ist originelle Musik\, 
 die auf einem schmalen Grat zwischen akademischem Respekt und anarchischer 
 Respektlosigkeit balanciert. Wainwright mischt die Boogie-Woogie-Tradition\
 , die von seinem eindringlichen Klavierstil getragen wird\, neu auf. Er erf
 orscht furchtlos die ganze Bandbreite von lateinamerikanischen Aromen und N
 ew Orleans-Piano bis hin zu beinahe Psychedelia. Es ist ein musikalischer C
 ocktail\, serviert von Wainwrights unnachahmlichem\, kiesgesprenkeltem Gesa
 ng.</p><p>Obwohl seine Karriere vor über einem Jahrzehnt mit echtem Rock'n'
 Roll Honky-Tonk begann\, hat Victor Wainwright seinen künstlerischen Horizo
 nt im Laufe der Jahre erweitert und umfasst nun Musik\, die praktisch jeden
  Winkel der Roots-Musikwelt repräsentiert.</p><p>Sein unersättliches Intere
 sse an neuen Musikrichtungen\, seine pure Liebe zur Unterhaltung und seine 
 Neugier haben ihn um die ganze Welt geführt\, und die daraus resultierende 
 Perspektive ist ein Spiegelbild seiner Leidenschaft für Unterhaltung und di
 e Schaffung progressiver Roots-Musik\, um die Kunstform voranzubringen.</p>
 <p>Der Name von Victor Wainwrights Band - und das Coverbild ihrer Alben - i
 st auch eine treffende Metapher. In der Musikfolklore mag der Zug Assoziati
 onen mit den Güterzug-hüpfenden Bluesmusikern von einst wecken\, aber mit d
 iesem rastlosen Boogie-Woogie-Innovator\, der den Ofen anheizt\, ist Wainwr
 ight eine stürmische Lokomotive - sie prescht vorwärts\, durchbricht Genreg
 renzen\, reisst frische Klänge mit und rattert kopfüber an den Zweiflern vo
 rbei.</p><p>Der Mann selbst brüllt in dem klavierhämmernden Stück „The Trai
 n“: „Wenn du Boogie tanzen willst\, steig in den Zug ein\, hol dir eine Fah
 rkarte oder geh aus dem Weg …“ Auf dem Höhepunkt seiner Karriere\, wo sich 
 die meisten etablierten Stars auf ihren Lorbeeren ausruhen würden\, reißen 
 Victor Wainwright & The Train stattdessen alles Bisherige in Stücke\, spitz
 en in einer sterilen Musikindustrie die Ohren und weiten das Konzept der Wu
 rzeln in mutige Richtungen aus.</p><p>Auf dieser nervenaufreibenden Fahrt k
 onnte nur seine Band\, die er The Train nennt\, die Musik auf den Gleisen h
 alten. „Ich landete bei einer Hit-Truppe absolut fantastischer Musiker\, di
 e meine Neugier auf alle Ecken des Roots-Genres teilten. Wir wollten auf de
 n Platten\, die wir machen\, genau einfangen\, wie wir uns bei Auftritten f
 ühlen\, und ich glaube\, das ist uns gelungen. Jetzt versuche ich einfach\,
  mitzuhalten.“</p><p>In Wahrheit war Wainwright schon immer ein Künstler\, 
 der das Tempo vorgab. Geboren wurde er in einer Musikerfamilie in Savannah\
 , Georgia\, und der prägende Einfluss des Gesangs seines Vaters und des rol
 lendem Boogie-Woogie-Pianos seines Großvaters zwang ihn\, ein Leben für die
  Musik zu führen. 2005 machte er sein Talent mit seinem Solodebüt „ Piana' 
 From Savannah“ bekannt \, und seine zentrale Rolle bei </p><p>Southern Hosp
 itality und seine Partnerschaft mit Stephen Dees bei WildRoots haben ihn üb
 er ein Jahrzehnt lang Bühnen und Stereoanlagen zum Beben gebracht.</p><p>Zu
  seinen zahlreichen Auszeichnungen zählen: Wainwright hat insgesamt sechs B
 lues Music Awards gewonnen\, landete auf Platz 1 der Top 10 der US Billboar
 d und wurde für einen GRAMMY 2019 nominiert.</p><p>"Auf die eigene Karriere
  zurückzublicken ist eine schwierige Sache"\, sagt er. "Es gibt viele und h
 äufige Herausforderungen\, aber wenn man sich zusammenreißt\, kann es auch 
 sehr lohnend sein." Wainwright ist ein Mann mit vielen Talenten: Komponist\
 , Produzent\, Sänger\, Pianist und preisgekrönter Entertainer. Als langjähr
 iger Anführer der Boogie-Woogie-Meute könnte er Sie auf seinen BMA und sein
 e lange Liste von Blues Blast-Trophäen verweisen oder auf einen Katalog\, d
 er wiederholt die Billboard Top 10 gekapert hat. Aber anstatt sich an verga
 ngenen Erfolgen zu erfreuen\, möchte dieser aufstrebende Künstler lieber\, 
 dass Sie ihn auf der bevorstehenden Reise begleiten. "Natürlich spiele und 
 schreibe ich immer noch Songs\, bei denen es nur darum geht\, Ärsche zu tre
 ten und sich Namen zu machen"\, lacht er. "Aber wenn Sie zuhören\, ist das\
 , was ich eigentlich sagen will\, dass wir auf den Zug aufspringen und geme
 insam mit unserer Liebe zur Roots-Musik weitermachen müssen."</p>
CATEGORIES:Rock
LOCATION:Antikenmuseum
GEO:47.554356;7.593141
ORGANIZER;CN="JHG Shark":MAILTO:webmaster@jhgshark.ch
URL;VALUE=URI:https://artnoir.ch/events/event/victor-wainwright-and-the-tra
 in-2026-06-06/
ATTACH;FMTTYPE=image/jpeg:https://artnoir.ch/wp-content/uploads/2026/03/victor-wainwright-and-the-train-2026-06-06.jpg
END:VEVENT
BEGIN:VTIMEZONE
TZID:Europe/Zurich
BEGIN:DAYLIGHT
TZOFFSETFROM:+0100
TZOFFSETTO:+0200
DTSTART:20260329T010000
TZNAME:CEST
END:DAYLIGHT
END:VTIMEZONE
END:VCALENDAR
