BEGIN:VCALENDAR
VERSION:2.0
PRODID:-//ARTNOIR//NONSGML Events//EN
CALSCALE:GREGORIAN
X-ORIGINAL-URL:https://artnoir.ch/events/event/
X-WR-CALDESC:ARTNOIR - Events
BEGIN:VEVENT
UID:20260218T0425Z-1771388738.8044-EO-260533-1@10.0.9.48
STATUS:CONFIRMED
DTSTAMP:20260424T000521Z
CREATED:20260216T202532Z
LAST-MODIFIED:20260216T202709Z
DTSTART;TZID=Europe/Zurich:20261109T190000
DTEND;TZID=Europe/Zurich:20261109T230000
SUMMARY: Veljanov (Deine Lakaien)
DESCRIPTION: Veljanov\nExklusive Schweiz Show 2026-2027 mit neuem Album im 
 Gepäck!\nAlexander Veljanov ist die unverwechselbare Stimme von ‚Deine Laka
 ien‘. Seit knapp vier Jahrzehnten prägen sie die nationale und internationa
 le Musikszene im Spannungsfeld von Avantgarde und Dark Wave.\nSeit 1998 ist
  Veljanov auch auf Solo-Pfaden unterwegs\, charakterisiert durch einen neue
 n\, unverwechselbaren Sound. Erhalten bleiben sein poetischer Charme und di
 e fesselnde Ausstrahlung seiner Stimme\, untermalt durch Texte über Liebe\,
  ... [Read more...]
X-ALT-DESC;FMTTYPE=text/html: <p><a href="https://www.veljanov.de/" rel="no
 opener" target="_blank">Veljanov</a></p><p><strong>Exklusive Schweiz Show 2
 026-2027 mit neuem Album im Gepäck!</strong></p><p>Alexander Veljanov ist d
 ie unverwechselbare Stimme von ‚Deine Lakaien'. Seit knapp vier Jahrzehnten
  prägen sie die nationale und internationale Musikszene im Spannungsfeld vo
 n Avantgarde und Dark Wave.</p><p>Seit 1998 ist Veljanov auch auf Solo-Pfad
 en unterwegs\, charakterisiert durch einen neuen\, unverwechselbaren Sound.
  Erhalten bleiben sein poetischer Charme und die fesselnde Ausstrahlung sei
 ner Stimme\, untermalt durch Texte über Liebe\, Hingabe und Vergänglichkeit
 .</p><p>Mit seinen drei sehr verschiedenen Studioalben zeigt der Frontmann 
 immer wieder\, dass er sich musikalisch nicht festnageln lässt und nutzt au
 ch dieses Musikprojekt als Spielwiese für seine Stimme und einen musikalisc
 hen Ausdruck ausserhalb des Lakaien-Kosmos.</p>
CATEGORIES:Wave
LOCATION:Eisenwerk
GEO:47.561190;8.893648
ORGANIZER;CN="JHG Shark":MAILTO:webmaster@jhgshark.ch
URL;VALUE=URI:https://artnoir.ch/events/event/veljanov-2026-11-09/
ATTACH;FMTTYPE=image/jpeg:https://artnoir.ch/wp-content/uploads/2026/02/veljanov-2026-11-09.jpg
END:VEVENT
BEGIN:VTIMEZONE
TZID:Europe/Zurich
BEGIN:STANDARD
TZOFFSETFROM:+0200
TZOFFSETTO:+0100
DTSTART:20261025T010000
TZNAME:CET
END:STANDARD
END:VTIMEZONE
END:VCALENDAR
