BEGIN:VCALENDAR
VERSION:2.0
PRODID:-//ARTNOIR//NONSGML Events//EN
CALSCALE:GREGORIAN
X-ORIGINAL-URL:https://artnoir.ch/events/event/
X-WR-CALDESC:ARTNOIR - Events
BEGIN:VEVENT
UID:20250803T0838Z-1754210280.1756-EO-250342-1@10.0.9.22
STATUS:CONFIRMED
DTSTAMP:20260423T234550Z
CREATED:20250801T124608Z
LAST-MODIFIED:20250801T124932Z
DTSTART;TZID=Europe/Zurich:20260509T190000
DTEND;TZID=Europe/Zurich:20260509T230000
SUMMARY: Vale Tudo
DESCRIPTION: Vale Tudo\n+ Insanity61\n+ Nofnog\n+ The High Times\nWeisst du
  noch\, 2006? Borat fuhr durch Amerika – «Sexy Time»\, hehe. Shakira verkün
 dete\, dass Hüften nicht lügen – «Shakira Shakira!» Und irgendwo zwischen T
 resen und Kater wurde Vale Tudo geboren.\nJetzt\, 20 Jahre später\, wird ge
 feiert – richtig!\nAm 9. Mai 2026 steigt im KIFF Aarau die grosse VT-Sause.
  ... [Read more...]
X-ALT-DESC;FMTTYPE=text/html: <p><a href="https://www.facebook.com/valetudo
 ZHHC/" rel="noopener" target="_blank">Vale Tudo</a><br />+ <a href="https:/
 /insanity61.com/" rel="noopener" target="_blank">Insanity61</a><br />+ <a h
 ref="https://nofnog.ch/" rel="noopener" target="_blank">Nofnog</a><br />+ <
 a href="https://www.thehightimes.cool/" rel="noopener" target="_blank">The 
 High Times</a></p><p>Weisst du noch\, 2006? Borat fuhr durch Amerika – «Sex
 y Time»\, hehe. Shakira verkündete\, dass Hüften nicht lügen – «Shakira Sha
 kira!» Und irgendwo zwischen Tresen und Kater wurde Vale Tudo geboren.</p><
 p>Jetzt\, 20 Jahre später\, wird gefeiert – richtig!</p><p>Am 9. Mai 2026 s
 teigt im KIFF Aarau die grosse VT-Sause. Mit am Start: Insanity61 / Nofnog 
 /  The High Times</p><p>Der Vorverkauf startet bereits am 4. August. Wer sm
 art ist\, schnappt sich ein Early Bird Ticket zum Freundschaftspreis. Wer v
 erpennt\, zahlt mehr. Ganz einfach.</p><p>Danke an alle für zwei Jahrzehnte
  Support und see you in the Pit!</p><p><span style="color: #c86079\;">Ein <
 strong>ARTNOIR</strong> Partner-Event</span></p>
CATEGORIES:Partner-Event,Punk
LOCATION:KIFF
GEO:47.398757;8.063867
ORGANIZER;CN="JHG Shark":MAILTO:webmaster@jhgshark.ch
URL;VALUE=URI:https://artnoir.ch/events/event/vale-tudo-2026-05-09/
ATTACH;FMTTYPE=image/jpeg:https://artnoir.ch/wp-content/uploads/2025/08/vale-tudo-2026-05-09.jpg
END:VEVENT
BEGIN:VTIMEZONE
TZID:Europe/Zurich
BEGIN:DAYLIGHT
TZOFFSETFROM:+0100
TZOFFSETTO:+0200
DTSTART:20260329T010000
TZNAME:CEST
END:DAYLIGHT
END:VTIMEZONE
END:VCALENDAR
