BEGIN:VCALENDAR
VERSION:2.0
PRODID:-//ARTNOIR//NONSGML Events//EN
CALSCALE:GREGORIAN
X-ORIGINAL-URL:https://artnoir.ch/events/event/
X-WR-CALDESC:ARTNOIR - Events
BEGIN:VEVENT
UID:20260115T1537Z-1768491451.3191-EO-258814-1@10.0.9.48
STATUS:CONFIRMED
DTSTAMP:20260424T000405Z
CREATED:20260115T070529Z
LAST-MODIFIED:20260115T070734Z
DTSTART;VALUE=DATE:20261002
DTEND;VALUE=DATE:20261005
SUMMARY: Up In Smoke
DESCRIPTION: Line-Up\nUP IN SMOKE 2026\nDas schwerste Indoor-Festival der S
 chweiz geht in die nächste Runde!\nVom 2. bis 4. Oktober 2026 verwandelt si
 ch die Konzertfabrik Z7 erneut in das Mekka für Stoner-\, Doom- und Psyched
 elic-Fans. Drei Tage lang erwarten euch massive Riffs\, drückende Grooves u
 nd hypnotische Sounds – drinnen wie draussen\, mit internationalen Szenegrö
 ssen und spannenden Entdeckungen.\nJetzt stehen auch die ersten Bands fest:
 \nMit Zeal & ... [Read more...]
X-ALT-DESC;FMTTYPE=text/html: <p><a href="https://www.soundofliberation.com
 /festivals/up-in-smoke" rel="noopener" target="_blank">Line-Up</a></p><p><s
 trong>UP IN SMOKE 2026</strong></p><p>Das schwerste Indoor-Festival der Sch
 weiz geht in die nächste Runde!</p><p>Vom 2. bis 4. Oktober 2026 verwandelt
  sich die Konzertfabrik Z7 erneut in das Mekka für Stoner-\, Doom- und Psyc
 hedelic-Fans. Drei Tage lang erwarten euch massive Riffs\, drückende Groove
 s und hypnotische Sounds – drinnen wie draussen\, mit internationalen Szene
 grössen und spannenden Entdeckungen.</p><p>Jetzt stehen auch die ersten Ban
 ds fest:</p><p>Mit Zeal & Ardor\, 1000mods\, The Devil and the Almighty Blu
 es\, Belzebong\, Mother’s Cake\, Zatokrev\, Fomies\, Spirit Mother\, Skyjog
 gers und Coltaine ist bereits jetzt klar\, wohin die Reise geht – schwer\, 
 kompromisslos und stilistisch vielseitig. Weitere Acts folgen.</p><p>Das Li
 ne-up ist noch lange nicht komplett.</p><p>Up In Smoke 2026 verspricht erne
 ut ein intensives Festivalwochenende mit starken Gigs\, besonderer Atmosphä
 re und einer Community\, die genau weiss\, warum sie jedes Jahr zurückkommt
 .</p>
CATEGORIES:Metal,Rock
LOCATION:Z7
GEO:47.527449;7.694210
ORGANIZER;CN="JHG Shark":MAILTO:webmaster@jhgshark.ch
URL;VALUE=URI:https://artnoir.ch/events/event/up-in-smoke-2026/
ATTACH;FMTTYPE=image/jpeg:https://artnoir.ch/wp-content/uploads/2026/01/up-in-smoke-2026.jpg
END:VEVENT
BEGIN:VTIMEZONE
TZID:Europe/Zurich
BEGIN:DAYLIGHT
TZOFFSETFROM:+0100
TZOFFSETTO:+0200
DTSTART:20260329T010000
TZNAME:CEST
END:DAYLIGHT
END:VTIMEZONE
END:VCALENDAR
