BEGIN:VCALENDAR
VERSION:2.0
PRODID:-//ARTNOIR//NONSGML Events//EN
CALSCALE:GREGORIAN
X-ORIGINAL-URL:https://artnoir.ch/events/event/
X-WR-CALDESC:ARTNOIR - Events
BEGIN:VEVENT
UID:20260403T0602Z-1775196170.1635-EO-262302-1@10.0.9.48
STATUS:CONFIRMED
DTSTAMP:20260423T215716Z
CREATED:20260327T131610Z
LAST-MODIFIED:20260327T131732Z
DTSTART;TZID=Europe/Zurich:20260508T194500
DTEND;TZID=Europe/Zurich:20260508T230000
SUMMARY: Uli Sailor / Wick Bambix / Flo LeBeau
DESCRIPTION: Uli Sailor / Wick Bambix / Flo LeBeau\nDrei Solo-Artists aus d
 rei Ländern feiern ihren gemeinsamen Single-Release mit einer Mini-Tournee 
 quer durch die Schweiz. Seid bereit für Wick Bambix aus den Niederlanden\, 
 Uli Sailor aus Deutschland und Flo LeBeau aus Bern. Zweiter Halt ist das Tr
 eppenhaus in Rorschach. Wer nicht kommt\, verpasst was!\nUli Sailor (D /Ex-
 Terrorgruppe)\nPunk bedeutet\, Dinge anders zu machen. ... [Read more...]
X-ALT-DESC;FMTTYPE=text/html: <p><a href="https://punkrockpiano.com/" rel="
 noopener" target="_blank">Uli Sailor</a> / <a href="https://www.wickbambix.
 nl/" rel="noopener" target="_blank">Wick Bambix</a> / <a href="https://www.
 flolebeau.com/" rel="noopener" target="_blank">Flo LeBeau</a></p><p>Drei So
 lo-Artists aus drei Ländern feiern ihren gemeinsamen Single-Release mit ein
 er Mini-Tournee quer durch die Schweiz. Seid bereit für Wick Bambix aus den
  Niederlanden\, Uli Sailor aus Deutschland und Flo LeBeau aus Bern. Zweiter
  Halt ist das Treppenhaus in Rorschach. Wer nicht kommt\, verpasst was!</p>
 <p><strong>Uli Sailor</strong> (D /Ex-Terrorgruppe)<br />Punk bedeutet\, Di
 nge anders zu machen. Genau das tut Uli Sailor\, wenn er allein mit seinem 
 Piano auf die Bühne geht und eine ganze Szene in Bewegung bringt. Seine Sho
 ws sind intensiv und beweisen\, dass es keine Stromgitarren braucht\, um Pu
 nksongs zu spielen. Nach seiner gefeierten EP „Für Immer Jung“ (2024) und ü
 ber 120 Konzerten – von Kneipen und Jugendzentren bis hin zu Rock am Ring u
 nd der Volksbühne in Berlin – erscheint im Frühjahr 2026 sein Debütalbum. Z
 ehn Songs\, die von Liebe\, Verlust\, Haltung und der unerschütterlichen Kr
 aft des Punk erzählen. Diese Songs präsentiert Uli im Rahmen seiner Tournee
 \, die man sich nicht entgehen lassen sollte. Denn ein Konzert von Uli Sail
 or ist alles – nur kein gediegener Klavierabend. Hörproben findet ihr auf p
 unkrockpiano.com und allen gängigen Streamingportalen\, inklusive der erste
 n Single „Wenn ich mal groß bin“.</p><p><strong>Wick Bambix</strong> (NL)<b
 r />Wick Bambix kommt aus der Punkszene und sorgte als leidenschaftliche Le
 adsängerin\, Gitarristin und Gründerin der international gefeierten Punkban
 d Bambix für Aufsehen. Sie tourte durch die ganze Welt\, darunter eine USA-
 Tournee und fünf Brasilien-Tourneen\, und teilte Bühnen mit u. a. Pennywise
 \, Jawbreaker\, Fugazi\, Misfits\, Sepultura und tourte unter anderem mit B
 ad Religion\, GBH\, Toy Dolls\, Terrorgruppe. Wicks Leidenschaft für Musik 
 war der Auslöser für ihren Weg von der rebellischen Punkrockerin zur Solokü
 nstlerin mit einer Botschaft. Von intimen Akustik-Sets in Underground-Veran
 staltungsorten bis hin zu Auftritten auf Festivals wie Fusion\, Sojus und B
 ack to Future hat Wicks Solokarriere das Publikum mit ihrer Bühnenpräsenz u
 nd ihrem Engagement für ihre Botschaft fasziniert. Ihre Songs vereinen Punk
 -Attitüde und herzliche Aufrichtigkeit. Ihr erstes Full-Length Album „When 
 Things Grow Teeth“ kam im September 2024 bei Rookie Records raus.</p><p><st
 rong>Flo LeBeau</strong> (CH/BE)<br />Genügend Zeit verschwendet! Flo LeBea
 u ist auf diesen Planeten gekommen\, um die Dinge wieder in Ordnung zu brin
 gen. Im Sommer 2022 spielte der Berner Troubadour erste Auftritte als Solo-
 Musiker\, im März 2024 folgten die zweite EP «Song of Spring (SOS)»\, eine 
 Konzert-Tour durch Deutschland und 2025 eine Kanada-Tour mit Auftritt am Po
 uzza Fest in Montreal. 2026 erscheint sein Debütalbum “Epilepsy” via Little
  Rebel Records. Die intimen Akustik-Songs finden ihren Ursprung irgendwo in
  den Gefilden von Indie-\, Alternative-Rock\, Emo und Punk.</p>
CATEGORIES:Pop,Punk
LOCATION:Treppenhaus
GEO:47.477539;9.495359
ORGANIZER;CN="JHG Shark":MAILTO:webmaster@jhgshark.ch
URL;VALUE=URI:https://artnoir.ch/events/event/uli-sailor-and-wick-bambix-an
 d-flo-lebeau-2026-05-08/
ATTACH;FMTTYPE=image/png:https://artnoir.ch/wp-content/uploads/2026/03/uli-sailor-and-wick-bambix-and-flo-lebeau-2026-05-08.png
END:VEVENT
BEGIN:VTIMEZONE
TZID:Europe/Zurich
BEGIN:DAYLIGHT
TZOFFSETFROM:+0100
TZOFFSETTO:+0200
DTSTART:20260329T010000
TZNAME:CEST
END:DAYLIGHT
END:VTIMEZONE
END:VCALENDAR
