BEGIN:VCALENDAR
VERSION:2.0
PRODID:-//ARTNOIR//NONSGML Events//EN
CALSCALE:GREGORIAN
X-ORIGINAL-URL:https://artnoir.ch/events/event/
X-WR-CALDESC:ARTNOIR - Events
BEGIN:VEVENT
UID:20260403T0749Z-1775202565.5795-EO-262618-1@10.0.9.48
STATUS:CONFIRMED
DTSTAMP:20260423T234441Z
CREATED:20260402T172349Z
LAST-MODIFIED:20260402T172809Z
DTSTART;TZID=Europe/Zurich:20261010T203000
DTEND;TZID=Europe/Zurich:20261010T235900
SUMMARY: Twin Noir
DESCRIPTION: Twin Noir\nLive beeindrucken TWIN NOIR mit energiegeladenen Pe
 rformances und tanzbarem Sound. Ihre Show ist inspiriert von der Berliner C
 lubkultur\, Punk und Vaudeville und zielt darauf ab\, Freiheit\, Kreativitä
 t und Kunst zu zelebrieren und zu manifestieren. Die beiden Musiker beganne
 n 2022 mit ersten Auftritten in Berlin und haben seitdem bereits in 17 Länd
 ern gespielt. TWIN NOIR tourte durch ganz Europa\, das Vereinigte Königreic
 h\, den Balkan und Mexiko\, wo sie in Mexiko-Stadt die Hälfte ihres Debütal
 bums aufnahmen. ... [Read more...]
X-ALT-DESC;FMTTYPE=text/html: <p><a href="https://www.twinnoir.com/" rel="n
 oopener" target="_blank">Twin Noir</a></p><p>Live beeindrucken TWIN NOIR mi
 t energiegeladenen Performances und tanzbarem Sound. Ihre Show ist inspirie
 rt von der Berliner Clubkultur\, Punk und Vaudeville und zielt darauf ab\, 
 Freiheit\, Kreativität und Kunst zu zelebrieren und zu manifestieren. Die b
 eiden Musiker begannen 2022 mit ersten Auftritten in Berlin und haben seitd
 em bereits in 17 Ländern gespielt. TWIN NOIR tourte durch ganz Europa\, das
  Vereinigte Königreich\, den Balkan und Mexiko\, wo sie in Mexiko-Stadt die
  Hälfte ihres Debütalbums aufnahmen.</p>
CATEGORIES:Electro,Wave
LOCATION:Gaswerk
GEO:47.494529;8.707780
ORGANIZER;CN="JHG Shark":MAILTO:webmaster@jhgshark.ch
URL;VALUE=URI:https://artnoir.ch/events/event/twin-noir-2026-10-10/
ATTACH;FMTTYPE=image/jpeg:https://artnoir.ch/wp-content/uploads/2026/04/twin-noir-2026-10-10.jpg
END:VEVENT
BEGIN:VTIMEZONE
TZID:Europe/Zurich
BEGIN:DAYLIGHT
TZOFFSETFROM:+0100
TZOFFSETTO:+0200
DTSTART:20260329T010000
TZNAME:CEST
END:DAYLIGHT
END:VTIMEZONE
END:VCALENDAR
