BEGIN:VCALENDAR
VERSION:2.0
PRODID:-//ARTNOIR//NONSGML Events//EN
CALSCALE:GREGORIAN
X-ORIGINAL-URL:https://artnoir.ch/events/event/
X-WR-CALDESC:ARTNOIR - Events
BEGIN:VEVENT
UID:20250930T1140Z-1759232416.8952-EO-253470-1@10.0.9.22
STATUS:CONFIRMED
DTSTAMP:20260423T221455Z
CREATED:20250926T112124Z
LAST-MODIFIED:20260206T144109Z
DTSTART;TZID=Europe/Zurich:20260522T200000
DTEND;TZID=Europe/Zurich:20260522T230000
SUMMARY: Turbobier
DESCRIPTION: Turbobier\nZehn Jahre TURBOBIER\, fünf Alben – das muss man er
 st einmal schaffen. Der Titel des bereits fünften Studioalbums ist Programm
 : „Unterm Strich kommt man am Ende des Lebens drauf\, dass mehr traurig als
  fröhlich ist\, mehr schlecht als gut. Darum gilt es\, sich die schönen Mom
 ente zu eigen zu machen und das Leben so lebenswert wie möglich zu gestalte
 n“\, so Marco Pogo.\nGeh ma’s an!\nDoors: 19:00 Uhr // Show: 20:00 Uhr // E
 nde: 23:30 Uhr\nEin ARTNOIR Partner-Event ... [Read more...]
X-ALT-DESC;FMTTYPE=text/html: <p><a href="https://www.turbobier.at/" rel="n
 oopener" target="_blank">Turbobier</a></p><p>Zehn Jahre TURBOBIER\, fünf Al
 ben – das muss man erst einmal schaffen. Der Titel des bereits fünften Stud
 ioalbums ist Programm: „Unterm Strich kommt man am Ende des Lebens drauf\, 
 dass mehr traurig als fröhlich ist\, mehr schlecht als gut. Darum gilt es\,
  sich die schönen Momente zu eigen zu machen und das Leben so lebenswert wi
 e möglich zu gestalten“\, so Marco Pogo.</p><p>Geh ma’s an!</p><p>Doors: 19
 :00 Uhr // Show: 20:00 Uhr // Ende: 23:30 Uhr</p><p><span style="color: #c8
 6079\;">Ein <strong>ARTNOIR</strong> Partner-Event</span></p>
CATEGORIES:Partner-Event,Punk,Rock
LOCATION:Stellwerk
GEO:46.949404;7.437582
ORGANIZER;CN="JHG Shark":MAILTO:webmaster@jhgshark.ch
URL;VALUE=URI:https://artnoir.ch/events/event/turbobier-2026-05-22/
ATTACH;FMTTYPE=image/jpeg:https://artnoir.ch/wp-content/uploads/2025/09/turbobier-2026-05-22.jpg
END:VEVENT
BEGIN:VTIMEZONE
TZID:Europe/Zurich
BEGIN:DAYLIGHT
TZOFFSETFROM:+0100
TZOFFSETTO:+0200
DTSTART:20260329T010000
TZNAME:CEST
END:DAYLIGHT
END:VTIMEZONE
END:VCALENDAR
