BEGIN:VCALENDAR
VERSION:2.0
PRODID:-//ARTNOIR//NONSGML Events//EN
CALSCALE:GREGORIAN
X-ORIGINAL-URL:https://artnoir.ch/events/event/
X-WR-CALDESC:ARTNOIR - Events
BEGIN:VEVENT
UID:20260209T0739Z-1770622789.5614-EO-259763-1@10.0.9.48
STATUS:CONFIRMED
DTSTAMP:20260423T234551Z
CREATED:20260205T193750Z
LAST-MODIFIED:20260205T194114Z
DTSTART;TZID=Europe/Zurich:20260529T190000
DTEND;TZID=Europe/Zurich:20260529T230000
SUMMARY: Tschou Endo
DESCRIPTION: mit Balts Nill\, Jessica Wezel\, Bubi Rufener\, Long Tall Jeff
 erson\, Fai Baba u.v.m.\nEin Abend zu Ehren von Endo Anaconda und Stiller H
 as\nWir verneigen uns vor einem ganz grossen Schweizer Poeten\, Sänger und 
 Performer.\n20 Sänger*Innen und Musiker*innen aus unterschiedlichsten Genre
 s und verschiedenen Landesteilen spielen Stiller Has Lieder\, tragen neue G
 edichte von Endo Anaconda vor\, welche posthum im September 2025 als Buch v
 eröffentlicht wurden\, sagen Danke und feiern liebevoll das Werk\, ... [Rea
 d more...]
X-ALT-DESC;FMTTYPE=text/html: <p>mit Balts Nill\, Jessica Wezel\, Bubi Rufe
 ner\, Long Tall Jefferson\, Fai Baba u.v.m.</p><p>Ein Abend zu Ehren von En
 do Anaconda und Stiller Has</p><p>Wir verneigen uns vor einem ganz grossen 
 Schweizer Poeten\, Sänger und Performer.</p><p>20 Sänger*Innen und Musiker*
 innen aus unterschiedlichsten Genres und verschiedenen Landesteilen spielen
  Stiller Has Lieder\, tragen neue Gedichte von Endo Anaconda vor\, welche p
 osthum im September 2025 als Buch veröffentlicht wurden\, sagen Danke und f
 eiern liebevoll das Werk\, welches Endo Anaconda uns allen hinterlassen hat
 . </p><p>mit</p><p>Stiller Has Gründungsmitglied Balts Nill</p><p>den ehema
 ligen Stiller Has Musikern<br />Boris Klečić – Gitarren<br />Bruno Dietrich
  – Gesang\, Piano\, Handorgel\, Bass\, Perkussion</p><p>und </p><p>Follia<b
 r />Christine Lauterburg<br />Solong (Klara Germanier)<br />Jessica Wezel (
 Kaschmir)<br />Bubi Rufener<br />Fai Baba<br />Long Tall Jefferson<br />Phi
 lipp Lothenbach<br />Lukas Langeneggger<br />André Kälin<br />Silvan Stürzi
 nger<br />Ere Gerber (Bubi Eifach)<br />Oli Hartung (Stop The Shoppers / Bu
 bi Eifach)<br />Rosso<br />Frédéric & Nicolas Meyer (Kärnten/Neuchâtel)<br 
 />Carmela Sager (Carmabylon)</p><p>Exklusiv in der Kammgarn\, der Mühle Hun
 ziken Rubigen und dem Mauz Music Club Einsiedeln.</p><p>[inhalte: zvg]</p><
 p>Das Foto wurde am 10.09.21 von Selwyn Hoffmann aufgenommen\, am letzten K
 onzert von Stiller Has in der Kammgarn. Danke Selwyn.</p>
CATEGORIES:Rock
LOCATION:Kammgarn
GEO:47.694492;8.636424
ORGANIZER;CN="JHG Shark":MAILTO:webmaster@jhgshark.ch
URL;VALUE=URI:https://artnoir.ch/events/event/tschou-endo-2026-05-29/
ATTACH;FMTTYPE=image/jpeg:https://artnoir.ch/wp-content/uploads/2026/02/tschou-endo-2026-05-29.jpg
END:VEVENT
BEGIN:VTIMEZONE
TZID:Europe/Zurich
BEGIN:DAYLIGHT
TZOFFSETFROM:+0100
TZOFFSETTO:+0200
DTSTART:20260329T010000
TZNAME:CEST
END:DAYLIGHT
END:VTIMEZONE
END:VCALENDAR
