BEGIN:VCALENDAR
VERSION:2.0
PRODID:-//ARTNOIR//NONSGML Events//EN
CALSCALE:GREGORIAN
X-ORIGINAL-URL:https://artnoir.ch/events/event/
X-WR-CALDESC:ARTNOIR - Events
BEGIN:VEVENT
UID:20260226T0434Z-1772080463.7492-EO-260880-1@10.0.9.48
STATUS:CONFIRMED
DTSTAMP:20260423T232320Z
CREATED:20260224T185103Z
LAST-MODIFIED:20260224T185157Z
DTSTART;TZID=Europe/Zurich:20260616T190000
DTEND;TZID=Europe/Zurich:20260616T230000
SUMMARY: Trivium
DESCRIPTION: Trivium\n+ Gatecreeper\nDIE KÖNIGE DES MODERN METAL\nSeit ihre
 n Anfängen im Metalcore-Untergrund haben sich Trivium von Album zu Album st
 etig entwickelt und gesellten sich innert kurzer Zeit zur Speerspitze des M
 odern Metal Genres. Heute steht die Band für einen vielseitigen\, zeitgemäs
 sen und Arena-kompatiblen Heavy Metal Sound der Extraklasse. Im Sommer 2026
  kommen die Amerikaner für eine exklusive Summer Nights Indoor Show ins Z7.
  ... [Read more...]
X-ALT-DESC;FMTTYPE=text/html: <p><a href="https://www.trivium.org/" rel="no
 opener" target="_blank">Trivium</a><br />+ <a href="https://www.gatecreeper
 .eu/" rel="noopener" target="_blank">Gatecreeper</a></p><p><strong>DIE KÖNI
 GE DES MODERN METAL</strong></p><p>Seit ihren Anfängen im Metalcore-Untergr
 und haben sich Trivium von Album zu Album stetig entwickelt und gesellten s
 ich innert kurzer Zeit zur Speerspitze des Modern Metal Genres. Heute steht
  die Band für einen vielseitigen\, zeitgemässen und Arena-kompatiblen Heavy
  Metal Sound der Extraklasse. Im Sommer 2026 kommen die Amerikaner für eine
  exklusive Summer Nights Indoor Show ins Z7.</p><p>Sweden Rock\, Rock im Pa
 rk\, Nova Rock\, Rock am Ring\, Download – Z7! Die Modern Metal Meister Tri
 vium rocken 2026 die grossen europäischen Festivalbühnen. Bei uns habt ihr 
 die Gelegenheit\, die Band im intimen Rahmen einer Z7 Summer Nights Indoor 
 Show zu erleben. Trivium zählen zweifellos zu den führenden Metal-Bands uns
 erer Zeit. Mit ihrem Meilenstein-Album „Ascendancy“ (2005) erlangten die Fl
 oridianer weltweite Bekanntheit. Ihre Mischung aus Melodik\, Thrash-Power u
 nd energiegeladenen Liveshows begeistert Metal-Fans wie auch ein breiteres 
 Publikum. Anfang 2025 waren Trivium auf grossem Retro-Trip durch Europa. Au
 f der gemeinsamen Tour mit Bullet For My Valentine zelebrierten sie das 20-
 Jahr-Jubiläum ihres bahnbrechenden Albums „Ascendancy“. Die Reise sollte ei
 gentlich bis Ende Jahr weltweit weitergeführt werden\, doch BFMV verabschie
 deten sich plötzlich von der Tour. So beschlossen Trivium mit dem 3-Track-M
 onster „Struck Dead“ erstmals in ihrer Karriere eine EP zu veröffentlichen.
  Bassist Paolo Gregoletto: „Die neuen Songs kanalisieren irgendwie die wüte
 nde Energie von ‚Ascendancy’. Das Ergebnis ist richtig heavy geworden. Ich 
 denke\, manche Momente sind vielleicht ein bisschen proggy\, aber es gibt v
 iele richtig gute Hooks und gute Riffs.“ Inzwischen haben Frontmann Matt He
 afy und seine Jungs die Arbeiten an einem neuen Studioalbum in Angriff geno
 mmen\, das 2026 erscheinen soll. Gitarrist Corey Beaulieu. „Die letzte Plat
 te ‚In The Court Of The Dragon’ kam 2021 heraus. Das ist unsere längste Lüc
 ke zwischen zwei Longplayern. Neue Musik ist also definitiv im Anmarsch. Wi
 r haben an ein paar Sachen gewerkelt und blättern zum nächsten Kapitel um. 
 2026 wird es eine neue Platte geben mit zugehöriger Tournee\, Festivals und
  allem was dazugehört. Es wird ein weiteres arbeitsreiches Jahr werden. Wir
  lassen die Nostalgie hinter uns und richten den Blick in die Zukunft. Dara
 uf freuen wir uns.“</p>
CATEGORIES:Metal,Progressive
LOCATION:Z7
GEO:47.527449;7.694210
ORGANIZER;CN="JHG Shark":MAILTO:webmaster@jhgshark.ch
URL;VALUE=URI:https://artnoir.ch/events/event/trivium-2026-06-16/
ATTACH;FMTTYPE=image/jpeg:https://artnoir.ch/wp-content/uploads/2026/02/trivium-2026-06-16.jpg
END:VEVENT
BEGIN:VTIMEZONE
TZID:Europe/Zurich
BEGIN:DAYLIGHT
TZOFFSETFROM:+0100
TZOFFSETTO:+0200
DTSTART:20260329T010000
TZNAME:CEST
END:DAYLIGHT
END:VTIMEZONE
END:VCALENDAR
