BEGIN:VCALENDAR
VERSION:2.0
PRODID:-//ARTNOIR//NONSGML Events//EN
CALSCALE:GREGORIAN
X-ORIGINAL-URL:https://artnoir.ch/events/event/
X-WR-CALDESC:ARTNOIR - Events
BEGIN:VEVENT
UID:20260403T0730Z-1775201432.0697-EO-262286-1@10.0.9.48
STATUS:CONFIRMED
DTSTAMP:20260424T010411Z
CREATED:20260326T180441Z
LAST-MODIFIED:20260326T180643Z
DTSTART;TZID=Europe/Zurich:20261014T190000
DTEND;TZID=Europe/Zurich:20261014T223000
SUMMARY: Triggerfinger
DESCRIPTION: Triggerfinger\nDie Rockband Triggerfinger aus Antwerpen blickt
  auf eine beeindruckende 25-jährige Karriere mit internationalen Tourneen z
 urück. Nach dem tragischen Tod von Bassist Monsieur Paul letzten Jahres beg
 innt für Triggerfinger 2026 ein neues Kapitel und die Band kehrt wieder auf
  die Bühne zurück. Am Bass nun live dabei ist Geoffrey Burton\, der in Verg
 angenheit mit namhaften Acts wie Iggy Pop oder Grace Jones gespielt hat.\nD
 iesen September erscheint das erste Studioalbum seit 2017 – das erste ohne 
 Monsieur Paul. ... [Read more...]
X-ALT-DESC;FMTTYPE=text/html: <p><a href="https://triggerfinger.net/" rel="
 noopener" target="_blank">Triggerfinger</a></p><p>Die Rockband Triggerfinge
 r aus Antwerpen blickt auf eine beeindruckende 25-jährige Karriere mit inte
 rnationalen Tourneen zurück. Nach dem tragischen Tod von Bassist Monsieur P
 aul letzten Jahres beginnt für Triggerfinger 2026 ein neues Kapitel und die
  Band kehrt wieder auf die Bühne zurück. Am Bass nun live dabei ist Geoffre
 y Burton\, der in Vergangenheit mit namhaften Acts wie Iggy Pop oder Grace 
 Jones gespielt hat.</p><p>Diesen September erscheint das erste Studioalbum 
 seit 2017 – das erste ohne Monsieur Paul. Mit dem neuen Album sind Triggerf
 inger wieder back in the game und beweisen für einmal mehr\, dass sie - fer
 nab von Trends und Hypes - einfach eine der besten Rockbands sind. Mach dic
 h also bereit für richtig rohen Rock\, gemengt mit Einflüssen aus Blues und
  Alternative.</p>
CATEGORIES:Rock
LOCATION:Sudhaus
GEO:47.558178;7.601148
ORGANIZER;CN="JHG Shark":MAILTO:webmaster@jhgshark.ch
URL;VALUE=URI:https://artnoir.ch/events/event/triggerfinger-2026-10-14/
ATTACH;FMTTYPE=image/jpeg:https://artnoir.ch/wp-content/uploads/2026/03/triggerfinger-2026-10-14.jpg
END:VEVENT
BEGIN:VTIMEZONE
TZID:Europe/Zurich
BEGIN:DAYLIGHT
TZOFFSETFROM:+0100
TZOFFSETTO:+0200
DTSTART:20260329T010000
TZNAME:CEST
END:DAYLIGHT
END:VTIMEZONE
END:VCALENDAR
