BEGIN:VCALENDAR
VERSION:2.0
PRODID:-//ARTNOIR//NONSGML Events//EN
CALSCALE:GREGORIAN
X-ORIGINAL-URL:https://artnoir.ch/events/event/
X-WR-CALDESC:ARTNOIR - Events
BEGIN:VEVENT
UID:20251009T2324Z-1760052292.1063-EO-254152-1@10.0.9.22
STATUS:CONFIRMED
DTSTAMP:20260423T215503Z
CREATED:20251007T142252Z
LAST-MODIFIED:20260403T112313Z
DTSTART;TZID=Europe/Zurich:20260506T190000
DTEND;TZID=Europe/Zurich:20260506T235900
SUMMARY: Tori Amos
DESCRIPTION: Tori Amos\n+ Isaac Levi\nTori Amos kündigt neues Studioalbum u
 nd Tournee an. Die Sängerin und Songwriterin\, die bereits 12 Millionen Alb
 en verkauft hat\, wird die Veröffentlichung ihres 18. Albums mit ihrer grös
 sten Europatournee seit zehn Jahren begleiten. Am 06.05.2026 tritt sie im T
 heater 11 in Zürich auf. ... [Read more...]
X-ALT-DESC;FMTTYPE=text/html: <p><a href="https://toriamos.com/" rel="noope
 ner" target="_blank">Tori Amos</a><br />+ <a href="https://www.facebook.com
 /isaaclevimusic23/" rel="noopener" target="_blank">Isaac Levi</a></p><p>Tor
 i Amos kündigt neues Studioalbum und Tournee an. Die Sängerin und Songwrite
 rin\, die bereits 12 Millionen Alben verkauft hat\, wird die Veröffentlichu
 ng ihres 18. Albums mit ihrer grössten Europatournee seit zehn Jahren begle
 iten. Am 06.05.2026 tritt sie im Theater 11 in Zürich auf.</p>
CATEGORIES:Pop,Rock
LOCATION:Theater 11
GEO:47.410841;8.549477
ORGANIZER;CN="Nicole Wild":MAILTO:nic.wild@yahoo.com
URL;VALUE=URI:https://artnoir.ch/events/event/tori-amos-2026-05-06/
ATTACH;FMTTYPE=image/jpeg:https://artnoir.ch/wp-content/uploads/2025/10/tori-amos-2026-05-06.jpg
END:VEVENT
BEGIN:VTIMEZONE
TZID:Europe/Zurich
BEGIN:DAYLIGHT
TZOFFSETFROM:+0100
TZOFFSETTO:+0200
DTSTART:20260329T010000
TZNAME:CEST
END:DAYLIGHT
END:VTIMEZONE
END:VCALENDAR
