BEGIN:VCALENDAR
VERSION:2.0
PRODID:-//ARTNOIR//NONSGML Events//EN
CALSCALE:GREGORIAN
X-ORIGINAL-URL:https://artnoir.ch/events/event/
X-WR-CALDESC:ARTNOIR - Events
BEGIN:VEVENT
UID:20260415T1945Z-1776282335.364-EO-263151-1@10.0.9.48
STATUS:CONFIRMED
DTSTAMP:20260424T022449Z
CREATED:20260415T171953Z
LAST-MODIFIED:20260415T172211Z
DTSTART;TZID=Europe/Zurich:20261027T183000
DTEND;TZID=Europe/Zurich:20261027T230000
SUMMARY: Tito & Tarantula
DESCRIPTION: Tito & Tarantula\nTito ist zurück! Die Americana- und Desert R
 ock Legende macht 2026 erneut Halt in Rubigen – für eine exklusive Schweize
 r Show. Die Fans erwartet ein einzigartiger Mix aus wildem Rock’n’Roll\, Pu
 nk\, psychedelischen Gitarrensounds und der unverwechselbaren\, magischen S
 timme von Tito Larriva.\nMit der hochklassig besetzten Band feiert die Tour
  das grosse Bandrepertoire mit bekannten Klassikern aus Kultfilmen wie «Des
 perados»\, «From Dusk till Dawn» oder «Once upon a time in Mexico» verewigt
  sind\, ... [Read more...]
X-ALT-DESC;FMTTYPE=text/html: <p><a href="https://www.instagram.com/titoand
 tarantula/" rel="noopener" target="_blank">Tito & Tarantula</a></p><p>Tito 
 ist zurück! Die Americana- und Desert Rock Legende macht 2026 erneut Halt i
 n Rubigen – für eine exklusive Schweizer Show. Die Fans erwartet ein einzig
 artiger Mix aus wildem Rock'n'Roll\, Punk\, psychedelischen Gitarrensounds 
 und der unverwechselbaren\, magischen Stimme von Tito Larriva.</p><p>Mit de
 r hochklassig besetzten Band feiert die Tour das grosse Bandrepertoire mit 
 bekannten Klassikern aus Kultfilmen wie «Desperados»\, «From Dusk till Dawn
 » oder «Once upon a time in Mexico» verewigt sind\, neuere Songs und einige
  selten gehörte Lieblingstitel der Band.</p><p>Von seiner Arbeit in der exp
 lodierenden frühen Punk-Musikszene Hollywoods mit seinen Bands The Plugz od
 er The Cruzados (heute Tito & Tarantula)\, über den Aufbau einer beachtlich
 en Schauspielkarriere bis hin zur Gründung von Fatima Records – Tito Larriv
 a verdient wahrlich den Titel «Renaissance Man»\, den ihm die LA Times verl
 iehen hat.</p><p>Wir freuen uns auf die 9. (!) Show von Tito & Tarantula in
  der legendären Mühle Hunziken!</p>
CATEGORIES:Rock
LOCATION:Mühle Hunziken
GEO:46.891205;7.541725
ORGANIZER;CN="JHG Shark":MAILTO:webmaster@jhgshark.ch
URL;VALUE=URI:https://artnoir.ch/events/event/tito-tarantula-2026-10-27/
ATTACH;FMTTYPE=image/jpeg:https://artnoir.ch/wp-content/uploads/2026/04/tito-tarantula-2026-10-27-c.-lolita-carroll-larriva.jpg
END:VEVENT
BEGIN:VTIMEZONE
TZID:Europe/Zurich
BEGIN:STANDARD
TZOFFSETFROM:+0200
TZOFFSETTO:+0100
DTSTART:20261025T010000
TZNAME:CET
END:STANDARD
END:VTIMEZONE
END:VCALENDAR
