BEGIN:VCALENDAR
VERSION:2.0
PRODID:-//ARTNOIR//NONSGML Events//EN
CALSCALE:GREGORIAN
X-ORIGINAL-URL:https://artnoir.ch/events/event/
X-WR-CALDESC:ARTNOIR - Events
BEGIN:VEVENT
UID:20260302T1847Z-1772477242.3427-EO-260916-1@10.0.9.48
STATUS:CONFIRMED
DTSTAMP:20260423T234206Z
CREATED:20260227T121801Z
LAST-MODIFIED:20260321T163418Z
DTSTART;TZID=Europe/Zurich:20260804T191500
DTEND;TZID=Europe/Zurich:20260804T235900
SUMMARY: This Will Destroy You
DESCRIPTION: This Will Destroy You\n+ Mascara\n„Young Mountain“ & „Another 
 Language“ Beide Alben in ganzer Länge.\nDer Bandname klingt wie eine dunkle
  Wolke\, die sich in Zeitlupe am Horizont auftürmt: THIS WILL DESTROY YOU! 
 Und so verhalten sich auch die cineastischen Post-Rock-Symphonien der Texan
 er\, die Titel tragen wie „The Mighty Rio Grande“ oder „God’s Teeth“. Oft b
 eginnen sie so leise\, dass man sie erst gar nicht bemerkt. ... [Read more.
 ..]
X-ALT-DESC;FMTTYPE=text/html: <p><a href="https://thiswilldestroyyoumusic.c
 om" rel="noopener" target="_blank">This Will Destroy You</a><br />+ <a href
 ="https://www.instagram.com/worshipmascara/" rel="noopener" target="_blank"
 >Mascara</a></p><p>"Young Mountain" & "Another Language" Beide Alben in gan
 zer Länge.</p><p>Der Bandname klingt wie eine dunkle Wolke\, die sich in Ze
 itlupe am Horizont auftürmt: <strong>THIS WILL DESTROY YOU</strong>! Und so
  verhalten sich auch die cineastischen Post-Rock-Symphonien der Texaner\, d
 ie Titel tragen wie „The Mighty Rio Grande“ oder „God’s Teeth“. Oft beginne
 n sie so leise\, dass man sie erst gar nicht bemerkt. Ein Synthesizer-Hauch
 \, funkelnde Gitarren\, eine traumhafte Melodie\, ein tänzelndes Schlagzeug
 . Manchmal bleibt es dabei\, und der Sturm bleibt aus. Doch manchmal braut 
 sich etwas zusammen. Die Wolke wird zur schwarzen Wand\, das Schlagzeug bäu
 mt sich auf\, die Gitarren tosen und die Ruhe weicht einer eruptiven Klangg
 ewalt aus Shoegaze\, Doom Rock und Ambient. Vergleiche mit Godspeed You! Bl
 ack Emperor oder Explosions In The Sky drängen sich auf\, aber die Überwält
 igungs-Musik von This Will Destroy You ist ein Erlebnis für sich\, vor alle
 m live. Ein Abenteuer\, das uns mitreisst aufs offene Meer\, in schwindeler
 regende Höhen\, in lodernde Abgründe – und uns am Ende geläutert zurückläss
 t.</p><p>Den Abend eröffnet die Pariser Alternative-Rock-Band <strong>MASCA
 RA</strong>. Grossartig\, wie hier die Gitarren wogen\, als lägen die Neunz
 iger keine dreissig Jährchen zurück. Zur Einstimmung gleich mal wieder My B
 loody Valentine\, Slowdive oder Dinosaur Jr. hören.</p>
CATEGORIES:Rock
LOCATION:Bogen F
GEO:47.384775;8.520808
ORGANIZER;CN="Nicole Wild":MAILTO:nic.wild@yahoo.com
URL;VALUE=URI:https://artnoir.ch/events/event/this-will-destroy-you-2026-08
 -04/
ATTACH;FMTTYPE=image/jpeg:https://artnoir.ch/wp-content/uploads/2026/02/this-will-destroy-you-2026-08-04-e1774110649503.jpg
END:VEVENT
BEGIN:VTIMEZONE
TZID:Europe/Zurich
BEGIN:DAYLIGHT
TZOFFSETFROM:+0100
TZOFFSETTO:+0200
DTSTART:20260329T010000
TZNAME:CEST
END:DAYLIGHT
END:VTIMEZONE
END:VCALENDAR
