BEGIN:VCALENDAR
VERSION:2.0
PRODID:-//ARTNOIR//NONSGML Events//EN
CALSCALE:GREGORIAN
X-ORIGINAL-URL:https://artnoir.ch/events/event/
X-WR-CALDESC:ARTNOIR - Events
BEGIN:VEVENT
UID:20260102T0626Z-1767335186.3883-EO-258364-1@10.0.9.48
STATUS:CONFIRMED
DTSTAMP:20260423T161818Z
CREATED:20251230T141457Z
LAST-MODIFIED:20260227T122524Z
DTSTART;TZID=Europe/Zurich:20260423T190000
DTEND;TZID=Europe/Zurich:20260423T220000
SUMMARY: The Vaccines
DESCRIPTION: The Vaccines\n+ GANS\nThe Vaccines\, die britische Indie-Rock-
 Band\, meldet sich mit ihrem unverwechselbaren Mix aus eingängigen Melodien
 \, energiegeladenem Gitarrensound und britischem Charme zurück. Seit ihrem 
 gefeierten Debüt What Did You Expect from The Vaccines? (2011) zählt die Ba
 nd zu den prägenden Stimmen der modernen Rockszene. Mit Hymnen wie If You W
 anna und Post Break-Up Sex eroberten sie internationale Charts und Festival
 bühnen.\nAktuell begeistern The Vaccines mit neuem Material\, ... [Read mor
 e...]
X-ALT-DESC;FMTTYPE=text/html: <p><a href="https://www.thevaccines.com/" rel
 ="noopener" target="_blank">The Vaccines</a><br />+ <a href="https://gansne
 t.os.fan/" rel="noopener" target="_blank">GANS</a></p><p>The Vaccines\, die
  britische Indie-Rock-Band\, meldet sich mit ihrem unverwechselbaren Mix au
 s eingängigen Melodien\, energiegeladenem Gitarrensound und britischem Char
 me zurück. Seit ihrem gefeierten Debüt What Did You Expect from The Vaccine
 s? (2011) zählt die Band zu den prägenden Stimmen der modernen Rockszene. M
 it Hymnen wie If You Wanna und Post Break-Up Sex eroberten sie internationa
 le Charts und Festivalbühnen.</p><p>Aktuell begeistern The Vaccines mit neu
 em Material\, das ihren typischen Sound – zwischen jugendlicher Euphorie un
 d melancholischer Reife – weiterentwickelt. Ob auf Platte oder live: The Va
 ccines liefern puren\, kompromisslosen Indie-Rock mit Herz\, Haltung und Ho
 oks\, die im Ohr bleiben. </p>
CATEGORIES:Pop,Rock
LOCATION:Kaufleuten
GEO:47.371556;8.536286
ORGANIZER;CN="Nicole Wild":MAILTO:nic.wild@yahoo.com
URL;VALUE=URI:https://artnoir.ch/events/event/the-vaccines-2026-04-23/
ATTACH;FMTTYPE=image/jpeg:https://artnoir.ch/wp-content/uploads/2025/12/the-vaccines-2026-04-23.jpg
END:VEVENT
BEGIN:VTIMEZONE
TZID:Europe/Zurich
BEGIN:DAYLIGHT
TZOFFSETFROM:+0100
TZOFFSETTO:+0200
DTSTART:20260329T010000
TZNAME:CEST
END:DAYLIGHT
END:VTIMEZONE
END:VCALENDAR
