BEGIN:VCALENDAR
VERSION:2.0
PRODID:-//ARTNOIR//NONSGML Events//EN
CALSCALE:GREGORIAN
X-ORIGINAL-URL:https://artnoir.ch/events/event/
X-WR-CALDESC:ARTNOIR - Events
BEGIN:VEVENT
UID:20260202T2252Z-1770072743.8839-EO-258393-1@10.0.9.48
STATUS:CONFIRMED
DTSTAMP:20260423T234333Z
CREATED:20260130T125218Z
LAST-MODIFIED:20260130T125252Z
DTSTART;TZID=Europe/Zurich:20260523T200000
DTEND;TZID=Europe/Zurich:20260523T235500
SUMMARY: The Undertones
DESCRIPTION: The Undertones\n+ Asphalt\n+ Roosevelt Sports Club + Old Boys 
 Unity – DJ sets\nThe Undertones – Punk Rock / GB\nFondés à Derry par 5 amis
  en 1975\, les Undertones ont depuis su s’imposer sur la scène punk rock in
 ternationale et figurent parmi les artistes irlandais les plus influents à 
 ce jour. Parti de répétitions dans leurs chambres et de vieux disques pour 
 apprendre\, ... [Read more...]
X-ALT-DESC;FMTTYPE=text/html: <p><a href="https://www.theundertones.com/" t
 arget="_blank" rel="noopener">The Undertones</a><br />+ <a href="https://as
 phalttoulouse.bandcamp.com/" target="_blank" rel="noopener">Asphalt</a><br 
 />+ Roosevelt Sports Club + Old Boys Unity – DJ sets</p><p><strong>The Unde
 rtones</strong> – Punk Rock / GB<br />Fondés à Derry par 5 amis en 1975\, l
 es Undertones ont depuis su s’imposer sur la scène punk rock internationale
  et figurent parmi les artistes irlandais les plus influents à ce jour. Par
 ti de répétitions dans leurs chambres et de vieux disques pour apprendre\, 
 le groupe a su taper juste dès le début avec le single “Teenage Kicks” en 1
 978. 2025 marque les 50 ans de la création du groupe\, après 6 albums studi
 os\, 1 album live et 9 singles\, et The Undertones sont de retour sur scène
 \, plus spectaculaires que jamais.</p><p><strong>Asphalt</strong> – Punk / 
 FR<br />Asphalt propose du punk optimiste comme un train lancé sur une pist
 e de bobsleigh\, piochant dans les codes zone et flipper des années 70. Un 
 mélange explosif entre les compilations de Killed by Death et belcanto mixt
 e.</p><p><strong>Roosevelt Sports Club + Old Boys Unity – DJ sets</strong><
 br />Une soirée placée sous le signe de la collaboration Rez x Roosevelt Sp
 orts Club pour célébrer comme il se doit le premier anniversaire de la bran
 che agitée de Roosevelt Records! Collectif genevois\, le RSC met en avant d
 es groupes DIY punk\, rock’n’roll\, Oi! et hardcore sélectionnés pour leurs
  messages et la force de leur performances live. Le collectif sera aux plat
 ines\, en alternance avec Old Boys Unity pour le warm up et l’after.</p>
CATEGORIES:Punk
LOCATION:Le Rez - Usine
GEO:46.203977;6.136005
ORGANIZER;CN="JHG Shark":MAILTO:webmaster@jhgshark.ch
URL;VALUE=URI:https://artnoir.ch/events/event/the-undertones-2026-05-23/
ATTACH;FMTTYPE=image/jpeg:https://artnoir.ch/wp-content/uploads/2026/01/the-undertones-2026-05-23.jpg
END:VEVENT
BEGIN:VTIMEZONE
TZID:Europe/Zurich
BEGIN:DAYLIGHT
TZOFFSETFROM:+0100
TZOFFSETTO:+0200
DTSTART:20260329T010000
TZNAME:CEST
END:DAYLIGHT
END:VTIMEZONE
END:VCALENDAR
