BEGIN:VCALENDAR
VERSION:2.0
PRODID:-//ARTNOIR//NONSGML Events//EN
CALSCALE:GREGORIAN
X-ORIGINAL-URL:https://artnoir.ch/events/event/
X-WR-CALDESC:ARTNOIR - Events
BEGIN:VEVENT
UID:20251121T1336Z-1763732193.3212-EO-256345-1@10.0.9.48
STATUS:CONFIRMED
DTSTAMP:20260423T234508Z
CREATED:20251114T152643Z
LAST-MODIFIED:20260306T131504Z
DTSTART;TZID=Europe/Zurich:20260414T191500
DTEND;TZID=Europe/Zurich:20260414T235900
SUMMARY: The Twilight Sad
DESCRIPTION: The Twilight Sad\n+ For Marcy\nGlasgow\, dieser Bastion des In
 die-Pop und Gitarren-Rock\, haben wir so manche Lieblingsband zu verdanken\
 , darunter Belle & Sebastian\, Franz Ferdinand\, Teenage Fanclub\, The Jesu
 s And Mary Chain oder Mogwai. Auch THE TWILIGHT SAD gehören in die Glasgow 
 Hall of Fame. Die Songs auf ihrem ersten Album „Fourteen Autumns & Fifteen 
 Winters“ (2014) waren\, der Titel verrät es\, Kathedralen der Melancholie. 
 ... [Read more...]
X-ALT-DESC;FMTTYPE=text/html: <p><a href="https://thetwilightsad.com/" rel=
 "noopener" target="_blank">The Twilight Sad</a><br />+ <a href="https://for
 marcy.co.uk/" rel="noopener" target="_blank">For Marcy</a></p><p>Glasgow\, 
 dieser Bastion des Indie-Pop und Gitarren-Rock\, haben wir so manche Liebli
 ngsband zu verdanken\, darunter Belle & Sebastian\, Franz Ferdinand\, Teena
 ge Fanclub\, The Jesus And Mary Chain oder Mogwai. Auch <strong>THE TWILIGH
 T SAD</strong> gehören in die Glasgow Hall of Fame. Die Songs auf ihrem ers
 ten Album „Fourteen Autumns & Fifteen Winters“ (2014) waren\, der Titel ver
 rät es\, Kathedralen der Melancholie. Mit langen\, schlecht beleuchteten Gä
 ngen\, flackernden Kerzen und unmöblierten Sälen\, durch die sich der Trock
 ennebel wälzte und an deren Wänden Andy MacFarlanes Shoegaze-Gitarren wie E
 chos aus den Katakomben der Achtziger widerhallten. In den letzten Jahren w
 urde es still um die Band\, doch neulich – wie ein Licht im Turmfenster ein
 er verlassenen Burg – liess die Nachricht aufhorchen\, dass sich The Twilig
 ht Sad mit Robert Smith von The Cure im Studio befänden\, um einen Song nam
 ens „Waiting For The Phone Call“ aufzunehmen. Was es mit diesem Anruf auf s
 ich hat\, erfahren wir hoffentlich am Konzert der Schotten in unserer eigen
 en Hall of Fame im Wipkinger Viadukt: dem Bogen F.</p><p>Kamran Kaur aus Br
 ighton war die songschreibende Kraft hinter dem Musiker*innen-Kollektiv Att
 icOmatic. Für ihr Soloprojekt <strong>FOR MARCY</strong> schickt sie ihre m
 elodiösen Nylon-Gitarren-Pop-Songs elektronisch verfremdet auf neue Abenteu
 er.</p>
CATEGORIES:Pop,Rock
LOCATION:Bogen F
GEO:47.384775;8.520808
ORGANIZER;CN="Nicole Wild":MAILTO:nic.wild@yahoo.com
URL;VALUE=URI:https://artnoir.ch/events/event/the-twilight-sad-2026-04-14/
ATTACH;FMTTYPE=image/jpeg:https://artnoir.ch/wp-content/uploads/2025/11/the-twilight-sad-2026-04-14.jpg
END:VEVENT
BEGIN:VTIMEZONE
TZID:Europe/Zurich
BEGIN:DAYLIGHT
TZOFFSETFROM:+0100
TZOFFSETTO:+0200
DTSTART:20260329T010000
TZNAME:CEST
END:DAYLIGHT
END:VTIMEZONE
END:VCALENDAR
