BEGIN:VCALENDAR
VERSION:2.0
PRODID:-//ARTNOIR//NONSGML Events//EN
CALSCALE:GREGORIAN
X-ORIGINAL-URL:https://artnoir.ch/events/event/
X-WR-CALDESC:ARTNOIR - Events
BEGIN:VEVENT
UID:20260205T1241Z-1770295304.9978-EO-259632-1@10.0.9.48
STATUS:CONFIRMED
DTSTAMP:20260423T215503Z
CREATED:20260203T221754Z
LAST-MODIFIED:20260327T120050Z
DTSTART;TZID=Europe/Zurich:20260414T190000
DTEND;TZID=Europe/Zurich:20260414T220000
SUMMARY: The Slow Show
DESCRIPTION: The Slow Show\nDas 10-jährige «White Water» Jubiläum – live im
  Kaufleuten\nThe Slow Show laden 2026 zu einem ganz besonderen Konzertmomen
 t ein: Zum zehnjährigen Jubiläum ihres Debütalbums «White Water» lassen sie
  die zeitlosen Songs in neuem Licht erklingen – berührender\, intensiver un
 d näher denn je. Ihre Mischung aus melancholischem Indie\, orchestraler Wei
 te und Rob Goodwins unverkennbarer Stimme entfaltet live eine emotionale Wu
 cht\, die unter die Haut geht. ... [Read more...]
X-ALT-DESC;FMTTYPE=text/html: <p><a href="https://www.theslowshow.co.uk" re
 l="noopener" target="_blank">The Slow Show</a></p><p><strong>Das 10-jährige
  «White Water» Jubiläum - live im Kaufleuten</strong></p><p>The Slow Show l
 aden 2026 zu einem ganz besonderen Konzertmoment ein: Zum zehnjährigen Jubi
 läum ihres Debütalbums «White Water» lassen sie die zeitlosen Songs in neue
 m Licht erklingen – berührender\, intensiver und näher denn je. Ihre Mischu
 ng aus melancholischem Indie\, orchestraler Weite und Rob Goodwins unverken
 nbarer Stimme entfaltet live eine emotionale Wucht\, die unter die Haut geh
 t. Wer Musik liebt\, die leise beginnt und sich ganz tief ins Herz spielt\,
  sollte sich diesen Abend nicht entgehen lassen – ein seltenes Konzerterleb
 nis voller Sehnsucht\, Schönheit und Atmosphäre. Zum ersten Mal und live im
  Kaufleuten Zürich.</p><p>19:00 Uhr Saalöffnung und Abendkasse<br />20:00 U
 hr Konzertbeginn (keine Vorgruppe\, keine Konzertpause)<br />22:00 Uhr Konz
 ertende</p>
CATEGORIES:Pop,Rock
LOCATION:Kaufleuten
GEO:47.371556;8.536286
ORGANIZER;CN="Nicole Wild":MAILTO:nic.wild@yahoo.com
URL;VALUE=URI:https://artnoir.ch/events/event/the-slow-show-2026-04-14/
ATTACH;FMTTYPE=image/jpeg:https://artnoir.ch/wp-content/uploads/2026/02/the-slow-show-2026-04-14-e1774612824347.jpg
END:VEVENT
BEGIN:VTIMEZONE
TZID:Europe/Zurich
BEGIN:DAYLIGHT
TZOFFSETFROM:+0100
TZOFFSETTO:+0200
DTSTART:20260329T010000
TZNAME:CEST
END:DAYLIGHT
END:VTIMEZONE
END:VCALENDAR
