BEGIN:VCALENDAR
VERSION:2.0
PRODID:-//ARTNOIR//NONSGML Events//EN
CALSCALE:GREGORIAN
X-ORIGINAL-URL:https://artnoir.ch/events/event/
X-WR-CALDESC:ARTNOIR - Events
BEGIN:VEVENT
UID:20260205T1241Z-1770295294.956-EO-259645-1@10.0.9.48
STATUS:CONFIRMED
DTSTAMP:20260423T201926Z
CREATED:20260204T190309Z
LAST-MODIFIED:20260204T191329Z
DTSTART;TZID=Europe/Zurich:20261102T190000
DTEND;TZID=Europe/Zurich:20261102T230000
SUMMARY: The Sisters Of Mercy
DESCRIPTION: The Sisters Of Mercy\nDie 1980 in Leeds gegründeten The Sister
 s Of Mercy wurden zwar nach einem Song von Leonard Cohen benannt\, liessen 
 sich jedoch von Grössen wie David Bowie\, Slade und The Velvet Underground 
 inspirieren. Klanglich lassen sie sich am ehesten mit The Stooges oder Motö
 rhead vergleichen. Deren Einfluss verlieh den Sisters einen eigenständigen 
 Sound\, der sich deutlich von anderen Bands der Post-Punk-Ära abhob.\nObwoh
 l seit 1990 kein neues Album erschienen ist\, ... [Read more...]
X-ALT-DESC;FMTTYPE=text/html: <p><a href="https://www.the-sisters-of-mercy.
 com/" rel="noopener" target="_blank">The Sisters Of Mercy</a></p><p>Die 198
 0 in Leeds gegründeten The Sisters Of Mercy wurden zwar nach einem Song von
  Leonard Cohen benannt\, liessen sich jedoch von Grössen wie David Bowie\, 
 Slade und The Velvet Underground inspirieren. Klanglich lassen sie sich am 
 ehesten mit The Stooges oder Motörhead vergleichen. Deren Einfluss verlieh 
 den Sisters einen eigenständigen Sound\, der sich deutlich von anderen Band
 s der Post-Punk-Ära abhob.</p><p>Obwohl seit 1990 kein neues Album erschien
 en ist\, zeigte sich die Band in den letzten Jahren äusserst produktiv und 
 präsentierte während ihrer Live-Auftritte auch neues Material. Dieses soll 
 die stärksten Elemente der drei klassischen LPs widerspiegeln und gleichzei
 tig einen zeitgemässen Sound tragen\, der dem Ethos der Sisters folgt\, sic
 h «immer weiter vorwärts zu bewegen».  </p><p>Seit über vier Jahrzehnten si
 nd The Sisters Of Mercy eine ikonische Kraft der Underground-Musik: Sie def
 inieren und trotzen zugleich zahlreichen Subgenres des Rock’n’Rolls. Ihre M
 ischung aus Punk-Psychedelia\, Metal\, Dance-Beats und kehligen Growls hat 
 bereits mehrere Generationen in ihren Bann gezogen. Auf der Bühne verbinden
  sie eine filmreife Lichtshow mit einer Setlist aus grossen Hits\, weniger 
 bekannten Songs und gefeierten neuen Stücken – das Rezept für einen unverge
 sslichen Abend.</p><p>Türöffnung: 19:00<br />Support: 19:30<br />The Sister
 s of Mercy: 20:30</p>
CATEGORIES:Rock,Wave
LOCATION:X-TRA
GEO:47.384261;8.532491
ORGANIZER;CN="JHG Shark":MAILTO:webmaster@jhgshark.ch
URL;VALUE=URI:https://artnoir.ch/events/event/the-sisters-of-mercy-2026-11-
 02/
ATTACH;FMTTYPE=image/jpeg:https://artnoir.ch/wp-content/uploads/2026/02/the-sisters-of-mercy-2026-11-02.jpg
END:VEVENT
BEGIN:VTIMEZONE
TZID:Europe/Zurich
BEGIN:STANDARD
TZOFFSETFROM:+0200
TZOFFSETTO:+0100
DTSTART:20261025T010000
TZNAME:CET
END:STANDARD
END:VTIMEZONE
END:VCALENDAR
