BEGIN:VCALENDAR
VERSION:2.0
PRODID:-//ARTNOIR//NONSGML Events//EN
CALSCALE:GREGORIAN
X-ORIGINAL-URL:https://artnoir.ch/events/event/
X-WR-CALDESC:ARTNOIR - Events
BEGIN:VEVENT
UID:20260205T1241Z-1770295295.5161-EO-259647-1@10.0.9.48
STATUS:CONFIRMED
DTSTAMP:20260423T234652Z
CREATED:20260204T191111Z
LAST-MODIFIED:20260204T191209Z
DTSTART;TZID=Europe/Zurich:20261101T183000
DTEND;TZID=Europe/Zurich:20261101T230000
SUMMARY: The Sisters Of Mercy
DESCRIPTION: The Sisters Of Mercy\nSeit über vierzig Jahren nehmen The Sist
 ers of Mercy eine Sonderstellung in der Underground-Musik ein. Sie haben za
 hlreiche Rock-Subgenres geprägt\, herausgefordert und bewusst zurückgewiese
 n. \nDie Band verbindet Goth Rock\, psychedelischen Punk\, Metal\, Dance-Be
 ats und gutturales Grollen – alles verdichtet sich unter der tiefen\, unver
 kennbaren Stimme von Andrew Eldritch.  ... [Read more...]
X-ALT-DESC;FMTTYPE=text/html: <p><a href="https://www.the-sisters-of-mercy.
 com/" rel="noopener" target="_blank">The Sisters Of Mercy</a></p><p>Seit üb
 er vierzig Jahren nehmen The Sisters of Mercy eine Sonderstellung in der Un
 derground-Musik ein. Sie haben zahlreiche Rock-Subgenres geprägt\, herausge
 fordert und bewusst zurückgewiesen. </p><p>Die Band verbindet Goth Rock\, p
 sychedelischen Punk\, Metal\, Dance-Beats und gutturales Grollen – alles ve
 rdichtet sich unter der tiefen\, unverkennbaren Stimme von Andrew Eldritch.
  </p>
CATEGORIES:Rock,Wave
LOCATION:Fri-Son
GEO:46.795008;7.151619
ORGANIZER;CN="JHG Shark":MAILTO:webmaster@jhgshark.ch
URL;VALUE=URI:https://artnoir.ch/events/event/the-sisters-of-mercy-2026-11-
 01/
ATTACH;FMTTYPE=image/jpeg:https://artnoir.ch/wp-content/uploads/2026/02/the-sisters-of-mercy-2026-11-02.jpg
END:VEVENT
BEGIN:VTIMEZONE
TZID:Europe/Zurich
BEGIN:STANDARD
TZOFFSETFROM:+0200
TZOFFSETTO:+0100
DTSTART:20261025T010000
TZNAME:CET
END:STANDARD
END:VTIMEZONE
END:VCALENDAR
