BEGIN:VCALENDAR
VERSION:2.0
PRODID:-//ARTNOIR//NONSGML Events//EN
CALSCALE:GREGORIAN
X-ORIGINAL-URL:https://artnoir.ch/events/event/
X-WR-CALDESC:ARTNOIR - Events
BEGIN:VEVENT
UID:20260205T1243Z-1770295398.1515-EO-259096-1@10.0.9.48
STATUS:CONFIRMED
DTSTAMP:20260423T221634Z
CREATED:20260128T090017Z
LAST-MODIFIED:20260306T132252Z
DTSTART;TZID=Europe/Zurich:20260509T200000
DTEND;TZID=Europe/Zurich:20260509T235500
SUMMARY: The New Roses
DESCRIPTION: The New Roses\n+ Black Diamonds\nThe New Roses zählen zu den e
 rfolgreichsten deutschen Rockacts und sorgten mit ihren Alben und Singles s
 eit Jahren für Chartstürme und Rotationen bei Rocksendern in Deutschland un
 d UK. Nach Auftritten auf internationalen Festivals wie Wacken\, Hellfest o
 der Sweden Rock und Shows u. a. mit Kiss\, Aerosmith\, Foreigner und den Sc
 orpions kommen sie nun nach Buchs – bereit für eine energiegeladene Livesho
 w! ... [Read more...]
X-ALT-DESC;FMTTYPE=text/html: <p><a href="https://www.thenewroses.com/" rel
 ="noopener" target="_blank">The New Roses</a><br />+ <a href="https://www.b
 lackdiamondsrock.com/" rel="noopener" target="_blank">Black Diamonds</a></p
 ><p><strong>The New Roses</strong> zählen zu den erfolgreichsten deutschen 
 Rockacts und sorgten mit ihren Alben und Singles seit Jahren für Chartstürm
 e und Rotationen bei Rocksendern in Deutschland und UK. Nach Auftritten auf
  internationalen Festivals wie Wacken\, Hellfest oder Sweden Rock und Shows
  u. a. mit Kiss\, Aerosmith\, Foreigner und den Scorpions kommen sie nun na
 ch Buchs – bereit für eine energiegeladene Liveshow!</p><p>Aus dem St. Gall
 er Rheintal kommen die <strong>Black Diamonds</strong>: eine wilde Mischung
  aus harten Riffs\, eingängigen Hooks und 80er-Attitude. Mit europaweiten T
 ourneen\, starken Reviews und ihrem aktuellen Album Destination Paradise (P
 latz 3 Schweizer Charts) liefern sie High-Energy-Hardrock vom Feinsten.</p>
 <p>Zwei Bands. Ein Abend. Volle Rockpower.</p><p>Tickets sichern – next sto
 p: Paradise!</p><p>Timetable (ohne Gewähr):<br />Black Diamonds: ab 20:45 U
 hr<br />The New Roses: ab 22:00 Uhr</p><p><span style="color: #c86079\;">Ei
 n <strong>ARTNOIR</strong> Partner-Event</span></p>
CATEGORIES:Partner-Event,Rock
LOCATION:Krempel
GEO:47.168199;9.469000
ORGANIZER;CN="JHG Shark":MAILTO:webmaster@jhgshark.ch
URL;VALUE=URI:https://artnoir.ch/events/event/the-new-roses-2026-05-09/
ATTACH;FMTTYPE=image/png:https://artnoir.ch/wp-content/uploads/2026/01/the-new-roses-2026-05-07.png
END:VEVENT
BEGIN:VTIMEZONE
TZID:Europe/Zurich
BEGIN:DAYLIGHT
TZOFFSETFROM:+0100
TZOFFSETTO:+0200
DTSTART:20260329T010000
TZNAME:CEST
END:DAYLIGHT
END:VTIMEZONE
END:VCALENDAR
