BEGIN:VCALENDAR
VERSION:2.0
PRODID:-//ARTNOIR//NONSGML Events//EN
CALSCALE:GREGORIAN
X-ORIGINAL-URL:https://artnoir.ch/events/event/
X-WR-CALDESC:ARTNOIR - Events
BEGIN:VEVENT
UID:20260201T2111Z-1769980318.5915-EO-259095-1@10.0.9.48
STATUS:CONFIRMED
DTSTAMP:20260423T234523Z
CREATED:20260128T090021Z
LAST-MODIFIED:20260128T185415Z
DTSTART;TZID=Europe/Zurich:20260508T190000
DTEND;TZID=Europe/Zurich:20260508T234500
SUMMARY: The New Roses
DESCRIPTION: The New Roses\n+ Black Diamonds\nDie etablierten deutschen Har
 d Rocker THE NEW ROSES haben ihr neues Album „ATTRACTED TO DANGER“ am 4. Ok
 tober 2024 über Napalm Records veröffentlicht.\nZum Album Release startete 
 am 16.10.24 in London die „ATTRACTED TO DANGER TOUR“. Die Tour lief überaus
  erfolgreich und viele der Shows waren ausverkauft sowohl Großbritannien wi
 e auch in Deutschland. Auch der zweite Teil der Tour\, ... [Read more...]
X-ALT-DESC;FMTTYPE=text/html: <p><a href="https://www.thenewroses.com/" rel
 ="noopener" target="_blank">The New Roses</a><br />+ <a href="https://www.b
 lackdiamondsrock.com/" rel="noopener" target="_blank">Black Diamonds</a></p
 ><p>Die etablierten deutschen Hard Rocker <strong>THE NEW ROSES</strong> ha
 ben ihr neues Album „ATTRACTED TO DANGER“ am 4. Oktober 2024 über Napalm Re
 cords veröffentlicht.</p><p>Zum Album Release startete am 16.10.24 in Londo
 n die „ATTRACTED TO DANGER TOUR“. Die Tour lief überaus erfolgreich und vie
 le der Shows waren ausverkauft sowohl Großbritannien wie auch in Deutschlan
 d. Auch der zweite Teil der Tour\, die im Frühjahr dieses Jahr stattgefunde
 n hat\, brachte der Band erneut volle Häuser! Nun dürfen sich die Fans auf 
 weitere Shows freuen. THE NEW ROSES kündigen weitere Shows für den Herbst 2
 025 in UK und Deutschland an.</p><p>Bereits früh in ihrer Karriere konnten 
 THE NEW ROSES für internationale Aufmerksamkeit sorgen\, als ihr Song „With
 out a Trace“ in der Kult-US-Serie Sons of Anarchy zu hören war. Im Laufe de
 r Jahre haben sie sich als feste und beim Publikum beliebte Größe im intern
 ationalen Rockradiosender etabliert\, aber ihre unzähmbare Rock’n’Roll-Ener
 gie ist am besten live zu erleben. Sie waren nicht nur die erste deutsche B
 and\, die 2018 und 2019 auf der KISS Kruise auftrat\, sondern auch Support 
 bei den Deutschland Shows der Rock-Ikonen. Außerdem teilten sie sich bereit
 s mit weiteren beeindruckenden Genregrößen die Bühne\, wie den legendären A
 erosmith\, Foreigner und den deutschen Hard Rock-Urgesteinen Scorpions. Im 
 Jahr 2023 begrüßten sie den Gitarristen Norman Bites zurück in ihren Reihen
  und als Quintett vereint\, sind THE NEW ROSES zweifellos auf direktem Weg 
 an die Spitze des Hard Rock!</p><p>Special Guest: <strong>BLACK DIAMONDS</s
 trong></p><p><span style="color: #c86079\;">Ein <strong>ARTNOIR</strong> Pa
 rtner-Event</span></p>
CATEGORIES:Partner-Event,Rock
LOCATION:Chillout
GEO:47.301825;8.312813
ORGANIZER;CN="JHG Shark":MAILTO:webmaster@jhgshark.ch
URL;VALUE=URI:https://artnoir.ch/events/event/the-new-roses-2026-05-08/
ATTACH;FMTTYPE=image/png:https://artnoir.ch/wp-content/uploads/2026/01/the-new-roses-2026-05-07.png
END:VEVENT
BEGIN:VTIMEZONE
TZID:Europe/Zurich
BEGIN:DAYLIGHT
TZOFFSETFROM:+0100
TZOFFSETTO:+0200
DTSTART:20260329T010000
TZNAME:CEST
END:DAYLIGHT
END:VTIMEZONE
END:VCALENDAR
