BEGIN:VCALENDAR
VERSION:2.0
PRODID:-//ARTNOIR//NONSGML Events//EN
CALSCALE:GREGORIAN
X-ORIGINAL-URL:https://artnoir.ch/events/event/
X-WR-CALDESC:ARTNOIR - Events
BEGIN:VEVENT
UID:20260131T2239Z-1769899190.3875-EO-259094-1@10.0.9.48
STATUS:CONFIRMED
DTSTAMP:20260423T215512Z
CREATED:20260128T090034Z
LAST-MODIFIED:20260206T142940Z
DTSTART;TZID=Europe/Zurich:20260507T190000
DTEND;TZID=Europe/Zurich:20260507T235500
SUMMARY: The New Roses
DESCRIPTION: The New Roses\n+ Black Diamonds\nBereits früh in ihrer Karrier
 e konnten THE NEW ROSES für internationale Aufmerksamkeit sorgen\, als ihr 
 Song „Without a Trace“ in der Kult-US-Serie Sons of Anarchy zu hören war. I
 m Laufe der Jahre haben sie sich als feste und beim Publikum beliebte Größe
  im internationalen Rockradiosender etabliert\, aber ihre unzähmbare Rock’n
 ’Roll-Energie ist am besten live zu erleben. Sie waren nicht nur die erste 
 deutsche Band\, ... [Read more...]
X-ALT-DESC;FMTTYPE=text/html: <p><a href="https://www.thenewroses.com/" rel
 ="noopener" target="_blank">The New Roses</a><br />+ <a href="https://www.b
 lackdiamondsrock.com/" rel="noopener" target="_blank">Black Diamonds</a></p
 ><p>Bereits früh in ihrer Karriere konnten THE NEW ROSES für internationale
  Aufmerksamkeit sorgen\, als ihr Song „Without a Trace“ in der Kult-US-Seri
 e Sons of Anarchy zu hören war. Im Laufe der Jahre haben sie sich als feste
  und beim Publikum beliebte Größe im internationalen Rockradiosender etabli
 ert\, aber ihre unzähmbare Rock’n’Roll-Energie ist am besten live zu erlebe
 n. Sie waren nicht nur die erste deutsche Band\, die 2018 und 2019 auf der 
 KISS Kruise auftrat\, sondern auch Support bei den Deutschland Shows der Ro
 ck-Ikonen. Außerdem teilten sie sich bereits mit weiteren beeindruckenden G
 enregrößen die Bühne\, wie den legendären Aerosmith\, Foreigner und den deu
 tschen Hard Rock-Urgesteinen Scorpions. Im Jahr 2023 begrüßten sie den Gita
 rristen Norman Bites zurück in ihren Reihen und als Quintett vereint\, sind
  THE NEW ROSES zweifellos auf direktem Weg an die Spitze des Hard Rock!</p>
 <p>19:00	Türöffnung<br />19:45	Black Diamonds<br />21:00	The New Roses</p><
 p><span style="color: #c86079\;">Ein <strong>ARTNOIR</strong> Partner-Event
 </span></p>
CATEGORIES:Partner-Event,Rock
LOCATION:OldCapitol
GEO:47.211013;7.789755
ORGANIZER;CN="JHG Shark":MAILTO:webmaster@jhgshark.ch
URL;VALUE=URI:https://artnoir.ch/events/event/the-new-roses-2026-05-07/
ATTACH;FMTTYPE=image/png:https://artnoir.ch/wp-content/uploads/2026/01/the-new-roses-2026-05-07.png
END:VEVENT
BEGIN:VTIMEZONE
TZID:Europe/Zurich
BEGIN:DAYLIGHT
TZOFFSETFROM:+0100
TZOFFSETTO:+0200
DTSTART:20260329T010000
TZNAME:CEST
END:DAYLIGHT
END:VTIMEZONE
END:VCALENDAR
