BEGIN:VCALENDAR
VERSION:2.0
PRODID:-//ARTNOIR//NONSGML Events//EN
CALSCALE:GREGORIAN
X-ORIGINAL-URL:https://artnoir.ch/events/event/
X-WR-CALDESC:ARTNOIR - Events
BEGIN:VEVENT
UID:20260125T1325Z-1769347528.9526-EO-259049-1@10.0.9.48
STATUS:CONFIRMED
DTSTAMP:20260423T232550Z
CREATED:20260123T145556Z
LAST-MODIFIED:20260123T145724Z
DTSTART;TZID=Europe/Zurich:20261102T190000
DTEND;TZID=Europe/Zurich:20261102T230000
SUMMARY: The Hardkiss
DESCRIPTION: The Hardkiss\nIm Laufe der Jahre haben The HARDKISS ausgedehnt
 e Tourneen durch die Ukraine\, Europa und die Vereinigten Staaten unternomm
 en und dabei eine treue weltweite Fangemeinde gewonnen. Im Jahr 2023 war Ju
 lia Sanina Co-Moderatorin des Eurovision Song Contest in Liverpool. The HAR
 DKISS hatten die Ehre\, bei der Eröffnungszeremonie aufzutreten – ein ikoni
 scher Moment für die Band.\nÜber ihre Rolle als Frontfrau hinaus war Julia 
 Sanina Jurorin bei «The Voice» und «The X Factor»\, ... [Read more...]
X-ALT-DESC;FMTTYPE=text/html: <p><a href="https://www.thehardkiss.com/" tar
 get="_blank" rel="noopener">The Hardkiss</a></p><p>Im Laufe der Jahre haben
  The HARDKISS ausgedehnte Tourneen durch die Ukraine\, Europa und die Verei
 nigten Staaten unternommen und dabei eine treue weltweite Fangemeinde gewon
 nen. Im Jahr 2023 war Julia Sanina Co-Moderatorin des Eurovision Song Conte
 st in Liverpool. The HARDKISS hatten die Ehre\, bei der Eröffnungszeremonie
  aufzutreten – ein ikonischer Moment für die Band.</p><p>Über ihre Rolle al
 s Frontfrau hinaus war Julia Sanina Jurorin bei «The Voice» und «The X Fact
 or»\, lieh Filmfiguren in «S.T.A.L.K.E.R. 2»\, «Trolls World Tour» und «Die
  Schlümpfe: Das verlorene Dorf» ihre Stimme und erreichte 2020 das Finale v
 on «Strictly Come Dancing».</p><p>Als 2022 der Krieg ausbrach\, engagierten
  sich The HARDKISS verstärkt in sozialen und wohltätigen Projekten und widm
 eten sich der Unterstützung des ukrainischen Volkes durch ihre Musik. Julia
  trat zudem bei zahlreichen internationalen Veranstaltungen als eindrucksvo
 lle kulturelle Botschafterin auf.</p><p>Am 13. Juni 2025 veröffentlichten T
 he HARDKISS ihre neueste Single «Crush». Dies markiert die erste Veröffentl
 ichung nach einer kreativen Pause\, in der die Band an ihrem kommenden Stud
 ioalbum arbeitete\, das 2026 erscheinen soll. Die neue Platte verspricht ei
 nen mutigeren\, dunkleren und härteren Sound und präsentiert The HARDKISS i
 n all ihrer rohen\, kompromisslosen Kraft.</p><p>Im Jahr 2026 feiert die Ba
 nd nicht nur die Veröffentlichung ihres neuen Albums\, sondern auch ihr 15-
 jähriges Jubiläum mit einer komplett neuen Liveshow. Bereits bestätigt ist 
 ihr Auftritt auf der Main Stage des Wacken Open Air 2026 sowie als Headline
 r einer grossen Europatournee – das bislang kraftvollste Jahr der Band steh
 t bevor.</p>
CATEGORIES:Rock
LOCATION:Dynamo
GEO:47.383312;8.539341
ORGANIZER;CN="Christian Wölbitsch":MAILTO:info@cd-photography.net
URL;VALUE=URI:https://artnoir.ch/events/event/the-hardkiss-2026-11-02/
ATTACH;FMTTYPE=image/png:https://artnoir.ch/wp-content/uploads/2026/01/The-Hardkiss-2026-11-02.png
END:VEVENT
BEGIN:VTIMEZONE
TZID:Europe/Zurich
BEGIN:STANDARD
TZOFFSETFROM:+0200
TZOFFSETTO:+0100
DTSTART:20261025T010000
TZNAME:CET
END:STANDARD
END:VTIMEZONE
END:VCALENDAR
