BEGIN:VCALENDAR
VERSION:2.0
PRODID:-//ARTNOIR//NONSGML Events//EN
CALSCALE:GREGORIAN
X-ORIGINAL-URL:https://artnoir.ch/events/event/
X-WR-CALDESC:ARTNOIR - Events
BEGIN:VEVENT
UID:20260320T2239Z-1774046347.4199-EO-262035-1@10.0.9.48
STATUS:CONFIRMED
DTSTAMP:20260423T234440Z
CREATED:20260319T132259Z
LAST-MODIFIED:20260319T132351Z
DTSTART;TZID=Europe/Zurich:20260522T190000
DTEND;TZID=Europe/Zurich:20260522T233500
SUMMARY: The Gathering
DESCRIPTION: The Gathering\n+ Lizzard\nTHE GATHERING MIT ANNEKE VAN GIERSBE
 RGEN\nDie holländischen Erfolgsrocker The Gathering feiern auf der „Mandyli
 on 30th Anniversary Tour“ ihr bahnbrechendes 95er-Album im alten Line-Up mi
 t Sängerin Anneke Van Giersbergen. Aufgepasst: Es wird keine Reunion geben\
 , sondern nur ein paar ausgesuchte exklusive Shows\, bei denen die Band Son
 gs von „Mandylion“ und weitere Klassiker aus der Anneke-Ära zelebrieren wir
 d. Ein Muss für alle Fans! ... [Read more...]
X-ALT-DESC;FMTTYPE=text/html: <p><a href="https://gathering.nl/" rel="noope
 ner" target="_blank">The Gathering</a><br />+ <a href="https://lizzard.fr/"
  rel="noopener" target="_blank">Lizzard</a></p><p><strong>THE GATHERING MIT
  ANNEKE VAN GIERSBERGEN</strong></p><p>Die holländischen Erfolgsrocker The 
 Gathering feiern auf der „Mandylion 30th Anniversary Tour“ ihr bahnbrechend
 es 95er-Album im alten Line-Up mit Sängerin Anneke Van Giersbergen. Aufgepa
 sst: Es wird keine Reunion geben\, sondern nur ein paar ausgesuchte exklusi
 ve Shows\, bei denen die Band Songs von „Mandylion“ und weitere Klassiker a
 us der Anneke-Ära zelebrieren wird. Ein Muss für alle Fans!</p><p>Ursprüngl
 ich wollten The Gathering im August 2025 lediglich zwei Jubiläumsshows zum 
 30. Geburtstag des Albums „Mandylion“ im Club Doornroosje in Nijmegen spiel
 en. Im 1100-Zuschauer-Lokal\, in dem vor zehn Jahren auch das Konzert-Doppe
 lalbum „TG25: Live at Doornroosje“ aufgenommen wurde. Die Nachfrage nach Ka
 rten für dieses 2-Night-Only-Spektakel mit der ehemaligen Sängerin Anneke V
 an Giersbergen und dem Ur-Gitarristen Jelmer Wiersma war derart gross\, das
 s drei weitere Shows angekündigt wurden. Die fünf Konzerte waren innert kür
 zester Zeit restlos ausverkauft! So wurde beschlossen\, für 2026 weitere Da
 ten zu buchen. Um allen Gerüchten den Wind aus den Segeln zu nehmen wurde s
 ofort klargestellt: Dies wird keine Reunion-Tour\, sondern lediglich ein pa
 ar ausgesuchte Shows\, um den 30. Geburtstag des Albums mit der Originalbes
 etzung zu feiern. Wir sind natürlich hocherfreut\, dass das Z7 eines dieser
  exklusiven Konzerte hosten darf. Zur Einstimmung auf die Events werden im 
 September verschiedene Jubiläumseditionen des Albums erscheinen. „Mandylion
 “ war die erste Veröffentlichung mit Anneke Van Giesbergen\, die ein Jahr z
 uvor zur Band gestossen war. Mit der neuen Sängerin wurde ein Deal beim deu
 tschen Label Century Media abgeschlossen und das erste gemeinsame Werk brac
 hte schliesslich den Durchbruch für die Band. Platz 20 und Gold-Auszeichnun
 g in den Niederlanden\, gefolgt von Tourneen in ganz Holland\, Belgien und 
 Deutschland. Der Rest ist Geschichte. Auf der „Mandylion 30th Anniversary T
 our“ wird die temporär wiedervereinte Formation neben den Songs des Jubiläu
 msalbums auch weitere Titel aus der Anneke-Phase spielen. Alte Fans können 
 in Erinnerungen schwelgen und die jüngere Generation hat die einmalige Gele
 genheit\, das Feeling eines Konzertes aus der Zeit von 1994-2007 zu erleben
 \, als die Band ihre ersten Erfolge feierte. The Gathering liessen zur Jubi
 läumstour auf ihren Social-Media-Kanälen verlauten: „Ihr könnt euch auf all
 e ‚Mandylion’-Tracks und mehr aus unserer Anneke-Ära freuen. Nach so vielen
  Jahren freuen wir uns sehr\, dieses Jubiläum zusammen zu feiern. ‚Mandylio
 n’ ist ein Album\, das uns immer noch sehr viel bedeutet. Cheers! Frank\, H
 ugo\, Anneke\, Jelmer\, Hans & René.“</p>
CATEGORIES:Rock
LOCATION:Z7
GEO:47.527449;7.694210
ORGANIZER;CN="JHG Shark":MAILTO:webmaster@jhgshark.ch
URL;VALUE=URI:https://artnoir.ch/events/event/the-gathering-2026-05-22/
ATTACH;FMTTYPE=image/jpeg:https://artnoir.ch/wp-content/uploads/2026/03/the-gathering-2026-05-22.jpg
END:VEVENT
BEGIN:VTIMEZONE
TZID:Europe/Zurich
BEGIN:DAYLIGHT
TZOFFSETFROM:+0100
TZOFFSETTO:+0200
DTSTART:20260329T010000
TZNAME:CEST
END:DAYLIGHT
END:VTIMEZONE
END:VCALENDAR
