BEGIN:VCALENDAR
VERSION:2.0
PRODID:-//ARTNOIR//NONSGML Events//EN
CALSCALE:GREGORIAN
X-ORIGINAL-URL:https://artnoir.ch/events/event/
X-WR-CALDESC:ARTNOIR - Events
BEGIN:VEVENT
UID:20260221T2004Z-1771704266.9273-EO-260617-1@10.0.9.48
STATUS:CONFIRMED
DTSTAMP:20260423T232620Z
CREATED:20260219T065619Z
LAST-MODIFIED:20260219T065619Z
DTSTART;TZID=Europe/Zurich:20261114T210000
DTEND;TZID=Europe/Zurich:20261114T235900
SUMMARY: The Cemetary Girlz
DESCRIPTION: The Cemetary Girlz (FR) Gothic Rock/Batcave\n+ The House Of Us
 her (DE) Gothic Rock\n+ Party mit DJs TOM-I + KRYPT (Mottentanz) ... [Read 
 more...]
X-ALT-DESC;FMTTYPE=text/html: <p><a href="https://www.facebook.com/thecemet
 arygirlz/" rel="noopener" target="_blank">The Cemetary Girlz</a> (FR) Gothi
 c Rock/Batcave<br />+ <a href="http://www.the-house-of-usher.de/" rel="noop
 ener" target="_blank">The House Of Usher</a> (DE) Gothic Rock<br />+ Party 
 mit DJs TOM-I + KRYPT (Mottentanz)</p>
CATEGORIES:Wave
LOCATION:Werk 21
GEO:47.383312;8.539341
ORGANIZER;CN="JHG Shark":MAILTO:webmaster@jhgshark.ch
URL;VALUE=URI:https://artnoir.ch/events/event/the-cemetary-girlz-2026-11-14
 /
ATTACH;FMTTYPE=image/jpeg:https://artnoir.ch/wp-content/uploads/2026/02/the-cemetary-girlz-2026-11-14.jpg
END:VEVENT
BEGIN:VTIMEZONE
TZID:Europe/Zurich
BEGIN:STANDARD
TZOFFSETFROM:+0200
TZOFFSETTO:+0100
DTSTART:20261025T010000
TZNAME:CET
END:STANDARD
END:VTIMEZONE
END:VCALENDAR
