BEGIN:VCALENDAR
VERSION:2.0
PRODID:-//ARTNOIR//NONSGML Events//EN
CALSCALE:GREGORIAN
X-ORIGINAL-URL:https://artnoir.ch/events/event/
X-WR-CALDESC:ARTNOIR - Events
BEGIN:VEVENT
UID:20260225T1623Z-1772036585.2515-EO-260343-1@10.0.9.48
STATUS:CONFIRMED
DTSTAMP:20260424T025754Z
CREATED:20260213T161552Z
LAST-MODIFIED:20260213T161552Z
DTSTART;TZID=Europe/Zurich:20260907T180000
DTEND;TZID=Europe/Zurich:20260907T235900
SUMMARY: The Black Keys
DESCRIPTION: The Black Keys\n+ Robert Finley\nNach Konzertende ist genügend
  Zeit eingeplant\, um zu gewährleisten\, dass die letzten Zugverbindungen n
 ach Basel/Zürich (00:02 Uhr)\, Biel (00:12 Uhr)\, Neuchâtel (00:08 Uhr) sow
 ie Lausanne/Genf (23:08 Uhr) erreicht werden können.\nZeitplan:\n18:00 Uhr 
 – Türöffnung\n19:30 Uhr – Robert Finley\n20:30 Uhr – The Black Keys ... [Re
 ad more...]
X-ALT-DESC;FMTTYPE=text/html: <p><a href="https://theblackkeys.com/" rel="n
 oopener" target="_blank">The Black Keys</a><br />+ <a href="https://robertf
 inleyofficial.com/" rel="noopener" target="_blank">Robert Finley</a></p><p>
 Nach Konzertende ist genügend Zeit eingeplant\, um zu gewährleisten\, dass 
 die letzten Zugverbindungen nach Basel/Zürich (00:02 Uhr)\, Biel (00:12 Uhr
 )\, Neuchâtel (00:08 Uhr) sowie Lausanne/Genf (23:08 Uhr) erreicht werden k
 önnen.</p><p>Zeitplan:<br />18:00 Uhr – Türöffnung<br />19:30 Uhr – Robert 
 Finley<br />20:30 Uhr – The Black Keys</p>
CATEGORIES:Rock
LOCATION:Festhalle
GEO:46.960115;7.465378
ORGANIZER;CN="JHG Shark":MAILTO:webmaster@jhgshark.ch
URL;VALUE=URI:https://artnoir.ch/events/event/the-black-keys-2026-09-07/
ATTACH;FMTTYPE=image/jpeg:https://artnoir.ch/wp-content/uploads/2026/02/the-black-keys-2026-09-07.jpg
END:VEVENT
BEGIN:VTIMEZONE
TZID:Europe/Zurich
BEGIN:DAYLIGHT
TZOFFSETFROM:+0100
TZOFFSETTO:+0200
DTSTART:20260329T010000
TZNAME:CEST
END:DAYLIGHT
END:VTIMEZONE
END:VCALENDAR
