BEGIN:VCALENDAR
VERSION:2.0
PRODID:-//ARTNOIR//NONSGML Events//EN
CALSCALE:GREGORIAN
X-ORIGINAL-URL:https://artnoir.ch/events/event/
X-WR-CALDESC:ARTNOIR - Events
BEGIN:VEVENT
UID:20260305T0114Z-1772673275.2451-EO-261217-1@10.0.9.48
STATUS:CONFIRMED
DTSTAMP:20260423T234551Z
CREATED:20260303T151926Z
LAST-MODIFIED:20260417T123522Z
DTSTART;TZID=Europe/Zurich:20260704T180000
DTEND;TZID=Europe/Zurich:20260704T224500
SUMMARY: The Black Crowes
DESCRIPTION: The Black Crowes\n+ A Thousand Horses\nA Pound of Feathers\nAm
  Samstag\, 04. Juli 2026 bringen The Black Crowes ihren kultigen Rock’n’Rol
 l in die Halle 622 Zürich. Die legendäre Band um die Brüder Chris und Rich 
 Robinson zählt seit über drei Jahrzehnten zu den wichtigsten Acts der inter
 nationalen Rockgeschichte.\nMit Hits wie Hard To Handle\, She Talks To Ange
 ls und Twice As Hard haben sie Generationen geprägt und einen Sound geschaf
 fen\, ... [Read more...]
X-ALT-DESC;FMTTYPE=text/html: <p><a href="https://theblackcrowes.com" rel="
 noopener" target="_blank">The Black Crowes</a><br />+ <a href="https://www.
 athousandhorses.com/" rel="noopener" target="_blank">A Thousand Horses</a><
 /p><p><strong>A Pound of Feathers</strong></p><p>Am Samstag\, 04. Juli 2026
  bringen The Black Crowes ihren kultigen Rock’n’Roll in die Halle 622 Züric
 h. Die legendäre Band um die Brüder Chris und Rich Robinson zählt seit über
  drei Jahrzehnten zu den wichtigsten Acts der internationalen Rockgeschicht
 e.</p><p>Mit Hits wie Hard To Handle\, She Talks To Angels und Twice As Har
 d haben sie Generationen geprägt und einen Sound geschaffen\, der Blues\, S
 oul und Rock auf einzigartige Weise verbindet und bis heute nichts von sein
 er Kraft verloren hat.</p><p>Anstatt sich auf ihren Lorbeeren auszuruhen\, 
 schufen Chris und Rich innerhalb von nur zehn Tagen ihr zehntes Album A Pou
 nd of Feathers. Das Ergebnis ist kompromissloser\, drängender und unverkenn
 barer Rock’n’Roll – getragen von zwei unbändigen einfallsreichen Geistern\,
  die in perfekter Harmonie agieren. Es ist der Sound von The Black Crowes.<
 /p><p>Seit ihrer Wiedervereinigung im Jahr 2019 haben The Black Crowes eind
 rucksvoll bewiesen\, dass ihre kreative Kraft ungebrochen ist. Über 150 Kon
 zerte in mehr als 20 Ländern führten sie zurück auf die grossen Bühnen der 
 Welt – mit Shows\, die gleichermassen von Leidenschaft\, Spielfreude und mu
 sikalischer Präzision leben. Klassiker aus ihrem umfangreichen Katalog tref
 fen dabei auf frisches Material\, das nahtlos an ihren ikonischen Sound ank
 nüpft.</p><p>Getreu ihrer Tradition zelebrieren The Black Crowes Rock’n’Rol
 l in seiner pursten Form: rau\, laut und direkt. Kein Glanz\, kein Glitzer\
 , nur Rhythm and Blues vom Feinsten.</p>
CATEGORIES:Rock
LOCATION:Halle 622
GEO:47.413112;8.541888
ORGANIZER;CN="Nicole Wild":MAILTO:nic.wild@yahoo.com
URL;VALUE=URI:https://artnoir.ch/events/event/the-black-crowes-2026-07-04/
ATTACH;FMTTYPE=image/jpeg:https://artnoir.ch/wp-content/uploads/2026/03/the-black-crowes-2026-07-04.jpg
END:VEVENT
BEGIN:VTIMEZONE
TZID:Europe/Zurich
BEGIN:DAYLIGHT
TZOFFSETFROM:+0100
TZOFFSETTO:+0200
DTSTART:20260329T010000
TZNAME:CEST
END:DAYLIGHT
END:VTIMEZONE
END:VCALENDAR
