BEGIN:VCALENDAR
VERSION:2.0
PRODID:-//ARTNOIR//NONSGML Events//EN
CALSCALE:GREGORIAN
X-ORIGINAL-URL:https://artnoir.ch/events/event/
X-WR-CALDESC:ARTNOIR - Events
BEGIN:VEVENT
UID:20260208T2139Z-1770586752.9182-EO-259649-1@10.0.9.48
STATUS:CONFIRMED
DTSTAMP:20260423T232416Z
CREATED:20260206T100020Z
LAST-MODIFIED:20260206T132924Z
DTSTART;TZID=Europe/Zurich:20261005T170000
DTEND;TZID=Europe/Zurich:20261005T221000
SUMMARY: The Amity Affliction
DESCRIPTION: The Amity Affliction\n+ Silent Planet\n+ Varials\n+ Orthodox\n
 HOUSE OF CARDS – EUROPA TOUR 2026\nWuchtige Riffs\, intensive Breakdowns un
 d eingängige Melodien erwarten euch am Montag\, 05. Oktober 2026 im Komplex
  457 in Zürich: The Amity Affliction bringen ihre House Of Cards-Tour in di
 e Schweiz – begleitet von den Special Guests Silent Planet\, Varials und Or
 thodox. ... [Read more...]
X-ALT-DESC;FMTTYPE=text/html: <p><a href="https://theamityaffliction.net/" 
 target="_blank" rel="noopener">The Amity Affliction</a><br />+ <a href="htt
 ps://silentplanetmerch.com/" target="_blank" rel="noopener">Silent Planet</
 a><br />+ <a href="https://varialspa.net/" target="_blank" rel="noopener">V
 arials</a><br />+ <a href="https://orthodoxtn.com/" target="_blank" rel="no
 opener">Orthodox</a></p><p><strong>HOUSE OF CARDS - EUROPA TOUR 2026</stron
 g></p><p>Wuchtige Riffs\, intensive Breakdowns und eingängige Melodien erwa
 rten euch am Montag\, 05. Oktober 2026 im Komplex 457 in Zürich: The Amity 
 Affliction bringen ihre House Of Cards-Tour in die Schweiz – begleitet von 
 den Special Guests Silent Planet\, Varials und Orthodox.</p><p>Seit ihrer G
 ründung in Brisbane haben sich <strong>The Amity Affliction</strong> zu ein
 er der prägendsten Bands des internationalen Metalcore entwickelt. Ihre Mus
 ik ist gezeichnet von zutiefst persönlichen Texten\, die Themen wie Verlust
 \, mentale Gesundheit\, Trauer und Hoffnung schonungslos thematisieren. Die
 se kompromisslose emotionale Offenheit hat der Band weltweit eine treue und
  engagierte Fangemeinde eingebracht.</p><p>Spätestens mit dem Durchbruchsal
 bum Chasing Ghosts (2012)\, das direkt auf Platz eins der australischen Cha
 rts einstieg\, war klar\, dass The Amity Affliction weit mehr als ein Gehei
 mtipp sind. Auch die späteren Veröffentlichungen wie Let The Ocean Take Me\
 , Everyone Loves You…Once You Leave Them und zuletzt Not Without My Ghosts 
 festigten ihren Status als eine der wichtigsten Stimmen ihres Genres. Ihre 
 Songs sind gleichermassen kathartisch wie mitreissend – und live entfalten 
 sie eine besondere Intensität\, zuletzt eindrücklich bewiesen bei ihrem Auf
 tritt im Hallenstadion zusammen mit Parkway Drive.</p><p>Die Special Guests
  des Abends haben es ebenfalls in sich: Mit <strong>Silent Planet</strong> 
 ist eine Band dabei\, die für gesellschaftskritische Texte und progressive 
 Metalcore-Sounds steht. <strong>Varials</strong> liefern brachialen Hardcor
 e mit massiver Wucht\, während <strong>Orthodox</strong> die Grenzen zwisch
 en Metalcore\, Hardcore und Sludge ausloten und für zusätzliche Härte sorge
 n.</p><p>Die House Of Cards-Tour verspricht einen Abend voller Energie\, Em
 otionen und musikalischer Extreme. Metalcore Fans sollten sich diesen Termi
 n rot im Kalender markieren.</p><p>Jetzt Tickets via ticketcorner.ch sicher
 n!</p><p><span style="color: #c86079\;">Ein <strong>ARTNOIR</strong> Partne
 r-Event</span></p>
CATEGORIES:Metal,Partner-Event,Punk
LOCATION:Komplex 457
GEO:47.387269;8.499988
ORGANIZER;CN="JHG Shark":MAILTO:webmaster@jhgshark.ch
URL;VALUE=URI:https://artnoir.ch/events/event/the-amity-affliction-2026-10-
 05/
ATTACH;FMTTYPE=image/jpeg:https://artnoir.ch/wp-content/uploads/2026/02/2026-10-05-Amity-Affliction-v2.jpg
END:VEVENT
BEGIN:VTIMEZONE
TZID:Europe/Zurich
BEGIN:DAYLIGHT
TZOFFSETFROM:+0100
TZOFFSETTO:+0200
DTSTART:20260329T010000
TZNAME:CEST
END:DAYLIGHT
END:VTIMEZONE
END:VCALENDAR
