BEGIN:VCALENDAR
VERSION:2.0
PRODID:-//ARTNOIR//NONSGML Events//EN
CALSCALE:GREGORIAN
X-ORIGINAL-URL:https://artnoir.ch/events/event/
X-WR-CALDESC:ARTNOIR - Events
BEGIN:VEVENT
UID:20260329T0555Z-1774763742.9712-EO-262205-1@10.0.9.48
STATUS:CONFIRMED
DTSTAMP:20260423T215334Z
CREATED:20260324T184256Z
LAST-MODIFIED:20260410T103529Z
DTSTART;TZID=Europe/Zurich:20260426T190000
DTEND;TZID=Europe/Zurich:20260426T230000
SUMMARY: Telepathy
DESCRIPTION: Telepathy \n+ Car Crash Weather\nbergmal presents: Telepathy (
 UK) & Car Crash Weather (CH)\nTelepathy aus Suffolk (UK) sind das avantgard
 istische Quartett\, das cineastischen Sludge Metal im 21. Jahrhundert in bi
 slang unerforschte Stratosphären treibt. Ihre Fähigkeit\, progressive und h
 alsbrecherische Riffs zu synthetisieren\, lässt das Publikum über Ebenen in
 strumentaler Erzählkunst hinausgleiten. Angetrieben von einer kreativen car
 te blanche-Philosophie überwinden Telepathy Grenzen und erschaffen einzigar
 tige Kompositionen\, ... [Read more...]
X-ALT-DESC;FMTTYPE=text/html: <p><a href="https://www.telepathyband.com" re
 l="noopener" target="_blank">Telepathy </a><br />+ <a href="https://www.car
 crashweather.com" rel="noopener" target="_blank">Car Crash Weather</a></p><
 p><strong>bergmal presents: Telepathy (UK) & Car Crash Weather (CH)</strong
 ></p><p><strong>Telepathy</strong> aus Suffolk (UK) sind das avantgardistis
 che Quartett\, das cineastischen Sludge Metal im 21. Jahrhundert in bislang
  unerforschte Stratosphären treibt. Ihre Fähigkeit\, progressive und halsbr
 echerische Riffs zu synthetisieren\, lässt das Publikum über Ebenen instrum
 entaler Erzählkunst hinausgleiten. Angetrieben von einer kreativen carte bl
 anche-Philosophie überwinden Telepathy Grenzen und erschaffen einzigartige 
 Kompositionen\, die mit Schönheit durch Genres springen und sich darin verb
 iegen. Ob ungewöhnliche Stimmungen\, der Einsatz von Audio-Samples oder wil
 de Taktarten\, die Hörer:innen schwindelig vor Begeisterung zurücklassen – 
 alles ist erlaubt.</p><p>Überwiegend ohne Gesang kommuniziert\, entwirft Te
 lepathy vielfältige klangliche Landschaften und persönliche Introspektionen
 \, indem sie ihren Instrumenten allein erlauben\, ihre Konzepte zu vermitte
 ln.</p><p><strong>Car Crash Weather</strong> aus Zürich bewegt sich seit 20
 14 zwischen Post-Rock\, Post-Metal und Progressive Rock. 2016 erschien die 
 EP Origins\, 2018 folgte das Konzeptalbum Secondary Drowning über Migration
 . Mit Terra Nostra (2023) – „unsere Erde“ – beschreibt die Band den Umgang 
 der Menschen untereinander und mit der Natur und unterstreicht ihre Weitere
 ntwicklung. Live überzeugte Car Crash Weather bereits auf DIY-Bühnen\, Fest
 ivals und als Support internationaler Acts.</p>
CATEGORIES:Metal,Progressive,Rock
LOCATION:Werk 21
GEO:47.383312;8.539341
ORGANIZER;CN="Nicole Wild":MAILTO:nic.wild@yahoo.com
URL;VALUE=URI:https://artnoir.ch/events/event/telepathy-2026-04-26/
ATTACH;FMTTYPE=image/jpeg:https://artnoir.ch/wp-content/uploads/2026/03/telepathy-2026-04-26.jpg
END:VEVENT
BEGIN:VTIMEZONE
TZID:Europe/Zurich
BEGIN:DAYLIGHT
TZOFFSETFROM:+0100
TZOFFSETTO:+0200
DTSTART:20260329T010000
TZNAME:CEST
END:DAYLIGHT
END:VTIMEZONE
END:VCALENDAR
