BEGIN:VCALENDAR
VERSION:2.0
PRODID:-//ARTNOIR//NONSGML Events//EN
CALSCALE:GREGORIAN
X-ORIGINAL-URL:https://artnoir.ch/events/event/
X-WR-CALDESC:ARTNOIR - Events
BEGIN:VEVENT
UID:20260221T1918Z-1771701526.1307-EO-260687-1@10.0.9.48
STATUS:CONFIRMED
DTSTAMP:20260423T151410Z
CREATED:20260220T081401Z
LAST-MODIFIED:20260220T135234Z
DTSTART;TZID=Europe/Zurich:20260424T200000
DTEND;TZID=Europe/Zurich:20260424T235500
SUMMARY: Telepathy
DESCRIPTION: Telepathy\n+ Aeon Kay\nTelepathy (Doom/Progressive Metal\, UK)
 \nTelepathy aus Suffolk (UK) sind das avantgardistische Quartett\, das cine
 astischen Sludge Metal im 21. Jahrhundert in bislang unerforschte Stratosph
 ären treibt. Ihre Fähigkeit\, progressive und halsbrecherische Riffs zu syn
 thetisieren\, lässt das Publikum über Ebenen instrumentaler Erzählkunst hin
 ausgleiten. Angetrieben von einer kreativen carte blanche-Philosophie überw
 inden Telepathy Grenzen und erschaffen einzigartige Kompositionen\, die mit
  Schönheit durch Genres springen und sich darin verbiegen. ... [Read more..
 .]
X-ALT-DESC;FMTTYPE=text/html: <p><a href="https://www.telepathyband.com/" r
 el="noopener" target="_blank">Telepathy</a><br />+ <a href="https://aeonkay
 .com/" rel="noopener" target="_blank">Aeon Kay</a></p><p><strong>Telepathy<
 /strong> (Doom/Progressive Metal\, UK)<br />Telepathy aus Suffolk (UK) sind
  das avantgardistische Quartett\, das cineastischen Sludge Metal im 21. Jah
 rhundert in bislang unerforschte Stratosphären treibt. Ihre Fähigkeit\, pro
 gressive und halsbrecherische Riffs zu synthetisieren\, lässt das Publikum 
 über Ebenen instrumentaler Erzählkunst hinausgleiten. Angetrieben von einer
  kreativen carte blanche-Philosophie überwinden Telepathy Grenzen und ersch
 affen einzigartige Kompositionen\, die mit Schönheit durch Genres springen 
 und sich darin verbiegen. Ob ungewöhnliche Stimmungen\, der Einsatz von Aud
 io-Samples oder wilde Taktarten\, die Hörer:innen schwindelig vor Begeister
 ung zurücklassen – alles ist erlaubt.</p><p>Überwiegend ohne Gesang kommuni
 ziert\, entwirft Telepathy vielfältige klangliche Landschaften und persönli
 che Introspektionen\, indem sie ihren Instrumenten allein erlauben\, ihre K
 onzepte zu vermitteln.</p><p><strong>Aeon Kay</strong> (Progressive Rock\, 
 Luzern)<br />Aeon Kay ist eine sechsköpfige Band aus Luzern\, die schwere\,
  dynamische Instrumentierung mit atmosphärischer Tiefe verbindet. Gegründet
  Anfang 2025\, schöpft die Gruppe aus Einflüssen von Metal\, Alternative un
 d Pop\, um emotional mitreissende Musik zu schaffen. Mit Mitgliedern\, die 
 Erfahrung im Songwriting\, in Live-Performances und im Recording haben\, ha
 t Aeon Kay bereits zwei Singles veröffentlicht\, während ein Konzeptalbum i
 n Vorbereitung ist.</p>
CATEGORIES:Metal
LOCATION:Sedel
GEO:47.066014;8.299130
ORGANIZER;CN="ARTNOIR":MAILTO:info@artnoir.ch
URL;VALUE=URI:https://artnoir.ch/events/event/telepathy-2026-04-24/
ATTACH;FMTTYPE=image/jpeg:https://artnoir.ch/wp-content/uploads/2026/02/2026-04-24-Telepathy-scaled.jpg
END:VEVENT
BEGIN:VTIMEZONE
TZID:Europe/Zurich
BEGIN:DAYLIGHT
TZOFFSETFROM:+0100
TZOFFSETTO:+0200
DTSTART:20260329T010000
TZNAME:CEST
END:DAYLIGHT
END:VTIMEZONE
END:VCALENDAR
