BEGIN:VCALENDAR
VERSION:2.0
PRODID:-//ARTNOIR//NONSGML Events//EN
CALSCALE:GREGORIAN
X-ORIGINAL-URL:https://artnoir.ch/events/event/
X-WR-CALDESC:ARTNOIR - Events
BEGIN:VEVENT
UID:20251203T0227Z-1764728850.7981-EO-257304-1@10.0.9.48
STATUS:CONFIRMED
DTSTAMP:20260423T232320Z
CREATED:20251130T120532Z
LAST-MODIFIED:20260213T114657Z
DTSTART;TZID=Europe/Zurich:20260503T193000
DTEND;TZID=Europe/Zurich:20260503T230000
SUMMARY: Svalbard
DESCRIPTION: Svalbard\nSeit ihrer Gründung im Jahr 2011 hat sich Svalbard m
 it Black Metal\, Post-Rock\, D-Beat\, Shoegaze\, Hardcore und Post-Metal be
 schäftigt. Obwohl sich ihre Musik hartnäckig weigert\, sich eindeutig einem
  Genre zuzuordnen\, gibt es ein Wort\, das das britische Quartett treffend 
 beschreibt: einzigartig.\nSvalbard verbrachte seine ersten Jahre damit\, DI
 Y-Shows zu spielen\, drei EPs zu veröffentlichen und seinen Sound zu verfei
 nern\, bevor die Band schließlich 2015 ihr Debütalbum „One Day All This Wil
 l End“ herausbrachte. ... [Read more...]
X-ALT-DESC;FMTTYPE=text/html: <p><a href="https://www.instagram.com/svalbar
 d/" rel="noopener" target="_blank">Svalbard</a></p><p>Seit ihrer Gründung i
 m Jahr 2011 hat sich Svalbard mit Black Metal\, Post-Rock\, D-Beat\, Shoega
 ze\, Hardcore und Post-Metal beschäftigt. Obwohl sich ihre Musik hartnäckig
  weigert\, sich eindeutig einem Genre zuzuordnen\, gibt es ein Wort\, das d
 as britische Quartett treffend beschreibt: einzigartig.</p><p>Svalbard verb
 rachte seine ersten Jahre damit\, DIY-Shows zu spielen\, drei EPs zu veröff
 entlichen und seinen Sound zu verfeinern\, bevor die Band schließlich 2015 
 ihr Debütalbum „One Day All This Will End“ herausbrachte. Seitdem hat Svalb
 ard die Dynamik eines außer Kontrolle geratenen Güterzugs erreicht\, zwei w
 eitere Alben veröffentlicht und dabei seine vielfältigen musikalischen Einf
 lüsse weiter verfeinert\, die sich aus Videospiel-Soundtracks\, Grindcore u
 nd Dream Pop speisen und in einem verzerrten\, aber dynamischen Sound verei
 nt sind.</p><p>Mit ihrem vierten Album im Gepäck werden Svalbard immer stär
 ker – nicht nur als einer der hellsten Sterne am Metal-Himmel und Zeitgenos
 sen einer aufstrebenden modernen britischen Metal-Szene\, sondern auch als 
 Verfechter der psychischen Gesundheit.</p>
CATEGORIES:Metal
LOCATION:Werk 21
GEO:47.383312;8.539341
ORGANIZER;CN="JHG Shark":MAILTO:webmaster@jhgshark.ch
URL;VALUE=URI:https://artnoir.ch/events/event/svalbard-2026-05-03/
ATTACH;FMTTYPE=image/jpeg:https://artnoir.ch/wp-content/uploads/2025/11/svalbard-2026-05-03.jpg
END:VEVENT
BEGIN:VTIMEZONE
TZID:Europe/Zurich
BEGIN:DAYLIGHT
TZOFFSETFROM:+0100
TZOFFSETTO:+0200
DTSTART:20260329T010000
TZNAME:CEST
END:DAYLIGHT
END:VTIMEZONE
END:VCALENDAR
