BEGIN:VCALENDAR
VERSION:2.0
PRODID:-//ARTNOIR//NONSGML Events//EN
CALSCALE:GREGORIAN
X-ORIGINAL-URL:https://artnoir.ch/events/event/
X-WR-CALDESC:ARTNOIR - Events
BEGIN:VEVENT
UID:20260305T0743Z-1772696585.2292-EO-261223-1@10.0.9.48
STATUS:CONFIRMED
DTSTAMP:20260424T015027Z
CREATED:20260303T160305Z
LAST-MODIFIED:20260403T115010Z
DTSTART;TZID=Europe/Zurich:20260623T200000
DTEND;TZID=Europe/Zurich:20260623T235900
SUMMARY: Sunn O)))
DESCRIPTION: Sunn O)))\n+ Nataša Grujović & Steve Moore\nDas Doom-Metal Duo
  Sunn O))) sorgt für ein Live-Erlebnis aus physischem Klang\, Nebel und eis
 igem Maximalismus.\nSUNN O))). S/T. Self-titled. Tatsächlich: Das neueste A
 lbum heisst schlicht wie die Band\, die bekannt ist für ihren langatmigen\,
  rückkopplungsvollen Drone. Und erschien beim Label Sub Pop\, nach über zwe
 i Jahrzehnten mit unzähligen Veröffentlichungen bei Southern Lord. Ausserde
 m neu ist\, ... [Read more...]
X-ALT-DESC;FMTTYPE=text/html: <p><a href="https://sunn.southernlord.com/sun
 n-o-maxi-lp/" rel="noopener" target="_blank">Sunn O)))</a><br />+ <a href="
 https://www.instagram.com/nata_agrujovi_/" rel="noopener" target="_blank">N
 ataša Grujović</a> & <a href="https://www.instagram.com/stebmoses/" rel="no
 opener" target="_blank">Steve Moore</a></p><p>Das Doom-Metal Duo <strong>Su
 nn O)))</strong> sorgt für ein Live-Erlebnis aus physischem Klang\, Nebel u
 nd eisigem Maximalismus.<br />SUNN O))). S/T. Self-titled. Tatsächlich: Das
  neueste Album heisst schlicht wie die Band\, die bekannt ist für ihren lan
 gatmigen\, rückkopplungsvollen Drone. Und erschien beim Label Sub Pop\, nac
 h über zwei Jahrzehnten mit unzähligen Veröffentlichungen bei Southern Lord
 . Ausserdem neu ist\, dass Stephen O’Malley und Greg Anderson ihre neueste 
 Platte in kompletter Zweisamkeit eingespielt haben\, ohne Mitmusiker:innen\
 , ausser Raum und Zeit.</p><p>Natürlich steht das Schaffen des Gitarrenduos
  keineswegs solitär da\, wie die Kollaborationen rund um das Album eindrück
 lich zeigen: Die Covers sind (tatsächlich) Rothkos und sowohl bei LP als au
 ch CD sind einige Zeilen des Schriftstellers Robert Macfarlane beigelegt\, 
 der für seine Werke über Landschaft und die vielschichtige Beziehung zwisch
 en Mensch und Natur bekannt ist. Letztere war massgeblich beteiligt am Aufn
 ahmeprozess des Albums\, wie O’Malley selbst über die Zeit in den Bear Cree
 k Studios in Woodinville\, Washington sagt: «The vast tracking room had big
  windows looking out on trees\, […] We could go hiking and be out in the wo
 ods\, spend time outdoors. That became a big part of it.» Was herauskam: Dr
 öhnen at its finest.</p><p>Support bekommt SUNN O))) vom Duo <strong>Nataša
  Grujović</strong> und <strong>Steve Moore</strong>. 2022 traten die beiden
  im Rahmen einer Hommage an den verstorbenen luxemburgischen Künstler Steve
  Kaspar auf. Zunächst konzentrierten sie sich auf Kaspars unvollendete Komp
 ositionen. 2023 komponierte das Duo erste eigenständige Werke\, die unter d
 em Titel Event Horizon im Casino Luxembourg uraufgeführt wurden und später 
 in der KulturFabrik in Esch zu hören waren. Trotz vieler Gemeinsamkeiten mi
 t der elektroakustischen Musik – wie Synthesizer und Digitalverarbeitung – 
 schöpft das Duo vor allem aus der Resonanz der akustischen Räume und der vo
 n ihnen gespielten Instrumente (Akkordeon und Posaune)\, um harmonische Fel
 der zu schaffen\, in die melodische Elemente wie Spiritual Jazz\, rituelle 
 Drones und westliche klassische Traditionen einfliessen.</p>
CATEGORIES:Metal
LOCATION:Rote Fabrik
GEO:47.343416;8.535763
ORGANIZER;CN="Nicole Wild":MAILTO:nic.wild@yahoo.com
URL;VALUE=URI:https://artnoir.ch/events/event/sunn-o-2026-06-23/
ATTACH;FMTTYPE=image/jpeg:https://artnoir.ch/wp-content/uploads/2026/03/sunn-o-2026-06-23.jpg
END:VEVENT
BEGIN:VTIMEZONE
TZID:Europe/Zurich
BEGIN:DAYLIGHT
TZOFFSETFROM:+0100
TZOFFSETTO:+0200
DTSTART:20260329T010000
TZNAME:CEST
END:DAYLIGHT
END:VTIMEZONE
END:VCALENDAR
