BEGIN:VCALENDAR
VERSION:2.0
PRODID:-//ARTNOIR//NONSGML Events//EN
CALSCALE:GREGORIAN
X-ORIGINAL-URL:https://artnoir.ch/events/event/
X-WR-CALDESC:ARTNOIR - Events
BEGIN:VEVENT
UID:20260403T0919Z-1775207997.5752-EO-262328-1@10.0.9.48
STATUS:CONFIRMED
DTSTAMP:20260423T234207Z
CREATED:20260327T204227Z
LAST-MODIFIED:20260327T204227Z
DTSTART;TZID=Europe/Zurich:20261007T190000
DTEND;TZID=Europe/Zurich:20261007T235900
SUMMARY: Sprints
DESCRIPTION: Sprints \nIn „Abandon“\, dem Eröffnungstrack von SPRINTS’ zwei
 tem Album „All That Is Over“\, gibt es eine Textzeile\, die sich tief einpr
 ägt: „I don’t grow old / I grow unrecognisable.“ Diese Zeile fasst sowohl d
 en emotionalen Kern des Albums als auch die rasante Entwicklung der Band zu
 sammen. Nach ihrem gefeierten Debüt „Letter To Self“ aus dem Jahr 2024 kehr
 en Karla\nChubb\, Sam McCann\, Jack Callan und der neue Gitarrist Zac Steph
 enson schärfer\, ... [Read more...]
X-ALT-DESC;FMTTYPE=text/html: <p><a href="https://www.sprintsmusic.com" rel
 ="noopener" target="_blank">Sprints </a></p><p>In „Abandon“\, dem Eröffnung
 strack von SPRINTS’ zweitem Album „All That Is Over“\, gibt es eine Textzei
 le\, die sich tief einprägt: „I don’t grow old / I grow unrecognisable.“ Di
 ese Zeile fasst sowohl den emotionalen Kern des Albums als auch die rasante
  Entwicklung der Band zusammen. Nach ihrem gefeierten Debüt „Letter To Self
 “ aus dem Jahr 2024 kehren Karla<br />Chubb\, Sam McCann\, Jack Callan und 
 der neue Gitarrist Zac Stephenson schärfer\, härter und selbstbewusster den
 n je zurück.<br />„Ich glaube\, wir sind aus dem Jahr 2024 als völlig ander
 e Menschen hervorgegangen“\, sagt Karla. „Wir sind so sehr gewachsen – pers
 önlich und als Band. Das erste Album war von Selbstbewusstsein geprägt. Die
 ses hier nicht. Es ist mir egal.“<br />Nach einem Durchbruchsjahr mit unerm
 üdlichen Tourneen\, ausverkauften Shows und begeisterten Kritiken mussten s
 ich SPRINTS schnell umstellen\, als der ursprüngliche Gitarrist Colm O’Reil
 ly die Band verließ. Als Zac nur wenige Wochen vor einer Reihe von ausverka
 uften Festivalauftritten einsprang\, fand die Band eine unerwartete Chemie 
 durch das\, was sie als „Feuertaufe“ beschreiben – eine Energie\, die „All 
 That Is Over“ prägt.<br />Das Album entstand unterwegs – in Tourbussen\, be
 i Soundchecks und inmitten persönlicher Umbrüche – und spiegelt eine Welt i
 m Chaos wider. Vor dem Hintergrund globaler Krisen und persönlicher Verände
 rungen schrieb Karla unermüdlich und verarbeitete alles von Liebeskummer bi
 s hin zu politischen Unruhen. Das Ergebnis ist ein Album\, das Wut\, Verlet
 zlichkeit und Trotz in Einklang bringt.<br />Die erste Single „Descartes“ v
 erdichtet diese Dringlichkeit zu einem mitreißenden Statement über Ausdruck
  und Identität und formuliert „Ich denke\, also bin ich“ in etwas Unmittelb
 areres um: „Ich spreche\, also verstehe ich.“ An anderer Stelle beschäftigt
  sich „Abandon“ mit Entwurzelung und Entfremdung\, während Tracks wie „Rage
 “ und „Desire“ neue klangliche Gefilde erschließen und psychedelische Textu
 ren mit filmischer Intensität verbinden.<br />Vom Shoegaze-Wellenberg von „
 Better“ bis zur viszeralen Wucht von „To The Bone“ erweitert das Album den 
 Sound von SPRINTS\, ohne dabei ihre rohe Unmittelbarkeit zu verlieren. Erne
 ut von Daniel Fox produziert\, fängt das Album eine Band ein\, die keine An
 gst vor Experimenten hat\, aber neu in ihrer Identität selbstbewusst ist.<b
 r />Im Kern geht es bei „All That Is Over“ um Widerstandsfähigkeit – darum\
 , äußeren Lärm auszublenden und künstlerische Ehrlichkeit zu leben. „Die Le
 ute werden immer etwas zu sagen haben“\, reflektiert Karla. „Also kann man 
 ihnen genauso gut etwas geben\, worüber es sich zu reden lohnt.“<br />Kompr
 omisslos und kathartisch markiert „All That Is Over“ das zweite Kapitel von
  SPRINTS: lauter\, mutiger und ohne etwas mehr beweisen zu müssen.</p>
CATEGORIES:Wave
LOCATION:Plaza
GEO:47.374167;8.524726
ORGANIZER;CN="Nicole Wild":MAILTO:nic.wild@yahoo.com
URL;VALUE=URI:https://artnoir.ch/events/event/sprints-2026-10-07/
ATTACH;FMTTYPE=image/jpeg:https://artnoir.ch/wp-content/uploads/2026/03/sprints-2026-10-07.jpg
END:VEVENT
BEGIN:VTIMEZONE
TZID:Europe/Zurich
BEGIN:DAYLIGHT
TZOFFSETFROM:+0100
TZOFFSETTO:+0200
DTSTART:20260329T010000
TZNAME:CEST
END:DAYLIGHT
END:VTIMEZONE
END:VCALENDAR
