BEGIN:VCALENDAR
VERSION:2.0
PRODID:-//ARTNOIR//NONSGML Events//EN
CALSCALE:GREGORIAN
X-ORIGINAL-URL:https://artnoir.ch/events/event/
X-WR-CALDESC:ARTNOIR - Events
BEGIN:VEVENT
UID:20260312T1516Z-1773328599.569-EO-260732-1@10.0.9.48
STATUS:CONFIRMED
DTSTAMP:20260423T234507Z
CREATED:20260223T100016Z
LAST-MODIFIED:20260223T124244Z
DTSTART;TZID=Europe/Zurich:20260928T180000
DTEND;TZID=Europe/Zurich:20260928T223000
SUMMARY: Spiritbox
DESCRIPTION: Spiritbox\n+ Jinjer\n+ Dying Wish\nTsunami Sea 2026\nEine Natu
 rgewalt des Modern Metals kommt endlich zurück nach Zürich – das kanadische
  Phänomen Spiritbox bringt am Montag\, 28. September 2026 die Tsunami Sea-T
 our in die Halle 622! Eine brachiale Soundwelle aus Prog\, Alternative\, Me
 talcore und Elektro-Einflüssen wird über Zürich brechen.\nSeit ihrem Durchb
 ruch mit dem Debütalbum Eternal Blue (2021) gibt es an Spiritbox kein Vorbe
 ikommen mehr. ... [Read more...]
X-ALT-DESC;FMTTYPE=text/html: <p><a href="https://spiritbox.com/" rel="noop
 ener" target="_blank">Spiritbox</a><br />+ <a href="https://jinjer-metal.co
 m/" rel="noopener" target="_blank">Jinjer</a><br />+ <a href="https://www.d
 yingwishhc.uk/" rel="noopener" target="_blank">Dying Wish</a></p><p><strong
 >Tsunami Sea 2026</strong></p><p>Eine Naturgewalt des Modern Metals kommt e
 ndlich zurück nach Zürich – das kanadische Phänomen Spiritbox bringt am Mon
 tag\, 28. September 2026 die Tsunami Sea-Tour in die Halle 622! Eine brachi
 ale Soundwelle aus Prog\, Alternative\, Metalcore und Elektro-Einflüssen wi
 rd über Zürich brechen.</p><p>Seit ihrem Durchbruch mit dem Debütalbum Eter
 nal Blue (2021) gibt es an Spiritbox kein Vorbeikommen mehr. Was als Geheim
 tipp aus Victoria\, British Columbia begann\, hat sich zu einer der einflus
 sreichsten Formationen der Gegenwart entwickelt. Mit technischer Präzision\
 , atmosphärischem Klargesang und den eindringlichen Screams von Frontfrau C
 ourtney LaPlante vereinen Spiritbox rohe Emotion und musikalische Wucht und
  begeistern damit langjährige Metal-Fans ebenso wie ein neues Publikum. </p
 ><p>Das aktuelle Album Tsunami Sea markiert den bisherigen kreativen Höhepu
 nkt der Band. Songs wie Soft Spine oder Perfect Soul zeigen eine Band\, die
  sich weigert\, in eine Schublade gesteckt zu werden. Hier treffen Djent-El
 emente auf Post-Metal-Atmosphäre und Pop-Sensibilitäten – eine Formel\, die
  Spiritbox bereits drei Grammy-Nominierungen und ausverkaufte Hallen weltwe
 it eingebracht hat.</p><p>Nachdem die Band in den letzten Jahren auf den gr
 össten Festivalbühnen der Welt – vom Wacken Open Air bis zum Download Festi
 val – für Furore gesorgt hat\, kehren sie nun für eine exklusive Headline-S
 how nach Zürich zurück. Es ist die Chance\, eine Band auf dem absoluten Zen
 it ihres Schaffens zu erleben.</p><p>Jetzt Tickets via ticketcorner.ch sich
 ern!</p><p><span style="color: #c86079\;">Ein <strong>ARTNOIR</strong> Part
 ner-Event</span></p>
CATEGORIES:Metal,Partner-Event
LOCATION:Halle 622
GEO:47.413112;8.541888
ORGANIZER;CN="JHG Shark":MAILTO:webmaster@jhgshark.ch
URL;VALUE=URI:https://artnoir.ch/events/event/spiritbox-2026-09-28/
ATTACH;FMTTYPE=image/jpeg:https://artnoir.ch/wp-content/uploads/2026/02/spiritbox-2026-09-28.jpg
END:VEVENT
BEGIN:VTIMEZONE
TZID:Europe/Zurich
BEGIN:DAYLIGHT
TZOFFSETFROM:+0100
TZOFFSETTO:+0200
DTSTART:20260329T010000
TZNAME:CEST
END:DAYLIGHT
END:VTIMEZONE
END:VCALENDAR
