BEGIN:VCALENDAR
VERSION:2.0
PRODID:-//ARTNOIR//NONSGML Events//EN
CALSCALE:GREGORIAN
X-ORIGINAL-URL:https://artnoir.ch/events/event/
X-WR-CALDESC:ARTNOIR - Events
BEGIN:VEVENT
UID:20260415T1945Z-1776282334.8177-EO-263153-1@10.0.9.48
STATUS:CONFIRMED
DTSTAMP:20260423T232016Z
CREATED:20260415T173104Z
LAST-MODIFIED:20260415T173230Z
DTSTART;TZID=Europe/Zurich:20261101T190000
DTEND;TZID=Europe/Zurich:20261101T223000
SUMMARY: Spike And The Gimme Gimmes
DESCRIPTION: Spike And The Gimme Gimmes\nEine Punkrock-Supergroup mit wechs
 elnder Besetzung aus weltweit tourenden Musikerinnen und Musikern: Spike An
 d The Gimme Gimmes vereinen Mitglieder von Bands wie Ramones\, Black Flag\,
  Social Distortion\, Rocket From The Crypt\, The Damned\, Strung Out und No
  Doubt. Angeführt von Frontmann Spike Slawson begeistert die Band seit Mitt
 e der 90er-Jahre mit ihrer eigenwilligen Mischung aus Country-Crooner-Charm
 e und Punkrock-Attitüde ein internationales Publikum. Als eine der beliebte
 sten Touring-Coverbands weltweit verbinden sie Humor\, ... [Read more...]
X-ALT-DESC;FMTTYPE=text/html: <p><a href="https://spikeandthegimmegimmes.co
 m/" rel="noopener" target="_blank">Spike And The Gimme Gimmes</a></p><p>Ein
 e Punkrock-Supergroup mit wechselnder Besetzung aus weltweit tourenden Musi
 kerinnen und Musikern: Spike And The Gimme Gimmes vereinen Mitglieder von B
 ands wie Ramones\, Black Flag\, Social Distortion\, Rocket From The Crypt\,
  The Damned\, Strung Out und No Doubt. Angeführt von Frontmann Spike Slawso
 n begeistert die Band seit Mitte der 90er-Jahre mit ihrer eigenwilligen Mis
 chung aus Country-Crooner-Charme und Punkrock-Attitüde ein internationales 
 Publikum. Als eine der beliebtesten Touring-Coverbands weltweit verbinden s
 ie Humor\, Spielfreude und rohe Live-Energie. «Country Roads» und «Leaving 
 On A Jet Plane» von John Denver waren die beiden ersten Songs\, die die Me 
 First And The Gimme Gimmes 1995 veröffentlichten und damit ein neues Zeital
 ter im Punkrock einläuteten. </p><p>Bis 2025 trat die Gruppe unter dem Name
 n Me First And The Gimme Gimmes auf\, bevor sie sich in Spike And The Gimme
  Gimmes umbenannte. Ein Schritt\, der die zentrale Rolle ihres langjährigen
  Frontmanns unterstreicht\, ohne den Charakter der Band zu verändern. </p><
 p>Ihre Shows sind eine ausgelassene\, genreübergreifende Feier. Davon sollt
 et ihr euch selbst überzeugen\, wenn die Supergroup zu einem Gastspiel in Z
 ürich lädt. </p><p>Türöffnung: 19:00<br />Support: 19:30<br />Spike and the
  Gimme Gimmes: 20:30</p>
CATEGORIES:Punk
LOCATION:Dynamo
GEO:47.383312;8.539341
ORGANIZER;CN="JHG Shark":MAILTO:webmaster@jhgshark.ch
URL;VALUE=URI:https://artnoir.ch/events/event/spike-and-the-gimme-gimmes-20
 26-11-01/
ATTACH;FMTTYPE=image/jpeg:https://artnoir.ch/wp-content/uploads/2026/04/spike-and-the-gimme-gimmes-2026-11-01.jpg
END:VEVENT
BEGIN:VTIMEZONE
TZID:Europe/Zurich
BEGIN:STANDARD
TZOFFSETFROM:+0200
TZOFFSETTO:+0100
DTSTART:20261025T010000
TZNAME:CET
END:STANDARD
END:VTIMEZONE
END:VCALENDAR
