BEGIN:VCALENDAR
VERSION:2.0
PRODID:-//ARTNOIR//NONSGML Events//EN
CALSCALE:GREGORIAN
X-ORIGINAL-URL:https://artnoir.ch/events/event/
X-WR-CALDESC:ARTNOIR - Events
BEGIN:VEVENT
UID:20251016T0938Z-1760607510.8469-EO-254313-1@10.0.9.52
STATUS:CONFIRMED
DTSTAMP:20260423T232543Z
CREATED:20251013T183819Z
LAST-MODIFIED:20260109T134213Z
DTSTART;TZID=Europe/Zurich:20260421T190000
DTEND;TZID=Europe/Zurich:20260421T235900
SUMMARY: Spidergawd
DESCRIPTION: Spidergawd\n+ Håndgemeng\nSpidergawd – die Trondheimer Heavy-R
 ock Band\, 2013 als Nebenprojekt der beiden Motorpsycho Musiker Bent Sæther
  (bass) und Kenneth Kapstadt (drums) gegründet\, hat sich mit ihrem brachia
 len Sound\, der dennoch immer groovt\, längst als eigenständiger Act etabli
 ert\, dessen Alben von der weltweiten Rockkritik regelmäßig gefeiert werden
 . Im April kommenden Jahres beehrt uns die Band erneut und bringt dann ihr 
 neues Album mit!\nHåndgemeng is a tough-as-nails heavy metal band from the 
 dark corners of Oslo\, ... [Read more...]
X-ALT-DESC;FMTTYPE=text/html: <p><a href="https://www.spidergawd.no" rel="n
 oopener" target="_blank">Spidergawd</a><br />+ <a href="https://www.handgem
 eng.com/" rel="noopener" target="_blank">Håndgemeng</a></p><p><strong>Spide
 rgawd</strong> - die Trondheimer Heavy-Rock Band\, 2013 als Nebenprojekt de
 r beiden Motorpsycho Musiker Bent Sæther (bass) und Kenneth Kapstadt (drums
 ) gegründet\, hat sich mit ihrem brachialen Sound\, der dennoch immer groov
 t\, längst als eigenständiger Act etabliert\, dessen Alben von der weltweit
 en Rockkritik regelmäßig gefeiert werden. Im April kommenden Jahres beehrt 
 uns die Band erneut und bringt dann ihr neues Album mit!</p><p><strong>Hånd
 gemeng</strong> is a tough-as-nails heavy metal band from the dark corners 
 of Oslo\, Norway.</p>
CATEGORIES:Metal,Rock
LOCATION:Gaswerk
GEO:47.494529;8.707780
ORGANIZER;CN="Nicole Wild":MAILTO:nic.wild@yahoo.com
URL;VALUE=URI:https://artnoir.ch/events/event/spidergawd-2026-04-21/
ATTACH;FMTTYPE=image/jpeg:https://artnoir.ch/wp-content/uploads/2025/10/spidergawd-2026-04-21.jpg
END:VEVENT
BEGIN:VTIMEZONE
TZID:Europe/Zurich
BEGIN:DAYLIGHT
TZOFFSETFROM:+0100
TZOFFSETTO:+0200
DTSTART:20260329T010000
TZNAME:CEST
END:DAYLIGHT
END:VTIMEZONE
END:VCALENDAR
