BEGIN:VCALENDAR
VERSION:2.0
PRODID:-//ARTNOIR//NONSGML Events//EN
CALSCALE:GREGORIAN
X-ORIGINAL-URL:https://artnoir.ch/events/event/
X-WR-CALDESC:ARTNOIR - Events
BEGIN:VEVENT
UID:20260214T1915Z-1771096532.4545-EO-260341-1@10.0.9.48
STATUS:CONFIRMED
DTSTAMP:20260423T215503Z
CREATED:20260213T160525Z
LAST-MODIFIED:20260227T122134Z
DTSTART;TZID=Europe/Zurich:20260412T190000
DTEND;TZID=Europe/Zurich:20260412T235900
SUMMARY: Space Of Variations
DESCRIPTION: Space Of Variations\n+ Another Approach\nExplosive Ukrainian m
 etalcore force SPACE OF VARIATIONS returns with Poisoned Art\, out on Febru
 ary 13\, 2026 via Napalm Records. Blending furious brutality with heartfelt
  emotion\, the four piece band sheds their skin and continues to push the b
 oundaries of modern metal\, their new record showing a new facet of their e
 ver-evolving sound—a new era. Twice crowned Ukraine’s best metal band in th
 eir home country’s BUMA Awards\, ... [Read more...]
X-ALT-DESC;FMTTYPE=text/html: <p><a href="https://www.facebook.com/SpaceOfV
 ariations" rel="noopener" target="_blank">Space Of Variations</a><br />+ <a
  href="https://www.another-approach.com/" rel="noopener" target="_blank">An
 other Approach</a></p><p>Explosive Ukrainian metalcore force <strong>SPACE 
 OF VARIATIONS</strong> returns with Poisoned Art\, out on February 13\, 202
 6 via Napalm Records. Blending furious brutality with heartfelt emotion\, t
 he four piece band sheds their skin and continues to push the boundaries of
  modern metal\, their new record showing a new facet of their ever-evolving
  sound—a new era. Twice crowned Ukraine’s best metal band in their home cou
 ntry’s BUMA Awards\, and former tour partners of genre giants Jinjer\, SPAC
 E OF VARIATIONS are raising the bar for metalcore with the twelve new track
 s of Poisoned Art.</p><p>We are <strong>Another Approach</strong>\, a progr
 essive metal band based in Winterthur\, Switzerland. Our music is defined b
 y reconciled opposites: quiet instrumental parts lead into hard hitting bre
 akdowns\, slow and intimate vocal passages give way to fast-paced\, screech
 ing guitar-solos and atmospheric synthesizer sounds set up catchy melodies.
  The sound lives from the contrasts produced by juxtaposing these devices a
 s well as the tension created by the struggle to keep them from falling apa
 rt. Our style knows few boundaries\, often drawing from different genres su
 ch as Jazz and Blues. This allows for differentiated\, colourful and at tim
 es humorous storytelling that is not only manifested in the lyrics of our s
 ongs\, but also in their structure. Join us on our musical rollercoaster ri
 de\, which will hopefully open our eyes for endless new possibilities!</p>
CATEGORIES:Metal
LOCATION:Werk 21
GEO:47.383312;8.539341
ORGANIZER;CN="JHG Shark":MAILTO:webmaster@jhgshark.ch
URL;VALUE=URI:https://artnoir.ch/events/event/space-of-variations-2026-04-1
 2/
ATTACH;FMTTYPE=image/jpeg:https://artnoir.ch/wp-content/uploads/2026/02/space-of-variations-2026-04-12.jpg
END:VEVENT
BEGIN:VTIMEZONE
TZID:Europe/Zurich
BEGIN:DAYLIGHT
TZOFFSETFROM:+0100
TZOFFSETTO:+0200
DTSTART:20260329T010000
TZNAME:CEST
END:DAYLIGHT
END:VTIMEZONE
END:VCALENDAR
