BEGIN:VCALENDAR
VERSION:2.0
PRODID:-//ARTNOIR//NONSGML Events//EN
CALSCALE:GREGORIAN
X-ORIGINAL-URL:https://artnoir.ch/events/event/
X-WR-CALDESC:ARTNOIR - Events
BEGIN:VEVENT
UID:20260205T1241Z-1770295269.5688-EO-258902-1@10.0.9.48
STATUS:CONFIRMED
DTSTAMP:20260423T215224Z
CREATED:20260120T185626Z
LAST-MODIFIED:20260120T185838Z
DTSTART;TZID=Europe/Zurich:20260508T180000
DTEND;TZID=Europe/Zurich:20260508T230000
SUMMARY: Solence
DESCRIPTION: Solence\n+ Dreamstate\nMit ihrem neuen Album Angels Calling pr
 äsentieren sich SOLENCE kraftvoller\, reifer und zugleich nahbarer als je z
 uvor. Die schwedische Band\, die seit Jahren für ihre explosive Mischung au
 s Rock\, Elektronik und purer Lebensfreude bekannt ist\, beweist einmal meh
 r\, dass große Melodien und tiefgehende Emotionen kein Widerspruch sind. Hi
 er reiht sich Hit an Hit\, gemacht für die grossen Bühnen dieser Welt. ... 
 [Read more...]
X-ALT-DESC;FMTTYPE=text/html: <p><a href="https://solencemusic.com/" rel="n
 oopener" target="_blank">Solence</a><br />+ <a href="https://dreamstateoffi
 cial.com/" rel="noopener" target="_blank">Dreamstate</a></p><p>Mit ihrem ne
 uen Album Angels Calling präsentieren sich <strong>SOLENCE</strong> kraftvo
 ller\, reifer und zugleich nahbarer als je zuvor. Die schwedische Band\, di
 e seit Jahren für ihre explosive Mischung aus Rock\, Elektronik und purer L
 ebensfreude bekannt ist\, beweist einmal mehr\, dass große Melodien und tie
 fgehende Emotionen kein Widerspruch sind. Hier reiht sich Hit an Hit\, gema
 cht für die grossen Bühnen dieser Welt.</p>
CATEGORIES:Rock
LOCATION:KIFF
GEO:47.398757;8.063867
ORGANIZER;CN="JHG Shark":MAILTO:webmaster@jhgshark.ch
URL;VALUE=URI:https://artnoir.ch/events/event/solence-2026-05-08/
ATTACH;FMTTYPE=image/jpeg:https://artnoir.ch/wp-content/uploads/2026/01/solence-2026-05-08.jpg
END:VEVENT
BEGIN:VTIMEZONE
TZID:Europe/Zurich
BEGIN:DAYLIGHT
TZOFFSETFROM:+0100
TZOFFSETTO:+0200
DTSTART:20260329T010000
TZNAME:CEST
END:DAYLIGHT
END:VTIMEZONE
END:VCALENDAR
