BEGIN:VCALENDAR
VERSION:2.0
PRODID:-//ARTNOIR//NONSGML Events//EN
CALSCALE:GREGORIAN
X-ORIGINAL-URL:https://artnoir.ch/events/event/
X-WR-CALDESC:ARTNOIR - Events
BEGIN:VEVENT
UID:20260125T1103Z-1769339014.9596-EO-259039-1@10.0.9.48
STATUS:CONFIRMED
DTSTAMP:20260423T200215Z
CREATED:20260123T140345Z
LAST-MODIFIED:20260123T140426Z
DTSTART;TZID=Europe/Zurich:20260507T190000
DTEND;TZID=Europe/Zurich:20260507T230000
SUMMARY: Sofia Isella
DESCRIPTION: Sofia Isella\n+ Seb Lowe\nDas 20-jährige musikalische Ausnahme
 talent SOFIA ISELLA kündigt ihre grosse Headliner-Tournee «Her Desire\, The
  Nemesis UK/EU Tour 2026» an\, die sie durch Grossbritannien und Europa füh
 ren wird.\nSOFIA ISELLA hat in den letzten Jahren eine beeindruckende künst
 lerische Identität entwickelt\, die sich in ihren beiden bisherigen EPs «I 
 Can Be Your Mother» und «I’m camera» widerspiegelt. Sie zeichnet sich durch
  düstere Texte\, fesselnde Melodien und ihre unerschrockenen Kommentare zu 
 Themen wie Identität und Macht aus. ... [Read more...]
X-ALT-DESC;FMTTYPE=text/html: <p><a href="https://www.sofiaisella.com/" rel
 ="noopener" target="_blank">Sofia Isella</a><br />+ <a href="https://www.se
 blowemusic.com/" rel="noopener" target="_blank">Seb Lowe</a></p><p>Das 20-j
 ährige musikalische Ausnahmetalent SOFIA ISELLA kündigt ihre grosse Headlin
 er-Tournee «Her Desire\, The Nemesis UK/EU Tour 2026» an\, die sie durch Gr
 ossbritannien und Europa führen wird.</p><p>SOFIA ISELLA hat in den letzten
  Jahren eine beeindruckende künstlerische Identität entwickelt\, die sich i
 n ihren beiden bisherigen EPs «I Can Be Your Mother» und «I’m camera» wider
 spiegelt. Sie zeichnet sich durch düstere Texte\, fesselnde Melodien und ih
 re unerschrockenen Kommentare zu Themen wie Identität und Macht aus.</p><p>
 Als klassisch ausgebildete Geigerin und Dichterin lässt sie sich von Sylvia
  Plath und Anne Sexton inspirieren\, während ihre musikalischen Vorbilder v
 on Nine Inch Nails und Radiohead bis hin zu Fiona Apple und Lana Del Rey re
 ichen. Ihr Hintergrund in Literatur und Musik kreiert einen Stil\, der tief
 greifendes Storytelling mit vielschichtiger\, cineastischer Produktion verb
 indet – eine Dualität aus Disziplin und rohem Ausdruck\, die zu ihrem Marke
 nzeichen geworden ist. Ihr Song «Hot Gum» wurde allein auf Spotify bereits 
 mehr als 20 Millionen Mal gestreamt und festigte damit ihre weltweite wachs
 ende Fangemeinde. Ihre Fans lieben nicht nur ihre Studio-Aufnahmen\, sonder
 n feiern die Künstlerin auch live auf der Bühne – sie konnte sich als Vorba
 nd von Taylor Swift und Glass Animals bereits vor einem zahlreichen Publiku
 m beweisen.</p>
CATEGORIES:Pop
LOCATION:X-TRA
GEO:47.384261;8.532491
ORGANIZER;CN="JHG Shark":MAILTO:webmaster@jhgshark.ch
URL;VALUE=URI:https://artnoir.ch/events/event/sofia-isella-2026-05-07/
ATTACH;FMTTYPE=image/jpeg:https://artnoir.ch/wp-content/uploads/2026/01/sofia-isella-2026-05-07.jpg
END:VEVENT
BEGIN:VTIMEZONE
TZID:Europe/Zurich
BEGIN:DAYLIGHT
TZOFFSETFROM:+0100
TZOFFSETTO:+0200
DTSTART:20260329T010000
TZNAME:CEST
END:DAYLIGHT
END:VTIMEZONE
END:VCALENDAR
