BEGIN:VCALENDAR
VERSION:2.0
PRODID:-//ARTNOIR//NONSGML Events//EN
CALSCALE:GREGORIAN
X-ORIGINAL-URL:https://artnoir.ch/events/event/
X-WR-CALDESC:ARTNOIR - Events
BEGIN:VEVENT
UID:20251212T0716Z-1765523768.5626-EO-257678-1@10.0.9.48
STATUS:CONFIRMED
DTSTAMP:20260423T234441Z
CREATED:20251208T203119Z
LAST-MODIFIED:20251208T203229Z
DTSTART;TZID=Europe/Zurich:20260624T183000
DTEND;TZID=Europe/Zurich:20260624T223000
SUMMARY: Social Distortion
DESCRIPTION: Social Distortion\nDie langlebige L.A.-Punkband Social Distort
 ion kündigt eine Live-Show am 24. Juni 2026 in der Halle 622 in Zürich an. 
 Die Band hat zahlreiche Personalwechsel\, den Niedergang der Los-Angeles-Ha
 rdcore-Szene\, aus der sie hervorging\, sowie die Heroinabhängigkeit von Sä
 nger/Gitarrist/Bandleader Mike Ness überstanden und es geschafft\, eine gew
 isse Mainstream-Akzeptanz für ihren erdigen\, kraftvollen Punk ohne Komprom
 isse zu erreichen. Inspiriert von der fruchtbaren L.A.-Punk-Szene gründete 
 Ness die Gruppe 1978 zusammen mit Schlagzeuger Casey Royer und den Brüdern 
 Frank (Bass) und Rikk Agnew (Gitarre). ... [Read more...]
X-ALT-DESC;FMTTYPE=text/html: <p><a href="https://www.socialdistortion.com/
 " rel="noopener" target="_blank">Social Distortion</a></p><p>Die langlebige
  L.A.-Punkband Social Distortion kündigt eine Live-Show am 24. Juni 2026 in
  der Halle 622 in Zürich an. Die Band hat zahlreiche Personalwechsel\, den 
 Niedergang der Los-Angeles-Hardcore-Szene\, aus der sie hervorging\, sowie 
 die Heroinabhängigkeit von Sänger/Gitarrist/Bandleader Mike Ness überstande
 n und es geschafft\, eine gewisse Mainstream-Akzeptanz für ihren erdigen\, 
 kraftvollen Punk ohne Kompromisse zu erreichen. Inspiriert von der fruchtba
 ren L.A.-Punk-Szene gründete Ness die Gruppe 1978 zusammen mit Schlagzeuger
  Casey Royer und den Brüdern Frank (Bass) und Rikk Agnew (Gitarre). Als die
  Brüder die Band verliessen\, um zu The Adolescents zu wechseln\, stiess Ne
 ss’ Schulfreund Dennis Danell als Bassist dazu\; die folgenden Jahre waren 
 geprägt von einer häufig wechselnden Besetzung.</p><p>Als die Band schliess
 lich 1983 ihr Debütalbum „Mommy’s Little Monster“ aufnahm\, bestand sie aus
  Ness\, Danell (nun an der Gitarre)\, Bassist Brent Liles und Schlagzeuger 
 Derek O'Brien. Ihre Musik wurde oft als eine Punk-Version der Rolling Stone
 s beschrieben\, und „Another State of Mind“ war eines der wenigen Punkvideo
 s\, die 1984 auf MTV ausgestrahlt wurden. Die Band brauchte jedoch vier Jah
 re\, um ein Nachfolgealbum aufzunehmen\, da Ness in Heroinabhängigkeit und 
 bewusst rebellisches Verhalten abrutschte. Liles und O'Brien verliessen die
  Band\, und Ness stellte sich schliesslich wieder auf die Beine und formier
 te Social Distortion 1988 neu\, nun mit John Maurer am Bass und Chris Reece
  am Schlagzeug. Diese Besetzung nahm „Prison Bound“ auf\, ein reiferes Albu
 m\, das Social Distortions Einflüsse aus Roots Rock mit einem Country-Gefüh
 l erweiterte.</p>
CATEGORIES:Rock
LOCATION:Halle 622
GEO:47.413112;8.541888
ORGANIZER;CN="JHG Shark":MAILTO:webmaster@jhgshark.ch
URL;VALUE=URI:https://artnoir.ch/events/event/social-distortion-2026-06-24/
ATTACH;FMTTYPE=image/jpeg:https://artnoir.ch/wp-content/uploads/2025/12/social-distortion-2026-06-24.jpg
END:VEVENT
BEGIN:VTIMEZONE
TZID:Europe/Zurich
BEGIN:DAYLIGHT
TZOFFSETFROM:+0100
TZOFFSETTO:+0200
DTSTART:20260329T010000
TZNAME:CEST
END:DAYLIGHT
END:VTIMEZONE
END:VCALENDAR
