BEGIN:VCALENDAR
VERSION:2.0
PRODID:-//ARTNOIR//NONSGML Events//EN
CALSCALE:GREGORIAN
X-ORIGINAL-URL:https://artnoir.ch/events/event/
X-WR-CALDESC:ARTNOIR - Events
BEGIN:VEVENT
UID:20260327T0536Z-1774589806.6004-EO-262073-1@10.0.9.48
STATUS:CONFIRMED
DTSTAMP:20260423T230339Z
CREATED:20260321T164920Z
LAST-MODIFIED:20260330T175906Z
DTSTART;TZID=Europe/Zurich:20260531T140000
DTEND;TZID=Europe/Zurich:20260531T230000
SUMMARY: Slam Dunk
DESCRIPTION: Boston Manor / Stand Atlantic / The Rumjacks / Holywatr / Shor
 eline / Desert Lily\nSlam Dunk Switzerland geht in die nächste Runde\nDas ü
 beraus beliebte Slam Dunk Festival ist das grösste\, unabhängige Punk-Rock-
 Happening in Europa. Nachdem es letztes Jahr erstmals eine Festival-Ausgabe
  in der Schweiz gegeben hat\, folgt nun die nächste Sause! Dieses Mal wird 
 ein kleiner\, ... [Read more...]
X-ALT-DESC;FMTTYPE=text/html: <p><a href="https://www.bostonmanorband.com/"
  target="_blank" rel="noopener">Boston Manor</a> / <a href="https://standat
 lantic.com/" target="_blank" rel="noopener">Stand Atlantic</a> / <a href="h
 ttps://therumjacks.com/" target="_blank" rel="noopener">The Rumjacks</a> / 
 <a href="https://www.facebook.com/drinkholywatr/" target="_blank" rel="noop
 ener">Holywatr</a> / <a href="https://shorelineband.com/" target="_blank" r
 el="noopener">Shoreline</a> / <a href="https://desertlily-band.com/" target
 ="_blank" rel="noopener">Desert Lily</a></p><p><strong>Slam Dunk Switzerlan
 d geht in die nächste Runde</strong></p><p>Das überaus beliebte Slam Dunk F
 estival ist das grösste\, unabhängige Punk-Rock-Happening in Europa. Nachde
 m es letztes Jahr erstmals eine Festival-Ausgabe in der Schweiz gegeben hat
 \, folgt nun die nächste Sause! Dieses Mal wird ein kleiner\, exklusiver Zw
 ischenstopp auf dem Weg von Deutschland nach Italien eingelegt.</p><p>Freut
  euch am Sonntag\, 31. Mai 2026 auf <strong>Boston Manor</strong>\, <strong
 >Stand Atlantic</strong>\, <strong>The Rumjacks</strong>\, <strong>Holywatr
 </strong>\, <strong>Shoreline</strong> und <strong>Desert Lily</strong>. Ne
 ben sechs Konzerten erwartet euch im Dynamo Zürich zudem ein abwechslungsre
 iches Rahmenprogramm u.a. mit Food\, Drinks\, Merch\, Signing Sessions – al
 les unter einem Dach\, aber auch direkt an der Limmat zur Erfrischung. Das 
 wird ein grandioser Sunday Funday!</p><p><strong>Boston Manor<br /></strong
 >Die britische Formation <strong>Boston Manor</strong> hat sich über die Ja
 hre von ihren Pop-Punk-Wurzeln emanzipiert und definiert mit einem atmosphä
 rischen Sound die Grenzen des modernen Punk-Rock neu. Zwischen harten Riffs
  und cineastischen Klanglandschaften verarbeitet die Band aus Blackpool die
  sozialen und persönlichen Spannungen unserer Zeit in gewohnt intensiven Hy
 mnen. Ihre kompromisslose Live-Energie und ein volles Headline-Set sind nun
  bald bei Slam Dunk Switzerland angesagt!</p><p><strong>Stand Atlantic<br /
 ></strong>Zu den aufregendsten Stimmen der aktuellen Pop-Punk-Szene gehören
  <strong>Stand Atlantic. </strong>Die australische Band um Frontfrau <em>Bo
 nnie Fraser</em> verbindet rohe Energie mit zeitgemässem Alternative-Sound.
  Mit direkten Texten\, starken Hooks und charismatischer Präsenz sind sie s
 eit ihrem 2022er Album <em>F.E.A.R</em>. auch international auf der Überhol
 spur.</p><p><strong>The Rumjacks<br /></strong>Geschichten über Leben\, Lie
 be und Widerstand: Mit ihrem kompromisslosen Stil beweisen die Australier n
 och immer\, dass die Seele des Punks auch heute noch lebendig ist. <strong>
 The Rumjacks</strong> sind und bleiben eine der aufregendsten Bands in der 
 heutigen Folk-Punk-Szene mit ihrem aufregenden Mix aus irischen Sounds und 
 schnellem Punkrock.</p><p><strong>Holywatr<br /></strong>Mit ihrer Vorliebe
  für verhallte Gitarren\, hypnotische Beats und tiefgreifende Lyrik haben s
 ich <strong>Holywatr</strong> schnell als Geheimtipp für Fans von modernen\
 , cineastischen Alternative Rock und Hardcore Klangwelten etabliert. Die Mu
 sik der Kalifornier wirkt wie eine Momentaufnahme nächtlicher Melancholie –
  roh\, unverbraucht und von einer fesselnden emotionalen Intensität.</p><p>
 <strong>Shoreline<br /></strong>Von den besetzten Häusern und Kellern bis h
 in zu den grossen Bühnen: <strong>Shoreline</strong> haben in den letzten z
 ehn Jahren so ziemlich jeden Veranstaltungsort in Europa bespielt\, der ihn
 en eine Steckdose zur Verfügung stellen konnte. Inzwischen teilte sich die 
 Band die Bühne mit Szene-Grössen wie <em>Four Year Strong\, Knuckle Puck</e
 m> und <em>Silverstein</em>.</p><p><strong>Desert Lily<br /></strong>Seit 2
 022 sprengen die vier Zentralschweizer von <strong>Desert Lily</strong> Gen
 regrenzen mit ihrem Mix aus emotionalem Rock\, melancholischen Melodien und
  dynamischen Screams. Ihre facettenreichen Songs und ehrlichen Texte machen
  die Band zu einem intensiven Live-Erlebnis.</p><p><span style="color: #c86
 079\;">Ein <strong>ARTNOIR</strong> Partner-Event</span></p>
CATEGORIES:Partner-Event,Punk,Rock
LOCATION:Dynamo
GEO:47.383312;8.539341
ORGANIZER;CN="JHG Shark":MAILTO:webmaster@jhgshark.ch
URL;VALUE=URI:https://artnoir.ch/events/event/slam-dunk-2026-05-31/
ATTACH;FMTTYPE=image/jpeg:https://artnoir.ch/wp-content/uploads/2026/03/2026-05-31-Slam-Dunk-_1080x1350.jpg
END:VEVENT
BEGIN:VTIMEZONE
TZID:Europe/Zurich
BEGIN:DAYLIGHT
TZOFFSETFROM:+0100
TZOFFSETTO:+0200
DTSTART:20260329T010000
TZNAME:CEST
END:DAYLIGHT
END:VTIMEZONE
END:VCALENDAR
