BEGIN:VCALENDAR
VERSION:2.0
PRODID:-//ARTNOIR//NONSGML Events//EN
CALSCALE:GREGORIAN
X-ORIGINAL-URL:https://artnoir.ch/events/event/
X-WR-CALDESC:ARTNOIR - Events
BEGIN:VEVENT
UID:20260415T1452Z-1776264761.316-EO-262908-1@10.0.9.48
STATUS:CONFIRMED
DTSTAMP:20260423T214818Z
CREATED:20260411T141543Z
LAST-MODIFIED:20260411T141718Z
DTSTART;TZID=Europe/Zurich:20260511T193000
DTEND;TZID=Europe/Zurich:20260511T233000
SUMMARY: SALÒ
DESCRIPTION: SALÒ\nSALÒ – HARDCORE IST TOT TOUR 2026\nPop ist tot. Punk w
 ar nie zu fassen. Hardcore? Auch erledigt.\nWas bleibt\, ist SALÒ – der An
 archo-Pop-Punk-Poet aus Wien\, der mit emotionalem Punch und scharfer Gesel
 lschaftskritik die Clubbühnen zum Beben bringt. Nach seinem umjubelten Alb
 um ‚Problemzone Mensch‘ (Dezember 2024) kommt jetzt die nächste Eskalation
 sstufe:\nHARDCORE IST TOT TOUR 2026 – eine Liturgie für verlorene Seelen m
 it Glitzer unterm Auge und schwächelndem WLAN. ... [Read more...]
X-ALT-DESC;FMTTYPE=text/html: <p><a href="https://www.instagram.com/radikal
 soft/" rel="noopener" target="_blank">SALÒ</a></p><p><strong>SALÒ – HARDC
 ORE IST TOT TOUR 2026</strong></p><p>Pop ist tot. Punk war nie zu fassen. H
 ardcore? Auch erledigt.</p><p>Was bleibt\, ist SALÒ – der Anarcho-Pop-Punk
 -Poet aus Wien\, der mit emotionalem Punch und scharfer Gesellschaftskritik
  die Clubbühnen zum Beben bringt. Nach seinem umjubelten Album ‚Problemzon
 e Mensch‘ (Dezember 2024) kommt jetzt die nächste Eskalationsstufe:</p><p>
 HARDCORE IST TOT TOUR 2026 – eine Liturgie für verlorene Seelen mit Glitze
 r unterm Auge und schwächelndem WLAN. Neue Hymnen für kaputte Herzen\, ne
 ue Looks für kaputte Körper. Zwischen Punk\, Electroclash und Kapitalismu
 s- Therapie singt SALÒ von Liebe\, Wut und Überforderung im Jetzt. Mit su
 ̈ffisantem Spott\, bedingungsloser Selbstironie und radikaler Verletzlichke
 it macht SALÒ Musik für eine überreizte Generation – laut\, widerspensti
 g\, tanzbar - und jede seiner Zeilen trifft mitten ins Herz.</p><p>Auf die 
 HARDCORE IST TOT TOUR 2026 kommt SALÒ mit neuem Album (VÖ: April 26) und 
 einer exzessiven Liveshow\, wütender\, lauter und intimer denn je. Die Vor
 ab-Single „JELLO BIAFRA“\, benannt nach dem legendären Dead-Kennedys- Fron
 tman\, zeigt unmissverständlich wo die Reise hingeht: „Miete wird nicht te
 urer – Miete wird teurer gemacht“ – ein Satz wie eine Guillotine\, bei der 
 niemand mehr den Kopf wegziehen kann. „JELLO BIAFRA“ ist nicht bloß ein Son
 g. Es ist ein akustisches Pamphlet\, ein manifestgewordener Schlag in die s
 terilen Flure spätkapitalistischer Mietverträge.</p><p>SALÒ ist Pop mit 
 Haltung\, Glamour mit Dreck\, Punk mit Synthesizer. Wer ihn live erlebt\, w
 eiß: das ist keine Show – das ist Eskalation mit Tiefgang. SALÒ tanzt auf 
 den Trümmern von Männlichkeit\, Moral und Mainstream. Er macht Krach\, de
 r bleibt.</p>
CATEGORIES:Punk
LOCATION:Werk 21
GEO:47.383312;8.539341
ORGANIZER;CN="JHG Shark":MAILTO:webmaster@jhgshark.ch
URL;VALUE=URI:https://artnoir.ch/events/event/salo-2026-05-11/
ATTACH;FMTTYPE=image/jpeg:https://artnoir.ch/wp-content/uploads/2026/04/salo-2026-05-11.jpg
END:VEVENT
BEGIN:VTIMEZONE
TZID:Europe/Zurich
BEGIN:DAYLIGHT
TZOFFSETFROM:+0100
TZOFFSETTO:+0200
DTSTART:20260329T010000
TZNAME:CEST
END:DAYLIGHT
END:VTIMEZONE
END:VCALENDAR
