BEGIN:VCALENDAR
VERSION:2.0
PRODID:-//ARTNOIR//NONSGML Events//EN
CALSCALE:GREGORIAN
X-ORIGINAL-URL:https://artnoir.ch/events/event/
X-WR-CALDESC:ARTNOIR - Events
BEGIN:VEVENT
UID:20260217T1814Z-1771352081.5866-EO-260526-1@10.0.9.48
STATUS:CONFIRMED
DTSTAMP:20260424T014613Z
CREATED:20260216T195006Z
LAST-MODIFIED:20260216T195307Z
DTSTART;VALUE=DATE:20260814
DTEND;VALUE=DATE:20260817
SUMMARY: Rock The Lakes
DESCRIPTION: Bands\nHeadliner: In Flames / Arch Enemy / Powerwolf / Soulfly
  / Clawfinger / Imminence \nSichert euch jetzt eure Festivalpässe und feier
 t vom 14. – 16. August 2026 die fünfte Ausgabe des Festivals direkt beim Ne
 uenburgersee. Während die herrliche Umgebung zum Verweilen auf dem anliegen
 den Campingplatz einlädt\, kommst Du auf dem Festivalgelände in Genuss eine
 r Doppelbühne mit einem vielseitigen Programm. ... [Read more...]
X-ALT-DESC;FMTTYPE=text/html: <p><a href="https://www.rockthelakes.ch/de/ba
 nds2026/" rel="noopener" target="_blank">Bands</a></p><p>Headliner: <a href
 ="https://www.inflames.com/" rel="noopener" target="_blank">In Flames</a> /
  <a href="https://www.archenemy.net/" rel="noopener" target="_blank">Arch E
 nemy</a> / <a href="https://www.powerwolf.net/" rel="noopener" target="_bla
 nk">Powerwolf</a> / <a href="https://www.soulfly.com/" rel="noopener" targe
 t="_blank">Soulfly</a> / <a href="https://www.clawfinger.net/" rel="noopene
 r" target="_blank">Clawfinger</a> / <a href="https://imminenceswe.com/" rel
 ="noopener" target="_blank">Imminence</a> </p><p>Sichert euch jetzt eure Fe
 stivalpässe und feiert vom 14. – 16. August 2026 die fünfte Ausgabe des Fes
 tivals direkt beim Neuenburgersee. Während die herrliche Umgebung zum Verwe
 ilen auf dem anliegenden Campingplatz einlädt\, kommst Du auf dem Festivalg
 elände in Genuss einer Doppelbühne mit einem vielseitigen Programm.</p><p>S
 ei dabei und feiere mit uns in familiärer Atmosphäre!</p>
CATEGORIES:Metal
LOCATION:Festivalgelände
GEO:46.947485;7.024413
ORGANIZER;CN="JHG Shark":MAILTO:webmaster@jhgshark.ch
URL;VALUE=URI:https://artnoir.ch/events/event/rock-the-lakes-2026/
ATTACH;FMTTYPE=image/jpeg:https://artnoir.ch/wp-content/uploads/2026/02/rock-the-lakes-2026.jpg
END:VEVENT
BEGIN:VTIMEZONE
TZID:Europe/Zurich
BEGIN:DAYLIGHT
TZOFFSETFROM:+0100
TZOFFSETTO:+0200
DTSTART:20260329T010000
TZNAME:CEST
END:DAYLIGHT
END:VTIMEZONE
END:VCALENDAR
